Workbook

Sheet RECYCLINGQUOTE-SYNDIKAT
A1: Syndikat | B1: GESAMTMENGE | C1: RECYCLINGMENGE | D1: RECYCLINGQUOTE
A2: SIDOR | B2: 1.9904068e+08 | C2: 1.0656467e+08 | D2: 53.539139
A3: SIGRE | B3: 38084208 | C3: 22610396 | D3: 59.36948
A4: SIDEC | B4: 65644812 | C4: 42799708 | D4: 65.198919
A6: GDL | B6: =SUM(B2:B4) -> 3.027697e+08 | C6: =SUM(C2:C4) -> 1.7197477e+08 | D6: =C6/B6*100 -> 56.800522

Sheet Syndikate 2023
A1: CED2 | AP1: 160215
A2: CED2 | F2: 200301 | M2: 150104 | AJ2: 200113 | AL2: 150202 | AM2: 170604 | AP2: 160504
A3: CED2 | B3: 200301 | C3: 200307 | D3: 200301 | E3: 200301 | F3: 200302 | G3: 170107 | H3: 200202 | I3: 150101 | J3: 200101 | K3: 150107 | L3: 200102 | M3: 200140 | N3: 200140 | O3: 150103 | P3: 200137 | Q3: 150102 | R3: 200139 | S3: 150106 | T3: 150105 | U3: 200111 | V3: 160103 | W3: 200139 | X3: 160504 | Y3: 150110 | Z3: 200119 | AA3: 200132 | AB3: 200133 | AC3: 170605 | AD3: 200139 | AE3: 200115 | AF3: 200125 | AG3: 160504 | AH3: 180101 | AI3: 200117 | AJ3: 200128 | AK3: 200126 | AL3: 160107 | AM3: 170603 | AN3: - | AO3: 200114 | AP3: 200121 | AQ3: 200123 | AR3: 200135 | AS3: 200135 | AT3: 200108 | AU3: 200201
B4: 1 | C4: 2 | D4: 3 | E4: 5 | F4: 6 | G4: 7 | H4: 8 | I4: 9 | J4: 10 | K4: 11 | L4: 12 | M4: 13 | N4: 14 | O4: 15 | P4: 16 | Q4: 17 | R4: 18 | S4: 19 | T4: 20 | U4: 21 | V4: 22 | W4: 23 | X4: 25 | Y4: 26 | Z4: 27 | AA4: 28 | AB4: 29 | AC4: 30 | AD4: 31 | AE4: 32 | AF4: 33 | AG4: 34 | AH4: 35 | AI4: 36 | AJ4: 37 | AK4: 38 | AL4: 39 | AM4: 40 | AN4: 41 | AO4: 42 | AP4: 43 | AQ4: 44 | AR4: 45 | AS4: 46 | AT4: 47 | AU4: 48
A5: Syndikat | B5: Hausabfall | C5: Sperrmüll | D5: Hausmüll-ähnliche Gewerbe- abfälle | E5: Friedhofs- abfälle | F5: Sonstige Siedlungs- abfälle | G5: Bauschutt | H5: Boden-aushub | I5: Verpackungen aus Papier/ Pappe | J5: Misch-fraktion Papier/ Pappe | K5: Verpackungen aus Glas | L5: Sonstige Glasabfälle | M5: Verpackungen aus Metall | N5: Misch-fraktion Metall | O5: Verpackungen aus Holz | P5: Misch-fraktion Holz | Q5: Ver-packungen aus Kunststoff | R5: Misch-fraktion Kunststoff | S5: PMG | T5: (Getränke-) Verbundver-packungen | U5: (Alt-) Bekleidung, Textilien | V5: Reifen (Gummi-abfälle) | W5: Gummi | X5: Proble-matische Kunststoff- und Gummi-abfälle | Y5: Ver-packungs-materialien mit schädlichen Rest-inhalten | Z5: Abfälle von Pflanzen-schutz- und Schädlings-bekämpfungs-mitteln | AA5: Abfälle von pharma-zeutischen Erzeugnissen | AB5: Akku-mulatoren, Batterien | AC5: Asbest-zement, Eternit | AD5: Datenträger-systeme (Video-, Audiobänder, Disketten) | AE5: Deter-gentien und Waschmittel-abfälle | AF5: Fett- und Ölabfälle (pflanzlichen oder tierischen Ursprungs) | AG5: Gefaßte Gase | AH5: Kranken-haus-spezifische Abfälle | AI5: Laborabfälle und Chemikalien-reste | AJ5: Lösemittel, Farben, Lacke, Klebestoffe, Kitte, Harze | AK5: Mineralöle und synthetische Öle | AL5: Öl- oder fettkonta-minierte Abfälle | AM5: Proble-matischer mineralischer Abfall | AN5: Salze | AO5: Säuren, Laugen, Konzentrate | AP5: Sonstige Problem-abfälle | AQ5: Kühlgeräte, Frigos | AR5: Bildschirme, Fernseher | AS5: Sonstiger Elektro-/ Elektronik-schrott | AT5: Bioabfall | AU5: Grünschnitt | AV5: Gesamt- ergebnis
B6: [kg] | C6: [kg] | D6: [kg] | E6: [kg] | F6: [kg] | G6: [kg] | H6: [kg] | I6: [kg] | J6: [kg] | K6: [kg] | L6: [kg] | M6: [kg] | N6: [kg] | O6: [kg] | P6: [kg] | Q6: [kg] | R6: [kg] | S6: [kg] | T6: [kg] | U6: [kg] | V6: [kg] | W6: [kg] | X6: [kg] | Y6: [kg] | Z6: [kg] | AA6: [kg] | AB6: [kg] | AC6: [kg] | AD6: [kg] | AE6: [kg] | AF6: [kg] | AG6: [kg] | AH6: [kg] | AI6: [kg] | AJ6: [kg] | AK6: [kg] | AL6: [kg] | AM6: [kg] | AN6: [kg] | AO6: [kg] | AP6: [kg] | AQ6: [kg] | AR6: [kg] | AS6: [kg] | AT6: [kg] | AU6: [kg] | AV6: [kg]
A7: SIDOR | B7: 73233800 | C7: 5667413 | D7: 28736040 | E7: 767260 | F7: 2815400 | G7: 12635753 | H7: 270340 | I7: 2759870 | J7: 17049075 | K7: 14265547 | L7: 391635 | M7: 16947.96 | N7: 2264016 | O7: 147824 | P7: 8494239 | Q7: 603022 | R7: 1272403 | S7: 8442348 | T7: 4700 | U7: 2879512 | V7: 372622 | W7: 15900 | X7: 6245.17 | Y7: 26914.58 | Z7: 8144.45 | AA7: 134693.28 | AB7: 1282811.7 | AC7: 117069.4 | AD7: 80287.23 | AE7: 37488.7 | AF7: 212950.31 | AG7: 86504.43 | AH7: 21299.08 | AI7: 7100.6 | AJ7: 636355.85 | AK7: 129746.48 | AL7: 13880.3 | AM7: 124789.88 | AN7: 12579.95 | AO7: 10349.45 | AP7: 59290 | AQ7: 665842 | AR7: 315819.4 | AS7: 2942618 | AT7: 29516040 | AU7: 19433735 | AV7: 2.3898822e+08
A8: SIGRE | B8: 11116010 | C8: 1849260 | D8: 6344710 | E8: 0 | F8: 710110 | G8: 6033680 | H8: 480100 | I8: 327950 | J8: 592293 | K8: 2951745 | L8: 97455 | M8: 1733 | N8: 491920 | O8: 31160 | P8: 2487461.5 | Q8: 77698 | R8: 154138 | S8: 1612295 | T8: 541 | U8: 440613 | V8: 183590 | W8: 1670 | X8: 1776.86 | Y8: 4007.7 | Z8: 3043.2 | AA8: 27390.17 | AB8: 231694.43 | AC8: 30197 | AD8: 27219.61 | AE8: 8539.4 | AF8: 56911.77 | AG8: 19871.11 | AH8: 1372.5 | AI8: 1775.63 | AJ8: 156738.09 | AK8: 41153.2 | AL8: 4439.8 | AM8: 45613.52 | AN8: 4423.2 | AO8: 3579.2 | AP8: 13891.61 | AQ8: 199343.35 | AR8: 47451.25 | AS8: 566926.56 | AT8: 2503550 | AU8: 11383356 | AV8: 51370398
A9: SIDEC | B9: 18265360 | C9: 3570615 | D9: 8085780 | E9: 0 | F9: 1015990 | G9: 3028070 | H9: 0 | I9: 930 | J9: 6267850 | K9: 4223500 | L9: 168820 | M9: 961 | N9: 758487 | O9: 0 | P9: 1833921 | Q9: 149941 | R9: 299902 | S9: 3744596 | T9: 1172 | U9: 915120 | V9: 140620 | W9: 0 | X9: 2632.13 | Y9: 6744.17 | Z9: 3120.95 | AA9: 45569 | AB9: 429612.88 | AC9: 28192.9 | AD9: 26513.76 | AE9: 10002.55 | AF9: 121393.18 | AG9: 29968.81 | AH9: 2243.2 | AI9: 1965.01 | AJ9: 210242.54 | AK9: 98363.6 | AL9: 4157.2 | AM9: 1449.5 | AN9: 4047.34 | AO9: 3288.79 | AP9: 14079.1 | AQ9: 266281.8 | AR9: 115958.47 | AS9: 1081546.1 | AT9: 7064720 | AU9: 15023315 | AV9: 77067043
A10: GDL | B10: 102615170 | C10: 11087288 | D10: 43166530 | E10: 767260 | F10: 4541500 | G10: 21697503 | H10: 750440 | I10: 3088750 | J10: 23909218 | K10: 21440792 | L10: 657910 | M10: 19641.96 | N10: 3514423 | O10: 178984 | P10: 12815622 | Q10: 830661 | R10: 1726443 | S10: 13799239 | T10: 6413 | U10: 4235245 | V10: 696832 | W10: 17570 | X10: 10654.16 | Y10: 37666.45 | Z10: 14308.6 | AA10: 207652.45 | AB10: 1944119 | AC10: 175459.3 | AD10: 134020.6 | AE10: 56030.65 | AF10: 391255.26 | AG10: 136344.35 | AH10: 24914.78 | AI10: 10841.24 | AJ10: 1003336.5 | AK10: 269263.28 | AL10: 22477.3 | AM10: 171852.9 | AN10: 21050.49 | AO10: 17217.44 | AP10: 87260.71 | AQ10: 1131467.1 | AR10: 479229.12 | AS10: 4591090.6 | AT10: 39084310 | AU10: 45840406 | AV10: 3.6742566e+08
A14: Pro-Kopf-Aufkommen
A16: CED2 | AP16: 160215
A17: CED2 | F17: 200301 | M17: 150104 | AJ17: 200113 | AL17: 150202 | AM17: 170604 | AP17: 160504
A18: CED2 | B18: 200301 | C18: 200307 | D18: 200301 | E18: 200301 | F18: 200302 | G18: 170107 | H18: 200202 | I18: 150101 | J18: 200101 | K18: 150107 | L18: 200102 | M18: 200140 | N18: 200140 | O18: 150103 | P18: 200137 | Q18: 150102 | R18: 200139 | S18: 150106 | T18: 150105 | U18: 200111 | V18: 160103 | W18: 200139 | X18: 160504 | Y18: 150110 | Z18: 200119 | AA18: 200132 | AB18: 200133 | AC18: 170605 | AD18: 200139 | AE18: 200115 | AF18: 200125 | AG18: 160504 | AH18: 180101 | AI18: 200117 | AJ18: 200128 | AK18: 200126 | AL18: 160107 | AM18: 170603 | AN18: - | AO18: 200114 | AP18: 200121 | AQ18: 200123 | AR18: 200135 | AS18: 200135 | AT18: 200108 | AU18: 200201
B19: 1 | C19: 2 | D19: 3 | E19: 5 | F19: 6 | G19: 7 | H19: 8 | I19: 9 | J19: 10 | K19: 11 | L19: 12 | M19: 13 | N19: 14 | O19: 15 | P19: 16 | Q19: 17 | R19: 18 | S19: 19 | T19: 20 | U19: 21 | V19: 22 | W19: 23 | X19: 25 | Y19: 26 | Z19: 27 | AA19: 28 | AB19: 29 | AC19: 30 | AD19: 31 | AE19: 32 | AF19: 33 | AG19: 34 | AH19: 35 | AI19: 36 | AJ19: 37 | AK19: 38 | AL19: 39 | AM19: 40 | AN19: 41 | AO19: 42 | AP19: 43 | AQ19: 44 | AR19: 45 | AS19: 46 | AT19: 47 | AU19: 48
A20: Syndikat | B20: Hausabfall | C20: Sperrmüll | D20: Hausmüll-ähnliche Gewerbe-abfälle | E20: Friedhofs-abfälle | F20: Sonstige Siedlungs-abfälle | G20: Bauschutt | H20: Boden-aushub | I20: Verpackungen aus Papier/Pappe | J20: Misch-fraktion Papier/ Pappe | K20: Verpackungen aus Glas | L20: Sonstige Glasabfälle | M20: Verpackungen aus Metall | N20: Misch-fraktion Metall | O20: Verpackungen aus Holz | P20: Misch-fraktion Holz | Q20: Ver-packungen aus Kunststoff | R20: Misch-fraktion Kunststoff | S20: PMG | T20: (Getränke-) Verbundver-packungen | U20: (Alt-) Bekleidung, Textilien | V20: Reifen (Gummi-abfälle) | W20: Gummi | X20: Proble-matische Kunststoff- und Gummi-abfälle | Y20: Ver-packungs-materialien mit schädlichen Rest-inhalten | Z20: Abfälle von Pflanzen-schutz- und Schädlings-bekämpfungs-mitteln | AA20: Abfälle von pharma-zeutischen Erzeugnissen | AB20: Akku-mulatoren, Batterien | AC20: Asbest-zement, Eternit | AD20: Datenträger-systeme (Video-, Audiobänder, Disketten) | AE20: Deter-gentien und Waschmittel-abfälle | AF20: Fett- und Ölabfälle (pflanzlichen oder tierischen Ursprungs) | AG20: Gefaßte Gase | AH20: Kranken-haus-spezifische Abfälle | AI20: Laborabfälle und Chemikalien-reste | AJ20: Lösemittel, Farben, Lacke, Klebestoffe, Kitte, Harze | AK20: Mineralöle und synthetische Öle | AL20: Öl- oder fettkonta-minierte Abfälle | AM20: Problema-tischer mineralischer Abfall | AN20: Salze | AO20: Säuren, Laugen, Konzentrate | AP20: Sonstige Problem-abfälle | AQ20: Kühlgeräte, Frigos | AR20: Bildschirme, Fernseher | AS20: Sonstiger Elektro-/ Elektronik-schrott | AT20: Bioabfall | AU20: Grünschnitt | AV20: Gesamt-ergebnis
B21: [kg/E.a] | C21: [kg/E.a] | D21: [kg/E.a] | E21: [kg/E.a] | F21: [kg/E.a] | G21: [kg/E.a] | H21: [kg/E.a] | I21: [kg/E.a] | J21: [kg/E.a] | K21: [kg/E.a] | L21: [kg/E.a] | M21: [kg/E.a] | N21: [kg/E.a] | O21: [kg/E.a] | P21: [kg/E.a] | Q21: [kg/E.a] | R21: [kg/E.a] | S21: [kg/E.a] | T21: [kg/E.a] | U21: [kg/E.a] | V21: [kg/E.a] | W21: [kg/E.a] | X21: [kg/E.a] | Y21: [kg/E.a] | Z21: [kg/E.a] | AA21: [kg/E.a] | AB21: [kg/E.a] | AC21: [kg/E.a] | AD21: [kg/E.a] | AE21: [kg/E.a] | AF21: [kg/E.a] | AG21: [kg/E.a] | AH21: [kg/E.a] | AI21: [kg/E.a] | AJ21: [kg/E.a] | AK21: [kg/E.a] | AL21: [kg/E.a] | AM21: [kg/E.a] | AN21: [kg/E.a] | AO21: [kg/E.a] | AP21: [kg/E.a] | AQ21: [kg/E.a] | AR21: [kg/E.a] | AS21: [kg/E.a] | AT21: [kg/E.a] | AU21: [kg/E.a] | AV21: [kg/E.a]
A22: SIDOR | B22: 163.93449 | C22: 12.686553 | D22: 64.325873 | E22: 1.7175181 | F22: 6.3022972 | G22: 28.285242 | H22: 0.60515842 | I22: 6.1779928 | J22: 38.164501 | K22: 31.93355 | L22: 0.87667832 | M22: 0.037938154 | N22: 5.0680193 | O22: 0.3309053 | P22: 19.014427 | Q22: 1.3498699 | R22: 2.8482851 | S22: 18.898269 | T22: 0.01052099 | U22: 6.4458124 | V22: 0.83411756 | W22: 0.035592287 | X22: 0.013979867 | Y22: 0.060248519 | Z22: 0.018231421 | AA22: 0.30151207 | AB22: 2.871585 | AC22: 0.26206086 | AD22: 0.17972366 | AE22: 0.083918778 | AF22: 0.4766911 | AG22: 0.19364091 | AH22: 0.047678174 | AI22: 0.015894754 | AJ22: 1.4244881 | AK22: 0.29043861 | AL22: 0.031071171 | AM22: 0.27934322 | AN22: 0.028160326 | AO22: 0.023167333 | AP22: 0.13272118 | AQ22: 1.4904931 | AR22: 0.70696445 | AS22: 6.5870757 | AT22: 66.07191 | AU22: 43.502583 | AV22: 534.97719
A23: SIGRE | B23: 150.34435 | C23: 25.011293 | D23: 85.812381 | E23: 0 | F23: 9.6042577 | G23: 81.605691 | H23: 6.493366 | I23: 4.435533 | J23: 8.0107794 | K23: 39.922434 | L23: 1.3180816 | M23: 0.023438874 | N23: 6.6532318 | O23: 0.42143987 | P23: 33.642987 | Q23: 1.0508676 | R23: 2.0847208 | S23: 21.806335 | T23: 0.0073170402 | U23: 5.9593032 | V23: 2.4830599 | W23: 0.022586797 | X23: 0.024032081 | Y23: 0.054204255 | Z23: 0.041159365 | AA23: 0.37045282 | AB23: 3.1336737 | AC23: 0.40841527 | AD23: 0.36814599 | AE23: 0.11549562 | AF23: 0.76973329 | AG23: 0.26875732 | AH23: 0.018563101 | AI23: 0.024015446 | AJ23: 2.1198871 | AK23: 0.55659818 | AL23: 0.06004842 | AM23: 0.61692414 | AN23: 0.059823904 | AO23: 0.04840878 | AP23: 0.18788442 | AQ23: 2.6961244 | AR23: 0.64177949 | AS23: 7.6676976 | AT23: 33.860584 | AU23: 153.96021 | AV23: 694.78607
A24: SIDEC | B24: 130.33094 | C24: 25.477823 | D24: 57.695403 | E24: 0 | F24: 7.2495112 | G24: 21.606539 | H24: 0 | I24: 0.0066359368 | J24: 44.723717 | K24: 30.136429 | L24: 1.2046009 | M24: 0.0068571347 | N24: 5.4121202 | O24: 0 | P24: 13.085789 | Q24: 1.0698914 | R24: 2.1399255 | S24: 26.71925 | T24: 0.0083627075 | U24: 6.5297618 | V24: 1.0033822 | W24: 0 | X24: 0.018781342 | Y24: 0.048122458 | Z24: 0.022269276 | AA24: 0.32515377 | AB24: 3.0654666 | AC24: 0.20116807 | AD24: 0.18918671 | AE24: 0.071372355 | AF24: 0.86619083 | AG24: 0.21383992 | AH24: 0.016006165 | AI24: 0.014021164 | AJ24: 1.500168 | AK24: 0.7018652 | AL24: 0.029663351 | AM24: 0.010342785 | AN24: 0.028879454 | AO24: 0.023466885 | AP24: 0.10046023 | AQ24: 1.9000314 | AR24: 0.82741191 | AS24: 7.7172811 | AT24: 50.409716 | AU24: 107.1976 | AV24: 549.90541
A25: GDL | B25: 155.28719 | C25: 16.778355 | D25: 65.323762 | E25: 1.1610919 | F25: 6.8726364 | G25: 32.834757 | H25: 1.1356383 | I25: 4.6741948 | J25: 36.181738 | K25: 32.446277 | L25: 0.99561295 | M25: 0.029724111 | N25: 5.3183643 | O25: 0.27085588 | P25: 19.393836 | Q25: 1.2570365 | R25: 2.6126203 | S25: 20.882341 | T25: 0.009704771 | U25: 6.4091818 | V25: 1.0545135 | W25: 0.026588621 | X25: 0.016122904 | Y25: 0.05700051 | Z25: 0.021653155 | AA25: 0.31423974 | AB25: 2.9420286 | AC25: 0.26552196 | AD25: 0.20281292 | AE25: 0.084790991 | AF25: 0.59208525 | AG25: 0.20632944 | AH25: 0.037703451 | AI25: 0.016406011 | AJ25: 1.5183457 | AK25: 0.4074752 | AL25: 0.034014821 | AM25: 0.26006441 | AN25: 0.031855635 | AO25: 0.026055093 | AP25: 0.13205133 | AQ25: 1.7122454 | AR25: 0.72521579 | AS25: 6.9476817 | AT25: 59.146153 | AU25: 69.37013 | AV25: 556.024
A28: SIDOR
A29: SIGRE
A30: SIDEC
A31: GDL

Sheet Zusammenfassungen 2023
A1: CED2 | L1: 200140 | M1: 200140
A2: CED2 | B2: 200301 | C2: 200301 | D2: 170107 | E2: 170107 | F2: 200301 | G2: 200301 | H2: 150101 | I2: 150101 | J2: 150107 | K2: 150107 | L2: 150104 | M2: 150104 | N2: 150103 | O2: 150103 | P2: 150102 | Q2: 150102 | R2: 160103 | S2: 160103 | X2: 200108 | Y2: 200108
A3: CED2 | B3: 200307 | C3: 200307 | D3: 200202 | E3: 200202 | F3: 200302 | G3: 200302 | H3: 200101 | I3: 200101 | J3: 200102 | K3: 200102 | L3: 200140 | M3: 200140 | N3: 200137 | O3: 200137 | P3: 200139 | Q3: 200139 | R3: 200139 | S3: 200139 | T3: *) | U3: *) | V3: 200135 | W3: 200135 | X3: 200201 | Y3: 200201
A4: Syndikat | B4: Haus- und Geschäftsmüll | D4: Bauschutt und Erdaushub | F4: Sonstige Siedlungsabfälle | H4: Papier, Karton | J4: Glas | L4: Metalle | N4: Holz | P4: Kunststoffe | R4: Reifen/Gummi | T4: Problemstoffe | V4: Elektro-/Elektronikschrott | X4: Organische Abfälle
B5: [kg] | C5: [kg/E.a] | D5: [kg] | E5: [kg/E.a] | F5: [kg] | G5: [kg/E.a] | H5: [kg] | I5: [kg/E.a] | J5: [kg] | K5: [kg/E.a] | L5: [kg] | M5: [kg/E.a] | N5: [kg] | O5: [kg/E.a] | P5: [kg] | Q5: [kg/E.a] | R5: [kg] | S5: [kg/E.a] | T5: [kg] | U5: [kg/E.a] | V5: [kg] | W5: [kg/E.a] | X5: [kg] | Y5: [kg/E.a]
A6: SIDOR | B6: ='Syndikate 2023'!B7+'Syndikate 2023'!C7 -> 78901213 | C6: ='Syndikate 2023'!B22+'Syndikate 2023'!C22 -> 176.62105 | D6: ='Syndikate 2023'!G7+'Syndikate 2023'!H7 -> 12906093 | E6: ='Syndikate 2023'!G22+'Syndikate 2023'!H22 -> 28.8904 | F6: ='Syndikate 2023'!E7+'Syndikate 2023'!F7 -> 3582660 | G6: ='Syndikate 2023'!E22+'Syndikate 2023'!F22 -> 8.0198153 | H6: ='Syndikate 2023'!I7+'Syndikate 2023'!J7 -> 19808945 | I6: ='Syndikate 2023'!I22+'Syndikate 2023'!J22 -> 44.342494 | J6: ='Syndikate 2023'!K7+'Syndikate 2023'!L7 -> 14657182 | K6: ='Syndikate 2023'!K22+'Syndikate 2023'!L22 -> 32.810228 | L6: ='Syndikate 2023'!M7+'Syndikate 2023'!N7 -> 2280964 | M6: ='Syndikate 2023'!M22+'Syndikate 2023'!N22 -> 5.1059575 | N6: ='Syndikate 2023'!O7+'Syndikate 2023'!P7 -> 8642063 | O6: ='Syndikate 2023'!O22+'Syndikate 2023'!P22 -> 19.345332 | P6: ='Syndikate 2023'!Q7+'Syndikate 2023'!R7 -> 1875425 | Q6: ='Syndikate 2023'!Q22+'Syndikate 2023'!R22 -> 4.198155 | R6: ='Syndikate 2023'!V7+'Syndikate 2023'!W7 -> 388522 | S6: ='Syndikate 2023'!V22+'Syndikate 2023'!W22 -> 0.86970984 | T6: =SUM('Syndikate 2023'!X7:AP7) -> 3008500.8 | U6: =SUM('Syndikate 2023'!X22:AP22) -> 6.734555 | V6: ='Syndikate 2023'!AR7+'Syndikate 2023'!AS7 -> 3258437.4 | W6: ='Syndikate 2023'!AR22+'Syndikate 2023'!AS22 -> 7.2940401 | X6: ='Syndikate 2023'!AT7+'Syndikate 2023'!AU7 -> 48949775 | Y6: ='Syndikate 2023'!AT22+'Syndikate 2023'!AU22 -> 109.57449
A7: SIGRE | B7: ='Syndikate 2023'!B8+'Syndikate 2023'!C8 -> 12965270 | C7: ='Syndikate 2023'!B23+'Syndikate 2023'!C23 -> 175.35564 | D7: ='Syndikate 2023'!G8+'Syndikate 2023'!H8 -> 6513780 | E7: ='Syndikate 2023'!G23+'Syndikate 2023'!H23 -> 88.099057 | F7: ='Syndikate 2023'!E8+'Syndikate 2023'!F8 -> 710110 | G7: ='Syndikate 2023'!E23+'Syndikate 2023'!F23 -> 9.6042577 | H7: ='Syndikate 2023'!I8+'Syndikate 2023'!J8 -> 920243 | I7: ='Syndikate 2023'!I23+'Syndikate 2023'!J23 -> 12.446312 | J7: ='Syndikate 2023'!K8+'Syndikate 2023'!L8 -> 3049200 | K7: ='Syndikate 2023'!K23+'Syndikate 2023'!L23 -> 41.240516 | L7: ='Syndikate 2023'!M8+'Syndikate 2023'!N8 -> 493653 | M7: ='Syndikate 2023'!M23+'Syndikate 2023'!N23 -> 6.6766707 | N7: ='Syndikate 2023'!O8+'Syndikate 2023'!P8 -> 2518621.5 | O7: ='Syndikate 2023'!O23+'Syndikate 2023'!P23 -> 34.064426 | P7: ='Syndikate 2023'!Q8+'Syndikate 2023'!R8 -> 231836 | Q7: ='Syndikate 2023'!Q23+'Syndikate 2023'!R23 -> 3.1355884 | R7: ='Syndikate 2023'!V8+'Syndikate 2023'!W8 -> 185260 | S7: ='Syndikate 2023'!V23+'Syndikate 2023'!W23 -> 2.5056467 | T7: =SUM('Syndikate 2023'!X8:AP8) -> 683638 | U7: =SUM('Syndikate 2023'!X23:AP23) -> 9.2462231 | V7: ='Syndikate 2023'!AR8+'Syndikate 2023'!AS8 -> 614377.81 | W7: ='Syndikate 2023'!AR23+'Syndikate 2023'!AS23 -> 8.3094771 | X7: ='Syndikate 2023'!AT8+'Syndikate 2023'!AU8 -> 13886906 | Y7: ='Syndikate 2023'!AT23+'Syndikate 2023'!AU23 -> 187.82079
A8: SIDEC | B8: ='Syndikate 2023'!B9+'Syndikate 2023'!C9 -> 21835975 | C8: ='Syndikate 2023'!B24+'Syndikate 2023'!C24 -> 155.80876 | D8: ='Syndikate 2023'!G9+'Syndikate 2023'!H9 -> 3028070 | E8: ='Syndikate 2023'!G24+'Syndikate 2023'!H24 -> 21.606539 | F8: ='Syndikate 2023'!E9+'Syndikate 2023'!F9 -> 1015990 | G8: ='Syndikate 2023'!E24+'Syndikate 2023'!F24 -> 7.2495112 | H8: ='Syndikate 2023'!I9+'Syndikate 2023'!J9 -> 6268780 | I8: ='Syndikate 2023'!I24+'Syndikate 2023'!J24 -> 44.730353 | J8: ='Syndikate 2023'!K9+'Syndikate 2023'!L9 -> 4392320 | K8: ='Syndikate 2023'!K24+'Syndikate 2023'!L24 -> 31.34103 | L8: ='Syndikate 2023'!M9+'Syndikate 2023'!N9 -> 759448 | M8: ='Syndikate 2023'!M24+'Syndikate 2023'!N24 -> 5.4189774 | N8: ='Syndikate 2023'!O9+'Syndikate 2023'!P9 -> 1833921 | O8: ='Syndikate 2023'!O24+'Syndikate 2023'!P24 -> 13.085789 | P8: ='Syndikate 2023'!Q9+'Syndikate 2023'!R9 -> 449843 | Q8: ='Syndikate 2023'!Q24+'Syndikate 2023'!R24 -> 3.2098169 | R8: ='Syndikate 2023'!V9+'Syndikate 2023'!W9 -> 140620 | S8: ='Syndikate 2023'!V24+'Syndikate 2023'!W24 -> 1.0033822 | T8: =SUM('Syndikate 2023'!X9:AP9) -> 1043586.6 | U8: =SUM('Syndikate 2023'!X24:AP24) -> 7.4464245 | V8: ='Syndikate 2023'!AR9+'Syndikate 2023'!AS9 -> 1197504.6 | W8: ='Syndikate 2023'!AR24+'Syndikate 2023'!AS24 -> 8.544693 | X8: ='Syndikate 2023'!AT9+'Syndikate 2023'!AU9 -> 22088035 | Y8: ='Syndikate 2023'!AT24+'Syndikate 2023'!AU24 -> 157.60732
A9: GDL | B9: ='Syndikate 2023'!B10+'Syndikate 2023'!C10 -> 113702458 | C9: ='Syndikate 2023'!B25+'Syndikate 2023'!C25 -> 172.06554 | D9: ='Syndikate 2023'!G10+'Syndikate 2023'!H10 -> 22447943 | E9: ='Syndikate 2023'!G25+'Syndikate 2023'!H25 -> 33.970395 | F9: ='Syndikate 2023'!E10+'Syndikate 2023'!F10 -> 5308760 | G9: ='Syndikate 2023'!E25+'Syndikate 2023'!F25 -> 8.0337284 | H9: ='Syndikate 2023'!I10+'Syndikate 2023'!J10 -> 26997968 | I9: ='Syndikate 2023'!I25+'Syndikate 2023'!J25 -> 40.855933 | J9: ='Syndikate 2023'!K10+'Syndikate 2023'!L10 -> 22098702 | K9: ='Syndikate 2023'!K25+'Syndikate 2023'!L25 -> 33.44189 | L9: ='Syndikate 2023'!M10+'Syndikate 2023'!N10 -> 3534065 | M9: ='Syndikate 2023'!M25+'Syndikate 2023'!N25 -> 5.3480884 | N9: ='Syndikate 2023'!O10+'Syndikate 2023'!P10 -> 12994606 | O9: ='Syndikate 2023'!O25+'Syndikate 2023'!P25 -> 19.664692 | P9: ='Syndikate 2023'!Q10+'Syndikate 2023'!R10 -> 2557104 | Q9: ='Syndikate 2023'!Q25+'Syndikate 2023'!R25 -> 3.8696567 | R9: ='Syndikate 2023'!V10+'Syndikate 2023'!W10 -> 714402 | S9: ='Syndikate 2023'!V25+'Syndikate 2023'!W25 -> 1.0811021 | T9: =SUM('Syndikate 2023'!X10:AP10) -> 4735725.4 | U9: =SUM('Syndikate 2023'!X25:AP25) -> 7.1665571 | V9: ='Syndikate 2023'!AR10+'Syndikate 2023'!AS10 -> 5070319.7 | W9: ='Syndikate 2023'!AR25+'Syndikate 2023'!AS25 -> 7.6728975 | X9: ='Syndikate 2023'!AT10+'Syndikate 2023'!AU10 -> 84924716 | Y9: ='Syndikate 2023'!AT25+'Syndikate 2023'!AU25 -> 128.51628
A13: *) Die Problemstoffe umfassen die nachfolgend aufgeführten CED2-Codes:
A14: CED2
A15: 150110
A16: 150202
A17: 160107
A18: 160215
A19: 160504
A20: 170603
A21: 170604
A22: 170605
A23: 180101
A24: 200114
A25: 200115
A26: 200117
... A34: 200139
A35: unbekannt (Salze)
