Workbook
Name _2._Data_reporting___questionnaire: #REF!
Name _2._Data_reporting___questionnaire: #REF!
Name _2._Data_reporting___questionnaire: #REF!
Name _2._Description_of_the_parties_involved_in_the_data_collection: #REF!
Name _2._Legal_acts: #REF!
Name _2._Legal_acts: #REF!
Name _2._Legal_acts: #REF!
Name _3._Data_reporting___questionnaire: #REF!
Name _3._Data_reporting___questionnaire: #REF!
Name _3._Data_reporting___questionnaire: #REF!
Name _3._Description_of_methods_used: #REF!
Name _3._Methodological_notes: #REF!
Name _3._Methodology_for_reporting_by_numbers: #REF!
Name _3._Methodology_for_reporting_by_numbers: #REF!
Name _3._Methodology_for_reporting_by_numbers: #REF!
Name _4._Accuracy_of_the_data: #REF!
Name _4._Data_reporting___questionnaire: #REF!
Name _4._Methodology_for_reporting_by_numbers: #REF!
Name _4._Methodology_for_reporting_by_weight: #REF!
Name _5._Confidentiality: #REF!
Name _6._Main_national_websites__reference_documents_and_publications: #REF!
Name Annual_consumption_of_lightweight_plastic_carrier_bags_QUALITY_REPORT: #REF!
Name ANNUAL_CONSUMPTION_OF_LIGHTWEIGHT_PLASTIC_CARRIER_BAGS_QUESTIONS_ON_METHODOLOGY_AND_COVERAGE: #REF!
Name COUNTRY: #REF!
Name Data_uses: #REF!
Name DECIMALS: #REF!
Name Legal_acts: #REF!
Name Legal_acts: #REF!
Name Legal_acts: #REF!
Name ROUNDING: #REF!
Name unhide_all_sheets: #REF!

Sheet COVER
C3: =UPPER(Lists!K3) -> STATISTICAL OFFICE OF THE EUROPEAN UNION
C5: =Lists!K4 -> Directorate E: Sectoral and regional statistics
C6: =Lists!K5 -> Unit E-2: Environmental statistics and accounts; sustainable development
C7: =UPPER(Lists!K7) -> LANDFILL RATE
C8: =CONCATENATE(Lists!K8," DATA COLLECTION") -> 2025 DATA COLLECTION
C9: =CONCATENATE("Launching date: ",Lists!K9) -> Launching date: 27 May 2025

Sheet INDEX
E3: =UPPER(Lists!K3) -> STATISTICAL OFFICE OF THE EUROPEAN UNION
C4: =UPPER(Lists!K7) -> LANDFILL RATE
C5: =CONCATENATE(Lists!K8," DATA COLLECTION") -> 2025 DATA COLLECTION
C7: INDEX - STRUCTURE OF THE QUESTIONNAIRE
C9: I. Basic information
C10: TITLE | D10: DESCRIPTION | E10: TYPE
C11: Index | D11: Structure of the questionnaire | E11: for information
C12: Basic instructions | D12: Basic instructions | E12: for reading before filling in the questionnaire
C13: Methodology | D13: Methodology and legal acts | E13: for reading before filling in the questionnaire
C14: II. Reporting data (To be filled in by the country)
C15: TITLE | D15: DESCRIPTION | E15: TYPE
C16: GETTING STARTED | D16: Country and data collection definition. Administrative data. | E16: for filling in
C17: Footnotes list | D17: List of explanatory footnotes | E17: for filling in
C18: Table 4 - Landfill rate | D18: Table 4 - Landfill rate for measuring compliance with the policy target in accordance with Article 5(5) of Council Directive 1999/31/EC concerning the landfilling of waste according to the format set out in Annex II of Commission Implementing Decision 201 | E18: for filling in
C19: III. Quality report (Orange tabbed sheets)
C20: TITLE | D20: DESCRIPTION | E20: TYPE
C21: Quality report - Table 4 - Landfill rate | D21: Quality report for Table 4 as required by annex 11 of Commission Decision 2019/1885/EC | E21: For filling in connection with Table 4 - Landfill rate

Sheet Basic Instructions
F3: =UPPER(Lists!K3) -> STATISTICAL OFFICE OF THE EUROPEAN UNION
C4: =UPPER(Lists!K7) -> LANDFILL RATE
C5: =CONCATENATE(Lists!K8," DATA COLLECTION") -> 2025 DATA COLLECTION
C7: BASIC INSTRUCTIONS
C8: This questionnaire is designed to collect the variables required under Article 5(5) of Directive 1999/31/EC on the landfill of waste and the Annex II of Decision 2019/1885/EC.
C9: It contains Table 4 - Landfill rate and the corresponding quality report, to be filled in and transmitted together with the corresponding data transmissions.
C10: Before filling in the questionnaire please read carefully the instructions below. This EXCEL workbook is the questionnaire. Please do not delete or add rows in the questionnaire (except where instructed in the quality report tab).
C11: Before submitting the questionnaire to Eurostat, It is strongly recommended to use 'Validate questionnaire’ button included in each table to streamline the validation workflow; this will avoid unnecessary iterations between your organisation and Eurostat. You can consult the errors in the ‘ErrorLog’ worksheet. Please revise/correct the questionnaire until the check runs without highlighting errors or warnings.
C12: =CONCATENATE("We kindly ask you to send us the data latest by ",Lists!K10) -> We kindly ask you to send us the data latest by 30 June 2025
C14: Table of contents
C15: 1. Data transmission
C16: 2. Reporting conventions
C17: 3. Footnotes
C18: 4. Revisions
C19: 4. Methodology and questions
C20: Annex: How to fill in the data sheets of the questionnaire
C22: 1. Data transmission:
C24: The standard tool for the transmission of statistical data is the eDAMIS system. The system creates a secure environment for the transmission of data, it records all data submissions and acknowledges the data delivery. The eDAMIS system has been installed in the National Statistical Institutes.
C26: Please submit this questionnaire to Eurostat using the eDAMIS reporting system. Use the following details:
C27: Domain name: | D27: =Lists!K12 -> WASTE
C28: Dataset name: | D28: =Lists!K13 -> WASTE_LNDFILL_A
C30: Should you have any questions regarding data transmission do not hesitate to contact your local eDAMIS coordinator or the Eurostat eDAMIS helpdesk at:
C31: web page: | D31: https://webgate.ec.europa.eu/edamis4
C32: e-mail address: | D32: ESTAT-DATA-METADATA-SERVICES@ec.europa.eu
C33: telephone:
C34: For methodological questions please contact:
C35: e-mail address: | D35: ESTAT-WASTE-STATISTICS@EC.EUROPA.EU
C38: 2. Reporting conventions:
C40: Reporting of zeroes and not availble data must follow this convention:
C41: Description | D41: Symbol
C42: Real zero | D42: 0
C43: Not available | E43: (empty cell)
C45: 1. White shaded (uncoloured) boxes: Provision of data is mandatory under law or under a gentlemen's agreement.
C46: 2. Light blue shaded boxes: Provision of data is voluntary
C47: 3. Black shaded boxes: reporting is not applicable
C48: 4. Grey shaded boxes: calculation is automatic.
C51: 3. Footnotes:
C54: Flags (footnote symbols) should be entered in the reporting tables in the footnote columns, next to the value cell. There are two types of footnotes:
C55: - Letters for standard footnotes (as defined by Eurostat) and…
C56: - Numbers for explanatory footnotes (to be defined by the data compilers).
...

Sheet Methodology
F3: =UPPER(Lists!K3) -> STATISTICAL OFFICE OF THE EUROPEAN UNION
C4: =UPPER(Lists!K7) -> LANDFILL RATE
C5: =CONCATENATE(Lists!K8," DATA COLLECTION") -> 2025 DATA COLLECTION
C7: METHODOLOGY AND LEGAL ACTS
C8: Table of contents
C9: 1. Background
C10: 2. Legal acts
C12: 1. Background
C14: The European Parliament and the Council adopted the (Landfill) Directive 1999/31/EC to reduce the impact of landfilling on the environment.
C15: This Excel reporting template allows Member States to report landfill pursuant to the requirements of Commission Implementing Decisions 2019/1885.
C17: Further guidance is provided in a document that can be found under the link below. The document not only includes guidance on how to fill in the data tables but as well on how to fill in the quality reports. The guidance will be improved and updated according to the experience gained with the data collections and according to new legislation still expected, e.g. a delegated act on average loss rates.
C21: The guidelines are available here:
C22: https://ec.europa.eu/eurostat/web/waste/methodology
C24: 2. Legal acts
C27: Directive (EU) 2018/850 of the European Parliament and of the Council of 30 May 2018 amending Directive 1999/31/EC on the landfill of waste requeires the collection of data for the calculation of a landfill rate. The data and metadata to be provided for this is further detailed by Commission Implementing Decision (EU) 2019/1885 of 6 November 2019 laying down rules for the calculation, verification and reporting of data on landfill of municipal waste in accordance with Council Directive 1999/31/EC and repealing Commission Decision 2000/738/EC.
... C30: https://ec.europa.eu/eurostat/web/waste/legislation

Sheet GETTING STARTED
G3: =UPPER(Lists!K3) -> STATISTICAL OFFICE OF THE EUROPEAN UNION
C4: =UPPER(Lists!K7) -> LANDFILL RATE
C5: =CONCATENATE(Lists!K8," DATA COLLECTION") -> 2025 DATA COLLECTION
C7: GETTING STARTED
C9: Please select your country (click on the white cell): | E9: Luxembourg
C10: Reference year: | E10: 2023
C11: =CONCATENATE("The due date for reporting is ",Lists!K10) -> The due date for reporting is 30 June 2025
C12: Who is the primary contact point for annual reporting of landfill rate in your country?
C14: Name: | D14: Thierry DECKER
C16: Institution: | D16: Administration de l'Environnement
C18: Unit: | D18: Unité Surveillance & Evaluation de l'Environnement - Inventaires et Statistiques
C20: Telephone: | D20: 00352 247 592 04
C22: Email adress: | D22: thierry.decker@aev.etat.lu
C25: Eurostat would be grateful if you could send us the completed questionnaire ahead of the deadline.

Sheet Footnotes list
E3: =UPPER(Lists!K3) -> STATISTICAL OFFICE OF THE EUROPEAN UNION
D4: =UPPER(Lists!K7) -> LANDFILL RATE
D5: =CONCATENATE(Lists!K8," DATA COLLECTION") -> 2025 DATA COLLECTION
D7: EXPLANATORY FOOTNOTES
D8: =IF('GETTING STARTED'!E9="","",'GETTING STARTED'!E9) -> Luxembourg
D9: 1 | E9: Type your text here
D10: 2
D11: 3
D12: 4
D13: 5
D14: 6
D15: 7
D16: 8
D17: 9
D18: 10
D19: 11
D20: 12
D21: 13
... D58: 50

Sheet Table 4 - Landfill rate
J2: Table 4 - Landfill rate - for measuring compliance with the policy target in accordance with Article 5(5) of Council Directive 1999/31/EC concerning the landfilling of waste according to the format set out in Annex II of Commission Implementing Decision 2019/1885 for the calculation of the landfill rate
F3: Country: | G3: =IF('GETTING STARTED'!E9="","",VLOOKUP('GETTING STARTED'!E9,Lists!A2:B40,2,FALSE)) -> LU
F4: Reference year: | G4: =IF('GETTING STARTED'!E10="","",'GETTING STARTED'!E10) -> 2023
B5: TO HIDE | F5: Municipal waste generated(1) (tonnes) | G5: Standard footnotes | H5: Explanatory footnote | J5: Landfilling(2) (tonnes) | K5: Standard footnotes | L5: Explanatory footnote | N5: Incineration disposal(3) (tonnes) | O5: Standard footnotes | P5: Explanatory footnote | R5: Material recovery of waste from incineration disposal (tonnes) | S5: Standard footnotes | T5: Explanatory footnote
B6: Source | C6: waste | D6: unit | F6: GEN | J6: DSP_L | N6: DSP_I | R6: RCV_M_ID
B7: ANNEX_II | C7: TOTAL | D7: T | F7: 478331 | I7: =IF(TRIM(H7)="", "", IF(VLOOKUP(H7,'Footnotes list'!$D$9:$E$58,2,FALSE)=0,"",VLOOKUP(H7,'Footnotes list'!$D$9:$E$58,2,FALSE) ) ) | J7: 13679 | M7: =IF(TRIM(L7)="", "", IF(VLOOKUP(L7,'Footnotes list'!$D$9:$E$58,2,FALSE)=0,"",VLOOKUP(L7,'Footnotes list'!$D$9:$E$58,2,FALSE) ) ) | N7: 0 | Q7: =IF(TRIM(P7)="", "", IF(VLOOKUP(P7,'Footnotes list'!$D$9:$E$58,2,FALSE)=0,"",VLOOKUP(P7,'Footnotes list'!$D$9:$E$58,2,FALSE) ) ) | R7: 0 | U7: =IF(TRIM(T7)="", "", IF(VLOOKUP(T7,'Footnotes list'!$D$9:$E$58,2,FALSE)=0,"",VLOOKUP(T7,'Footnotes list'!$D$9:$E$58,2,FALSE) ) )
F9: Notes:
F10: (1) The concept of municipal waste generated is the same as in Table 1-municipal waste statistics (joint questionnaire (JQ), Table 2 - Material breakdown and - in case method 4 is chosen - as well in Table 3 - Recycling rate (questionnaire MWRO).
F11: (2) This column does not include waste entering incineration disposal operations and subsequently recovered from incineration disposal operations.
F12: (3) Incineration disposal refers to operations carried out by facilities classified as D10 in Annex I to Directive 2008/98/EC of the European Parliament and of the Council of 19 November 2008 on waste and repealing certain Directives (OJ L 312, 22.11.2008, p. 3).

Sheet QR Table 4 - Landfill rate
A1: Municipal Waste Quality report - Table 4 - Landfill rate
A5: I. General information
A6: 1. Member State | F6: Luxembourg
A7: 2. Organisation submitting the data and the description | F7: Administration de l'environnement
A8: 3. Contact person/contact details | F8: Thierry Decker
A9: 4. Reference year | F9: 2023
A10: 5. Delivery date / version | F10: 45838
A11: 6. Link to data publication by the Member State (if any): | F11: https://data.public.lu
A13: II. Information on landfilling of municipal waste
A14: 1. Description of the entities involved in the data collection
A16: Name of instiution | C16: Description of key responsibilities
A17: Administration de l'evnironnement | C17: Data collection and reporting
A18: Add rows as appropriate
A19: 2.2. Description of the methodology used to include waste resulting from treatment operations prior to recycling or other recovery of municipal waste and subsequently landfilled
A20: The amount of waste landfilled is measured at the entry point of the landfill site. Hence waste resulting from treatment operations prior to recycling are also included (if landfilled in Luxembourg).
A21: 2.2.1. Description of the approach to ensure traceability of municipal waste when it undergoes treatment, including the use of codes related to municipal waste generation (such as those in chapter 20 in the list of waste established by Commission Decision 2000/532/EC of 3 May 2000 replacing Decision 94/3/EC establishing a list of wastes pursuant to Article 1(a) of Council Directive 75/442/EEC on waste and Council Decision 94/904/EC establishing a list of hazardous waste pursuant to Article 1(4) of Council Directive 91/689/EEC on hazardous waste, OJ L 226, 6.9.2000, p. 3) and codes related to waste from waste treatment (such as those in chapter 19 in the list of waste established by that Decision)
A22: Please refer to question 2.2. The waste code 190501 is used at the output of the MBT. As the amount of waste landfilled is based on the input of the MBT (where the Low code 200301 is used) this is not relevant.
A23: 2.2. Description of the methodology used to include waste resulting from treatment operations prior to recycling or other recovery of municipal waste and subsequently landfilled
A24: see here above
A25: 2.3. Description of the approach to include waste resulting from treatment operations prior to recycling or other recovery of municipal waste and subsequently landfilled outside the Member State
A26: Exporting waste for disposal is prohibited. However, it’s challenging to ensure that waste resulting from treatment operations outside Luxembourg won’t end up in landfills in those countries
A27: 2.4. Description of data collection on municipal waste entering incineration disposal operations in order to be subsequently landfilled, including the methodology used to calculate materials originating from municipal waste that are recovered from waste resulting from incineration disposal operations
A28: N/A
A29: 2.5. Description of any estimates used to cover gaps in the data on landfilled municipal waste
... A44: www.emwelt.lu

Sheet ErrorLog
A1: Link to Error | B1: Validation Rule | C1: Cell | D1: Sheet | E1: Description | F1: Severity | G1: Former Color

Sheet Changelog
A1: Change | B1: Changed by | C1: SheetName | D1: Cell | E1: Version | F1: Date | G1: REMARKS
A2: Add macros version m01b | B2: CDD | C2: VB | E2: v00m01b | F2: 45371
A3: Add macro "Workbook_SheetChange" in "ThisWorkbook" | B3: CDD | C3: VB | E3: v00m01b | F3: 45371
A4: Add sheet "MacroBehaviour" | B4: CDD | C4: MacroBehaviour | E4: v00m01b | F4: 45371
A5: Add sheet "Lists (specific)" | B5: CDD | C5: Lists (specific) | E5: v00m01b | F5: 45371
A6: Add bottons | B6: CC | C6: Table 4 | E6: v01m01b | F6: 45427
A7: Add validation rules | B7: CC | C7: Summations, etc. | E7: v01m01b | F7: 45427

Sheet MacroBehaviour
A1: COMMON TO ALL (OR MOST) QUESTIONNAIRE | E1: SPECIFIC TO THIS QUESTIONNAIRE
A2: Parameter | B2: Value | C2: (Valid values) | E2: Parameter | F2: Value | G2: (Valid values)
A3: DevelopementMode | B3: FALSE | C3: TRUE (during development) FALSE (For real reporting and testing)

Sheet Summations
A1: Severity | B1: Sheet Name | C1: List of Cells (first block) | D1: First Total Cell (first block) | E1: Last Total Cell (Last block) | F1: Row Block Repetition Step | G1: Column Block Repetition Step | H1: Greater or Equal | I1: Valid Tolerance | J1: Only if all data is available | K1: Non compliance Is Valid If Footnote Exists | L1: Footnote Shift From Value | M1: Display text in error
A2: Error | B2: Table 4 - Landfill rate | C2: J7,N7,R7 | D2: F7 | E2: F7 | F2: 999 | G2: 999 | H2: GT | I2: 0 | J2: NO | K2: YES | L2: 3 | M2: Generation must be bigger than the sum of all other columns
A3: Error | B3: Table 4 - Landfill rate | C3: J7 | D3: F7 | E3: F7 | F3: 999 | G3: 999 | H3: GT | I3: 0 | J3: NO | K3: NO | L3: 3 | M3: Generation must be bigger than landfilling
A4: Error | B4: Table 4 - Landfill rate | C4: N7 | D4: F7 | E4: F7 | F4: 999 | G4: 999 | H4: GT | I4: 0 | J4: YES | K4: NO | L4: 3 | M4: Generation must be bigger than Incineration disposal
A5: Error | B5: Table 4 - Landfill rate | C5: R7 | D5: F7 | E5: F7 | F5: 999 | G5: 999 | H5: GT | I5: 0 | J5: NO | K5: NO | L5: 3 | M5: Generation must be bigger than material recovery of waste from incineration disposal
F7: Must be > 0 for a not relevant dimension. Else you get an infinite loop | H7: EQ or GE or GT | I7: GT does not admit Tolerance | J7: NO or YES | L7: Not Applicable if the previous column is "NO"
A9: DESCRIPTION
A10: This sheet is meant to define the validation for summations in a row or in a column.
A11: - A block is defined as a sequence of addendums in the same row or column
A12: - Only the first block must be explicitly defined
A13: - The block can be repeated at regular patterns through rows and columns at the same time
A16: PARAMETRES
A17: SheetName | C17: Name of the sheet to be validated (e.g. Table 1)
A18: List of Cells (first block) | C18: First cell in the first block to be validated
A19: First TotalCell (first block)
A20: Last TotalCell (Last block)
A21: Row Block Repetition Step
A22: Column Block Repetition Step
A23: Greater or Equal
A24: Valid Threshold
A25: Only if all data is available
A26: Display text in error | C26: Valid values: EQ (Strictly equal); GE (Greater or Equal); GT (Strictly greater - No threshold will be considered)
D105: =SUM(Summations!B3º) -> #NAME?

Sheet Lists
A1: Country label | B1: Country code | D1: Valid flags (obs_status) | E1: Label | G1: Valid flags (obs_conf) | H1: Label | J1: Textual variables | K1: String | M1: WASTE-2025-DC
A2: Belgium | B2: BE | D2: B | E2: break in time series | J2: Institutional names
A3: Bulgaria | B3: BG | D3: E | E3: estimated data | J3: Eurostat Text | K3: Statistical Office of the European Union
A4: Czechia | B4: CZ | D4: P | E4: provisional | J4: Directorate Text | K4: Directorate E: Sectoral and regional statistics
A5: Denmark | B5: DK | D5: BE | J5: Unit Text | K5: Unit E-2: Environmental statistics and accounts; sustainable development
A6: Germany | B6: DE | D6: BP | J6: Data collection information
A7: Estonia | B7: EE | D7: EP | J7: Data Collection Text | K7: Landfill rate
A8: Ireland | B8: IE | D8: BEP | J8: Data Collection Year | K8: 2025
A9: Greece | B9: EL | J9: Launching date | K9: 27 May 2025
A10: Spain | B10: ES | J10: Submission deadline | K10: 30 June 2025
A11: France | B11: FR | J11: EDAMIS data
A12: Croatia | B12: HR | J12: Domain name | K12: WASTE
A13: Italy | B13: IT | J13: Dataset name | K13: WASTE_LNDFILL_A
A14: Cyprus | B14: CY | J14: Web page | K14: https://webgate.ec.europa.eu/edamis4
A15: Latvia | B15: LV | J15: Functional e-mail | K15: ESTAT-DATA-METADATA-SERVICES@ec.europa.eu
A16: Lithuania | B16: LT | J16: E2 information
A17: Luxembourg | B17: LU | J17: Telephone
A18: Hungary | B18: HU | J18: Contact | K18: ESTAT-WASTE-STATISTICS@EC.EUROPA.EU
A19: Malta | B19: MT | J19: Methodology URL | K19: https://ec.europa.eu/eurostat/web/waste/methodology
A20: Netherlands | B20: NL | J20: Legislation URL | K20: https://ec.europa.eu/eurostat/web/waste/legislation
A21: Austria | B21: AT
A22: Poland | B22: PL
A23: Portugal | B23: PT
A24: Romania | B24: RO
A25: Slovenia | B25: SI
A26: Slovakia | B26: SK
A27: Finland | B27: FI
A28: Sweden | B28: SE
A29: United Kingdom | B29: UK
A30: Iceland | B30: IS
A31: Liechtenstein | B31: LI
A32: Norway | B32: NO
... A42: ESTAT-E2-WASTE-MUNWAS | B42: CDD

Sheet FootnoteContent
A1: Severity | B1: SheetName | C1: TopLeftCell | D1: BottomRightCell | E1: RowStep | F1: ColumnStep | G1: DistanceFromReferenceToText
A2: Error | B2: Table 4 - Landfill rate | C2: H7 | D2: T7 | E2: 999 | F2: 4 | G2: 1

Sheet IsNumeric
A1: Severity | B1: SheetName | C1: TopLeftCell | D1: BottomRightCell | E1: RowStep | F1: ColumnStep
A2: Error | B2: Table 4 - Landfill rate | C2: F7 | D2: R7 | E2: 999 | F2: 4 | I2: it is meant to check that there are numerical values

Sheet Mandatory
A1: Severity | B1: SheetName | C1: Top Left Cell | D1: Bottom Right Cell | E1: Row Step | F1: Column Step | G1: Empty Is Valid If Footnote Exists | H1: Footnote Shift From Value
A2: Error | B2: GETTING STARTED | C2: E9 | D2: E10 | E2: 1 | F2: 999 | G2: NO | H2: 999 | I2: STANDARD FOR ALL QUESTIONNAIRES
A3: Error | B3: GETTING STARTED | C3: D14 | D3: D22 | E3: 2 | F3: 999 | G3: NO | H3: 999
A4: Error | B4: Table 4 - Landfill rate | C4: F7 | D4: R7 | E4: 999 | F4: 4 | G4: YES | H4: 3

Sheet MustNotBeNegative
A1: Severity | B1: SheetName | C1: TopLeftCell | D1: BottomRightCell | E1: RowStep | F1: ColumnStep
A2: Error | B2: Table 4 - Landfill rate | C2: F7 | D2: R7 | E2: 999 | F2: 4
