Workbook
Name _2._Data_reporting___questionnaire: #REF!
Name _2._Data_reporting___questionnaire: #REF!
Name _2._Data_reporting___questionnaire: #REF!
Name _2._Data_reporting___questionnaire: #REF!
Name _2._Data_reporting___questionnaire: #REF!
Name _2._Data_reporting___questionnaire: #REF!
Name _2._Data_reporting___questionnaire: #REF!
Name _2._Description_of_the_parties_involved_in_the_data_collection: #REF!
Name _2._Description_of_the_parties_involved_in_the_data_collection: #REF!
Name _2._Legal_acts: #REF!
Name _2._Legal_acts: #REF!
Name _2._Legal_acts: #REF!
Name _2._Legal_acts: #REF!
Name _3._Data_reporting___questionnaire: [1]Methodology!#REF!
Name _3._Data_reporting___questionnaire: #REF!
Name _3._Data_reporting___questionnaire: [1]Methodology!#REF!
Name _3._Data_reporting___questionnaire: #REF!
Name _3._Data_reporting___questionnaire: #REF!
Name _3._Data_reporting___questionnaire: [1]Methodology!#REF!
Name _3._Description_of_methods_used: #REF!
Name _3._Description_of_methods_used: #REF!
Name _3._Description_of_methods_used: #REF!
Name _3._Methodological_notes: [2]Methodology!#REF!
Name _3._Methodological_notes: [2]Methodology!#REF!
Name _3._Methodological_notes: [2]Methodology!#REF!
Name _3._Methodology_for_reporting_by_numbers: [1]Methodology!#REF!
Name _3._Methodology_for_reporting_by_numbers: #REF!
Name _3._Methodology_for_reporting_by_numbers: [1]Methodology!#REF!
Name _3._Methodology_for_reporting_by_numbers: [1]Methodology!#REF!
Name _3._Methodology_for_reporting_by_numbers: #REF!
Name _3._Methodology_for_reporting_by_numbers: #REF!
Name _3._Methodology_for_reporting_by_numbers: [1]Methodology!#REF!
Name _4._Accuracy_of_the_data: #REF!
Name _4._Accuracy_of_the_data: #REF!
Name _4._Data_reporting___questionnaire: [1]Methodology!#REF!
Name _4._Data_reporting___questionnaire: [1]Methodology!#REF!
Name _4._Data_reporting___questionnaire: [1]Methodology!#REF!
Name _4._Data_reporting___questionnaire: [1]Methodology!#REF!
Name _4._Methodology_for_reporting_by_numbers: [1]Methodology!#REF!
Name _4._Methodology_for_reporting_by_numbers: [1]Methodology!#REF!
Name _4._Methodology_for_reporting_by_numbers: [1]Methodology!#REF!
Name _4._Methodology_for_reporting_by_numbers: [1]Methodology!#REF!
Name _4._Methodology_for_reporting_by_weight: [2]Methodology!#REF!
Name _4._Methodology_for_reporting_by_weight: [2]Methodology!#REF!
Name _5._Confidentiality: #REF!
Name _5._Confidentiality: #REF!
Name _5._Confidentiality: #REF!
Name _5._Confidentiality: #REF!
Name _6._Main_national_websites__reference_documents_and_publications: #REF!
Name _6._Main_national_websites__reference_documents_and_publications: #REF!
Name _6._Main_national_websites__reference_documents_and_publications: #REF!
Name _6._Main_national_websites__reference_documents_and_publications: #REF!
Name Annual_consumption_of_lightweight_plastic_carrier_bags_QUALITY_REPORT: #REF!
Name Annual_consumption_of_lightweight_plastic_carrier_bags_QUALITY_REPORT: #REF!
Name Annual_consumption_of_lightweight_plastic_carrier_bags_QUALITY_REPORT: #REF!
Name ANNUAL_CONSUMPTION_OF_LIGHTWEIGHT_PLASTIC_CARRIER_BAGS_QUESTIONS_ON_METHODOLOGY_AND_COVERAGE: #REF!
Name ANNUAL_CONSUMPTION_OF_LIGHTWEIGHT_PLASTIC_CARRIER_BAGS_QUESTIONS_ON_METHODOLOGY_AND_COVERAGE: #REF!
Name ANNUAL_CONSUMPTION_OF_LIGHTWEIGHT_PLASTIC_CARRIER_BAGS_QUESTIONS_ON_METHODOLOGY_AND_COVERAGE: #REF!
Name COUNTRY: #REF!
Name COUNTRY: #REF!

Sheet COVER
C3: =UPPER(Lists!K3) -> STATISTICAL OFFICE OF THE EUROPEAN UNION
C5: =Lists!K4 -> Directorate E: Sectoral and regional statistics
C6: =Lists!K5 -> Unit E-2: Environmental statistics and accounts; sustainable development
C7: =UPPER(Lists!K7) -> ANNUAL REPORTING OF MUNICIPAL WASTE - JOINT QUESTIONNAIRE EUROSTAT/OECD
C8: =CONCATENATE(Lists!K8," DATA COLLECTION") -> 2024 DATA COLLECTION
C9: =CONCATENATE("Launching date: ",Lists!K9) -> Launching date: 24 October 2024

Sheet INDEX
E3: =UPPER(Lists!K3) -> STATISTICAL OFFICE OF THE EUROPEAN UNION
C4: =UPPER(Lists!K7) -> ANNUAL REPORTING OF MUNICIPAL WASTE - JOINT QUESTIONNAIRE EUROSTAT/OECD
C5: =CONCATENATE(Lists!K8," DATA COLLECTION") -> 2024 DATA COLLECTION
C7: INDEX - STRUCTURE OF THE QUESTIONNAIRE
C9: I. Basic information
C10: TITLE | D10: DESCRIPTION | E10: TYPE
C11: Index | D11: Structure of the questionnaire | E11: for information
C12: Basic instructions | D12: Basic instructions | E12: for reading before filling in the questionnaire
C13: Methodology | D13: Methodology and legal acts | E13: for reading before filling in the questionnaire
C14: Validation rules | D14: Validation performed by the 'Validate questionnaire' button | E14: for reading before filling in the questionnaire.
C15: II. Reporting data (To be filled in by the country)
C16: TITLE | D16: DESCRIPTION | E16: TYPE
C17: GETTING STARTED | D17: Country and data collection definition. Administrative data. | E17: for filling in
C18: Footnotes list | D18: List of explanatory footnotes | E18: for filling in
C19: Table 1 - JQ | D19: Joint Questionnaire of Eurostat and OECD | E19: for filling in
C20: III. Quality report (Orange tabbed sheets)
C21: TITLE | D21: DESCRIPTION | E21: TYPE
C22: QR - Table 1 - JQ | D22: Quality report for the Joint questionnaire of Eurostat and OECD | E22: for filling in connection with Table 1 - JQ

Sheet Basic Instructions
F3: =UPPER(Lists!K3) -> STATISTICAL OFFICE OF THE EUROPEAN UNION
C4: =UPPER(Lists!K7) -> ANNUAL REPORTING OF MUNICIPAL WASTE - JOINT QUESTIONNAIRE EUROSTAT/OECD
C5: =CONCATENATE(Lists!K8," DATA COLLECTION") -> 2024 DATA COLLECTION
C7: BASIC INSTRUCTIONS
C8: This questionnaire is designed to collect municipal waste statistics (joint questionnaire (JQ) of Eurostat and OECD on municipal waste statistics).
C9: Before filling in the questionnaire please read carefully the instructions below. This EXCEL workbook is the questionnaire. Please do not delete or add rows in the questionnaire (except where instructed in the quality report tab).
C10: Before submitting the questionnaire to Eurostat, It is strongly recommended to use 'Validate questionnaire’ button included in each table to streamline the validation workflow; this will avoid unnecessary iterations between your organisation and Eurostat. You can consult the errors in the ‘ErrorLog’ worksheet. Please revise/correct the questionnaire until the check runs without highlighting errors or warnings.
C11: =CONCATENATE("We kindly ask you to send us the data latest by ",Lists!K10) -> We kindly ask you to send us the data latest by 22 November 2024
C13: Table of contents
C14: 1. Data transmission
C15: 2. Reporting conventions
C16: 3. Footnotes
C17: 4. Revisions
C18: 4. Methodology and questions
C19: Annex: How to fill in the data sheets of the questionnaire
C21: 1. Data transmission:
C23: The standard tool for the transmission of statistical data is the eDAMIS system. The system creates a secure environment for the transmission of data, it records all data submissions and acknowledges the data delivery. The eDAMIS system has been installed in the National Statistical Institutes.
C25: Please submit this questionnaire to Eurostat using the eDAMIS reporting system. Use the following details:
C26: Domain name: | D26: =Lists!K12 -> WASTE
C27: Dataset name: | D27: =Lists!K13 -> WASTE_MWJQDAT_A
C29: Should you have any questions regarding data transmission do not hesitate to contact your local eDAMIS coordinator or the Eurostat eDAMIS helpdesk at:
C30: web page: | D30: =Lists!K14 -> https://cros.ec.europa.eu/book-page/how-request-support-edamis
C31: e-mail address: | D31: =Lists!K15 -> ESTAT-DATA-METADATA-SERVICES@ec.europa.eu
C32: telephone: | D32: =Lists!K17 -> (+352) 4301 33213
C33: For methodological questions please contact:
C34: e-mail address: | D34: =Lists!K18 -> ESTAT-WASTE-STATISTICS@EC.EUROPA.EU
C37: 2. Reporting conventions:
C39: Reporting of zeroes and not availble data must follow this convention:
C40: Description | D40: Symbol
C41: Real zero | D41: 0
C42: Not available | E42: (empty cell)
C44: 1. White shaded (uncoloured) boxes: Provision of data is mandatory under law or under a gentlemen's agreement.
C45: 2. Light blue shaded boxes: Provision of data is voluntary
C46: 3. Black shaded boxes: reporting is not applicable
C47: 4. Grey shaded boxes: calculation is automatic.
C50: 3. Footnotes:
C53: Flags (footnote symbols) should be entered in the reporting tables in the footnote columns, next to the value cell. There are two types of footnotes:
C54: - Letters for standard footnotes (as defined by Eurostat) and…
C55: - Numbers for explanatory footnotes (to be defined by the data compilers).
C57: 3.1 Standard footnotes
C58: The following footnotes will be used for the automatic data processing and data dissemination. Hence, they cannot be changed:
C59: B) break in series | D59: Please use this flag when the reported figure cannot be compared to the data reported for the previous year, e.g. because of new methods or sources being used or when you move from the old calculation rules (as described in annex I of Commission Decision 2011/753/EU) to the new calculation rules (as described in Article 11(b) of Directive 2008/98/EC). Please use this flag only when the change in methods, sources or calculation rules has a substantial impact and makes data uncomparable.
C60: E) estimated data
C61: P) provisional | D61: Please use this flag for deliveries of table 1 that can be considered as early estimates at t+11 according to the flow chart above
C62: To include standard footnotes use the drop-down menu.
C64: 3.2 Explanatory footnotes
C65: The explanatory footnotes can be used for any meaning beyond the pre-defined footnotes.
C66: To include a explanatory footnote, please first insert the text in the “Footnote list” sheet starting from number 1. Then in the data table please select the corresponding footnote reference number from the drop-down menu in the footnote column next to the value cell. The text you entered in the “Footnote list” sheet will then appear automatically next to the footnote reference number. The same explanatory footnote can be chosen for all the values for which the same explanation applies. If by mistake a number is chosen from the drop-down menu, it is sufficient to press the key delete to clean the cell.
C67: Please do not report footnotes that elaborate on e.g. source data and compilation methods; these are to be described in the quality report sheet.
C68: 4. Revisions
C70: For sending data revisions of previous years, please use this questionnaire changing the reference year in sheet GETTING STARTED
C73: 5. Methodology and questions:
C75: The guidelines to report on municipal waste are available on Eurostat website:
C76: https://ec.europa.eu/eurostat/web/waste/methodology
C78: The guidelines contain definitions, examples and recommendations to ensure data are compiled and maintained on consistent basis. They explain the scope and reasoning behind the terms of the tables, and provide extra information necessary to allow a consistent collection and interpretation of the data to be reported by countries. A great effort has been put into increasing coherence and providing guideline users with practical recommendations. Full implementation of these recommendations should help to ensure that data are compiled and maintained on a consistent basis.
C79: If you have questions, please send them to the following email addresses:
C80: =Lists!K18 -> ESTAT-WASTE-STATISTICS@EC.EUROPA.EU
C82: Annex: How to fill in the data sheets of the questionnaire
C84: 1) All mandatory data cells must be filled in with a value. In the questionnaire all these cells are uncoloured.
C85: 2) Flags (footnote symbols) can be entered in the reporting tables in the footnote columns.
C86: 3) To include standard footnotes use the drop-down menu.
C87: 4) The text of explanatory footnotes can be entered in the worksheet 'Footnotes list'.
C88: 5) Complete the quality reports, providing as much information as possible.

Sheet Methodology
F3: =UPPER(Lists!K3) -> STATISTICAL OFFICE OF THE EUROPEAN UNION
C4: =UPPER(Lists!K7) -> ANNUAL REPORTING OF MUNICIPAL WASTE - JOINT QUESTIONNAIRE EUROSTAT/OECD
C5: =CONCATENATE(Lists!K8," DATA COLLECTION") -> 2024 DATA COLLECTION
C7: METHODOLOGY AND LEGAL ACTS
C8: Table of contents
C9: 1. Background
C11: 1. Background
C14: The OECD/Eurostat questionnaires on the state of the environment are an attempt to set up worldwide coherent data collections on the main environmental issues. The OECD first established the data collection in 1980 and Eurostat joined the exercise in 1988. The United Nations Statistical Division (UNSD) set up environmental data collections that are on a more reduced scale but entirely compatible with the OECD/Eurostat Joint Questionnaire. The work on municipal waste statistics is covered by the European statistical programme 2021-27 (Regulation (EU) 2021/690).
C15: Guidance is provided in a document that can be found under the link below. The document not only includes guidance on how to fill in the data table but as well on how to fill in the quality report. The guidance will be improved and updated according to the experience gained with the data collections and according to new legislation still expected, e.g. a delegated act on average loss rates.
C19: The guidelines are available here:
C20: =Lists!K19 -> https://ec.europa.eu/eurostat/web/waste/methodology

Sheet Validation rules
F3: =UPPER(Lists!K3) -> STATISTICAL OFFICE OF THE EUROPEAN UNION
C4: =UPPER(Lists!K7) -> ANNUAL REPORTING OF MUNICIPAL WASTE - JOINT QUESTIONNAIRE EUROSTAT/OECD
C5: =CONCATENATE(Lists!K8," DATA COLLECTION") -> 2024 DATA COLLECTION
C7: VALIDATION RULES
C9: An automatic validation tool is provided along with this questionnaire. In order to launch the validation process, please use the button "Validate Questionnaire", placed on the top left corner of each reporting table.
C10: The validation process evaluates a list of predefined logical and arithmetic statements, such as "a value exists in this cell" or "A = A01+A02+A03". These predefined logical and arithmetic statements are called "Validation rules".
C11: When the criteria defined in a validation rule is not met, the validation process will issue a "positive" result (This is same terminology used for medical tests). This "positive" result can be an "error" or a "warning", and will be recorded in the ErrorLog sheet.
D12: A "warning" is an issue that requires the attention of the desk officer at Eurostat. It will be further analysed and it might trigger further questions to the data provider.
D13: An "error" is an issue that will trigger further question from Eurostat to the data provider and will very likely end with the request from Eurostat for a new data submission.
C14: The countries are kindly requested to launch the validation tool before submitting the questionnaire, and correct the errors highlighted in the ErrorLog sheet.
C15: Important facts to notice:
D16: Empty cells are accounted as 0 in the formulas defining aggregation of data (totals)
C17: The following validation rules are implemented by the validation tool:
C18: Table of contents
C19: 1. Mandatory data
C20: 2. Arithmetic rules
C21: 3. Explanatory footnotes
C24: 1. Mandatory Data:
C26: All the information requested in the sheet "GETTING STARTED" must be filled in.
C27: All the mandatory cells in table "Table 1 - JQ" must be filled-in. Otherwise the automatic validation process will issue an "error" in the ErrorLog sheet.
C28: If an explanatory footnote is added for a mandatory cell, as explained in Basic Instructions sheet (3.2), the automatic validation process will accept the reporting without filling the mandatory cells.
C30: 2. Arithmetic rules
C32: All reported values must be equal or bigger than 0 (positive values)
C33: "Municipal waste treated" must be equal to the sum of Recovery and Disposal.
... C42: When an explanatory footnote is referenced (by means of a number selected from a drop-down list), the referenced footnote must not be empty.

Sheet GETTING STARTED
G3: STATISTICAL OFFICE OF THE EUROPEAN UNION
C4: =UPPER(Lists!K7) -> ANNUAL REPORTING OF MUNICIPAL WASTE - JOINT QUESTIONNAIRE EUROSTAT/OECD
C5: =CONCATENATE(Lists!K8," DATA COLLECTION") -> 2024 DATA COLLECTION
C7: GETTING STARTED
C9: Please select your country (click on the white cell): | E9: Luxembourg | G9: =IF(E9="","",VLOOKUP(E9,Lists!A2:B42,2,FALSE)) -> LU
C10: Reference year: | E10: 2023
C11: =CONCATENATE("The due date for reporting is ",Lists!K10) -> The due date for reporting is 22 November 2024
C12: Who is the primary contact point for annual reporting of municipal waste in your country?
C14: Name: | D14: Thierry DECKER
C16: Institution: | D16: Administration de l'Environnement
C18: Unit: | D18: Unité Surveillance & Evaluation de l'Environnement - Inventaires et Statistiques
C20: Telephone: | D20: 00352 247 592 04
C22: Email adress: | D22: thierry.decker@aev.etat.lu
C23: Eurostat would be grateful if you could send us the completed questionnaire ahead of the deadline.

Sheet Footnotes list
E3: =UPPER(Lists!K3) -> STATISTICAL OFFICE OF THE EUROPEAN UNION
D4: =UPPER(Lists!K7) -> ANNUAL REPORTING OF MUNICIPAL WASTE - JOINT QUESTIONNAIRE EUROSTAT/OECD
D5: =CONCATENATE(Lists!K8," DATA COLLECTION") -> 2024 DATA COLLECTION
D7: EXPLANATORY FOOTNOTES
D8: =IF('GETTING STARTED'!E9="","",'GETTING STARTED'!E9) -> Luxembourg
D9: 1 | E9: Type your text here
D10: 2
D11: 3
D12: 4
D13: 5
D14: 6
D15: 7
D16: 8
D17: 9
D18: 10
D19: 11
D20: 12
D21: 13
... D58: 50

Sheet Table 1 - JQ
G2: Generation and treatment of municipal waste (Eurostat and OECD Joint Questionnaire) (in this questionnaire, please only report those parts of waste that fall under the definition of municipal waste)
F3: Country: | G3: =IF('GETTING STARTED'!E9="","",VLOOKUP('GETTING STARTED'!E9,Lists!A2:B42,2,FALSE)) -> LU
B4: TO HIDE | F4: Reference year: | G4: =IF('GETTING STARTED'!E10="","",'GETTING STARTED'!E10) -> 2023
B5: Source | C5: waste | D5: unit | F5: Municipal waste | G5: WST_OPER | H5: UNIT | I5: DATA | J5: Standard footnotes | K5: Explanatory footnote
B6: JQ | C6: TOTAL | D6: T | F6: Total municipal waste generated* | G6: GEN | H6: Tonnes | I6: 478331.64 | L6: =IF(TRIM(K6)="", "", IF(VLOOKUP(K6,'Footnotes list'!$D$9:$E$58,2,FALSE)=0,"",VLOOKUP(K6,'Footnotes list'!$D$9:$E$58,2,FALSE) ) )
B7: JQ | C7: TOTAL | D7: T | F7: Waste generated by households (OECD) | G7: GEN_HH | H7: Tonnes | I7: 333866.97 | L7: =IF(TRIM(K7)="", "", IF(VLOOKUP(K7,'Footnotes list'!$D$9:$E$58,2,FALSE)=0,"",VLOOKUP(K7,'Footnotes list'!$D$9:$E$58,2,FALSE) ) )
B8: JQ | C8: TOTAL | D8: T | F8: Waste generated by other sources (OECD) | G8: GEN_OTH | H8: Tonnes | I8: 144464.66 | L8: =IF(TRIM(K8)="", "", IF(VLOOKUP(K8,'Footnotes list'!$D$9:$E$58,2,FALSE)=0,"",VLOOKUP(K8,'Footnotes list'!$D$9:$E$58,2,FALSE) ) )
B9: JQ | C9: TOTAL | D9: T | F9: Separate collection (of total municipal waste generated) | G9: COL_SEP | H9: Tonnes | I9: 318945.26 | L9: =IF(TRIM(K9)="", "", IF(VLOOKUP(K9,'Footnotes list'!$D$9:$E$58,2,FALSE)=0,"",VLOOKUP(K9,'Footnotes list'!$D$9:$E$58,2,FALSE) ) )
B10: JQ | C10: TOTAL | D10: T | F10: Municipal waste treated (of the waste generated, no matter in which country)* | G10: TRT | H10: Tonnes | I10: 478331.64 | L10: =IF(TRIM(K10)="", "", IF(VLOOKUP(K10,'Footnotes list'!$D$9:$E$58,2,FALSE)=0,"",VLOOKUP(K10,'Footnotes list'!$D$9:$E$58,2,FALSE) ) )
B11: JQ | C11: TOTAL | D11: T | F11: Recovery | G11: RCV | H11: Tonnes | I11: 464652.32 | L11: =IF(TRIM(K11)="", "", IF(VLOOKUP(K11,'Footnotes list'!$D$9:$E$58,2,FALSE)=0,"",VLOOKUP(K11,'Footnotes list'!$D$9:$E$58,2,FALSE) ) )
B12: JQ | C12: TOTAL | D12: T | F12: Preparing for reuse | G12: PRP_REU | H12: Tonnes | I12: 0 | L12: =IF(TRIM(K12)="", "", IF(VLOOKUP(K12,'Footnotes list'!$D$9:$E$58,2,FALSE)=0,"",VLOOKUP(K12,'Footnotes list'!$D$9:$E$58,2,FALSE) ) )
B13: JQ | C13: TOTAL | D13: T | F13: Recycling - material | G13: RCY_M | H13: Tonnes | I13: 151513.19 | L13: =IF(TRIM(K13)="", "", IF(VLOOKUP(K13,'Footnotes list'!$D$9:$E$58,2,FALSE)=0,"",VLOOKUP(K13,'Footnotes list'!$D$9:$E$58,2,FALSE) ) )
B14: JQ | C14: TOTAL | D14: T | F14: of which Metal recycling from incineration bottom ash | G14: RCY_M_IBA | H14: Tonnes | I14: 2764.8331 | L14: =IF(TRIM(K14)="", "", IF(VLOOKUP(K14,'Footnotes list'!$D$9:$E$58,2,FALSE)=0,"",VLOOKUP(K14,'Footnotes list'!$D$9:$E$58,2,FALSE) ) )
B15: JQ | C15: TOTAL | D15: T | F15: Recycling - composting and digestion | G15: RCY_C_D | H15: Tonnes | I15: 118838.88 | L15: =IF(TRIM(K15)="", "", IF(VLOOKUP(K15,'Footnotes list'!$D$9:$E$58,2,FALSE)=0,"",VLOOKUP(K15,'Footnotes list'!$D$9:$E$58,2,FALSE) ) )
B16: JQ | C16: TOTAL | D16: T | F16: of which Separate collection and recycling of biowaste at source - e.g. home composting | G16: COL_SEP_RCY_S | H16: Tonnes | I16: 6864.2043 | L16: =IF(TRIM(K16)="", "", IF(VLOOKUP(K16,'Footnotes list'!$D$9:$E$58,2,FALSE)=0,"",VLOOKUP(K16,'Footnotes list'!$D$9:$E$58,2,FALSE) ) )
B17: JQ | C17: TOTAL | D17: T | F17: Recovery - energy recovery (R1)* | G17: RCV_E | H17: Tonnes | I17: 194300.25 | L17: =IF(TRIM(K17)="", "", IF(VLOOKUP(K17,'Footnotes list'!$D$9:$E$58,2,FALSE)=0,"",VLOOKUP(K17,'Footnotes list'!$D$9:$E$58,2,FALSE) ) )
... B23: JQ | C23: TOTAL | D23: PC | F23: Coverage of the collection system (share of population covered by the data) | G23: COV | H23: % | I23: 100 | L23: =IF(TRIM(K23)="", "", IF(VLOOKUP(K23,'Footnotes list'!$D$9:$E$58,2,FALSE)=0,"",VLOOKUP(K23,'Footnotes list'!$D$9:$E$58,2,FALSE) ) )
F24: *Mandatory from reference year 2020 onwards for Reporting obligations according to Commission Implementing Decisions 2019/1004 and 2019/1885
F26: Cell shading:
F27: White: Data provision is required.
F28: Light orange: Footnotes (only to be filled-in when relevant)
F29: Green: Variable collected only from OECD countries
F30: NOTES: The approach to producing the statistics, particularly the definition of municipal waste and recycling, should be aligned with the new reporting rules under the WFD (as set out in the guidance document and described in detail in its Annexes). Note, the grey cells sum relevant parameters automatically in the sheet. Waste generated by households and by other sources add up to total municipal waste generated. The variable separate collection is a subset of total municipal waste generated. The waste treatment operations and related codes are indicated in the first two columns. Note that Preparation for reuse, Recycling - material, Recycling - composting and digestion, Recovery - energy recovery (R1) and Recovery - other are subsets of total Recovery. Metal recycling from incineration bottom ash is a subset of material recycling. Separate collection and recycling of biowaste at source - e.g. home composting is a subset of Composting and digestion. Total Disposal contains the subsets Disposal - incineration (D10), Disposal - landfill (D1, D5, D12) and Disposal - other (D2-D4, D6-D7).
F31: DEFINITIONS OF VARIABLES
F32: • ‘bio-waste’ means biodegradable garden and park waste, food and kitchen waste from households, offices, restaurants, wholesale, canteens, caterers and retail premises; • ‘separate collection’ means the collection where a waste stream is kept separately by type and nature so as to facilitate a specific treatment; • ‘treatment’ means recovery or disposal operations; • ‘recovery’ means any operation the principal result of which is waste serving a useful purpose by replacing other materials which would otherwise have been used to fulfil a particular function, or waste being prepared to fulfil that function, in the plant or in the wider economy. Annex II of Directive 2008/98/EC on waste sets out a non-exhaustive list of recovery operations; • ‘preparing for re-use’ means checking, cleaning or repairing recovery operations, by which products or components of products that have become waste are prepared so that they can be re-used without any other pre-processing. For example, furniture, objects, books, clothes, electric and electronic devises prepared (by means of repairing or refurbishing operations) to be reintroduced in the market; • ‘recycling’ means any recovery operation by which waste materials are reprocessed into products, materials or substances whether for the original or other purposes. It includes the reprocessing of organic material but does not include energy recovery and the reprocessing into materials that are to be used as fuels or for backfilling operations; • ‘disposal’ means any operation which is not recovery even where the operation has as a secondary consequence the reclamation of substances or energy. Annex I of Directive 2008/98/EC sets out a non-exhaustive list of disposal operations;

Sheet QR Table 1 - JQ
A1: Municipal Waste Quality report - Table 1 - JQ
A3: I General information
A4: 2.1. Member State
A5: 2.2. Organisation submitting the data and the description
A6: 2.3. Contact person/contact details
A7: 2.4. Reference year
A8: 2.5. Delivery date / version
A10: Information on municipal waste
A11: 1.Generation of Municipal Waste
A12: 1.1 Municipal waste data collection: Please indicate the data sources (please mark each source used with an x).
B14: Written surveys
B15: Administrative data
B16: Data collected from waste treatment facilities
B17: Data collected from municipalities
B18: Other, please specify
A19: In case municipal waste data is collected by a survey, please indicate the response rate
A20: 1.2 Data coverage
A21: a) the data presented refer to amounts of waste (please mark with an x)
B23: Generated
B24: Collected
A26: b) In case the total population is not covered by a municipal waste collection, do you include an estimate for the amount of municipal waste generated by the un-covered population in your figure on municipal waste generation?
A27: If yes answer c), if no answer d)
A28: c) If yes, please provide the following information:
A29: c1) Amount of municipal waste collected (tonnes)
A31: c2) How do you determine the un-covered population (number of residents / number of households / others) and how do you estimate the amount of waste generated?
A33: d) If No, why is this estimate missing?
A35: 1.3 Please provide in a more general way the following information:
A36: a) The data presented refer to tonnes of waste originating from
C38: tonnes
B39: households
B40: commerce and trade, small businesses, office buildings, institutions
B41: municipal services, i.e. street and market cleaning, yard waste, litter containers
B42: other (please describe)
A44: b) The data presented refer to tonnes of
C46: tonnes
B47: household and similar waste
B48: bulky waste
B49: other
A51: c) Please describe in more detail the composition and sources of household/municipal waste by ticking the relevant cells in the table at the end of this document. If you are able to estimate the share of municipal waste coming from households we would be grateful if you could provide the percentage (Note that we are aware of the involved difficulties):
A53: 1.4 Please explain how the distinction between municipal waste and production waste is made for packaging waste collected from businesses.
A55: 1.5 Please explain significant methodological changes in your municipal waste data collection compared to the data delivery of last year, if any (please include in particular retrospective revisions, their nature and whether a break-flag is required for a certain year):
A57: 2. Treatment of municipal waste:
A58: Please provide information on the classification used for treatment operations (if a standard classification is used, just refer to its name, else please specify the available categories (in this case, you may attach a file containing a list of these categories):
A60: 2.1 Temporary storage may lead to time lags between waste generation and treatment. This may explain imbalances between generation and treatment reported in a given year. Does temporary storage exist in your country to what extent (share of national waste generation in %):
A62: Did temporary storage exist in your country in former reference years Yes / No If yes, please provide information on the extent (ref year / share in %) and the (most important) way of treatment after storage: (share of national waste generation in %):
A64: 2.2 Reporting on municipal waste treatment is broken down into four treatment operations. In case of pre-treatment (Sorting process - SP; Mechanical-Biological treatment - MBT), the reporting of the respective amounts should ideally be based on the destination of the output of the pre-treatment. a) Please state to which of the four treatment categories the reported amounts are assigned and whether input data or output data of the pre-treatment processes are reported.
A66: Please mark the boxes with an x, if the following pre-treatment processes exist in your country (you may provide a comment on the relevance of these treatments or other issues):
B68: SP | D68: (comment)
B69: MBT | D69: (comment)
A70: (If yes, please mark the relevant cell(s) with a cross)
B72: Possible assignments | D72: SP | F72: MBT
D73: input | E73: output | F73: input | G73: output
B74: a) Landfill
B75: b) Incineration (with or without energy recovery)
B76: c) Recycling
B77: d) Composting
A79: b) If data are based on input, please provide information / an estimation of the share of sorting residues from the pre-treatment operations and the share of the actually recycled amount (recycling efficiency):
A81: c) Based on the information provided on the classification of treatment above, please list the codes / categories used to collect data and the approximate amounts for
A83: SP
A84: MBT
A86: 2.3 Please describe the data validation process:
A88: 2.4 Has municipal waste or separately collected fractions of municipal waste been sent to /from a Member State of the EU (please, mark with an x)?
B89: Export
B90: Import
A91: If yes, how have the reuse and recycling rates for these amounts been derived and monitored/validated?
A93: 2.5 Has municipal waste or separately collected fractions of municipal waste been sent to /from countries outside of the European Union (please, mark with an x)?
B94: Export
B95: Import
A96: If yes, how have the reuse and recycling rates for these amounts been derived and monitored/validated?
A98: 2.6 As a summary of the above answers, please specify by using tick marks below. The data presented refer to the amounts of waste
C100: tonnes
B101: collected in the country
B102: collected minus exported
B103: collected plus imported
B104: to be managed in the country, i.e. amounts collected plus imported amounts minus exported amounts
A105: Comment:
A106: 2.7 Is the energy efficiency criterion for the differentiation of R1 and D10 according to the WFD implemented in your municipal waste data?
A107: Yes/No
A108: If the energy efficiency criterion is implemented, please state the first reference year from which the implementation of the criterion is in place:
A110: If the energy efficiency criterion is NOT implemented, please state, for which reference year the first implementation is envisaged:
A112: Table 1: Municipal waste materials and relevant sources related to section 1.3 c), please mark the relevant cell(s) with an x
A113: Waste materials | B113: List of Waste code Com. Dec. 2000/532/EC | D113: Generated by
D114: Households | G114: Small enterprises/ Restaurants, etc | I114: Office buildings/ institutions | K114: Public Services | M114: Others
M115: (please specify)
B116: Chap 20 | D116: Chap 20 | F116: Chap 15 | G116: Ch 20 | H116: Ch 15 | I116: Ch 20 | J116: Ch 15 | K116: Ch 20 | L116: Ch 15 | M116: Ch 20 | N116: Ch 15
A117: Paper and cardboard | B117: 20 01 01
A118: Metals | B118: 20 01 40
A119: Plastic | B119: 20 01 39
A120: Glass | B120: 20 01 02
A121: Wood | B121: 20 01 38
A122: Textiles | B122: 20 01 10, 20 01 11
A123: Mixed municipal waste / mixed packaging | B123: 20 03 01
A124: Waste from markets | B124: 20 03 02
A125: Bulky waste | B125: 20 03 07
A126: Biodegradable kitchen and canteen waste | B126: 20 01 08, 20 01 25 | E126: Including home-
E127: composting?
E128: yes….. / no….
A129: Biodegradable garden and park waste | B129: 20 02 01 | E129: Including home-
E130: composting?
E131: yes …. / no….
...

Sheet ErrorLog
A1: Link to Error | B1: Validation Rule | C1: Cell | D1: Sheet | E1: Description | F1: Severity | G1: Former Color

Sheet Lists
A1: Country label | B1: Country code | D1: Valid flags | E1: Label | G1: Calculation methods | J1: Textual variables | K1: String | M1: WASTE-2024-DC
A2: Belgium | B2: BE | D2: B | E2: break in time series | H2: <= Select the calculation method here | J2: Institutional names
A3: Bulgaria | B3: BG | D3: E | E3: estimated data | G3: 1 | H3: Preparation for reuse and recycling of paper, metal, plastic and glass household waste | J3: Eurostat Text | K3: Statistical Office of the European Union
A4: Czechia | B4: CZ | D4: P | E4: provisional | G4: 2 | H4: Preparation for reuse and recycling of paper, metal, plastic, glass household waste and other single types of household waste or similar waste | J4: Directorate Text | K4: Directorate E: Sectoral and regional statistics
A5: Denmark | B5: DK | D5: BE | G5: 3 | H5: Preparation for reuse and recycling of household waste | J5: Unit Text | K5: Unit E-2: Environmental statistics and accounts; sustainable development
A6: Germany | B6: DE | D6: BP | G6: 4 | H6: Preparation for reuse and recycling of municipal waste | J6: Data collection information
A7: Estonia | B7: EE | D7: EP | J7: Data Collection Text | K7: Annual reporting of Municipal waste - Joint Questionnaire Eurostat/OECD
A8: Ireland | B8: IE | D8: BEP | J8: Data Collection Year | K8: 2024
A9: Greece | B9: EL | J9: Launching date | K9: 24 October 2024
A10: Spain | B10: ES | J10: Submission deadline | K10: 22 November 2024
A11: France | B11: FR | J11: EDAMIS data
A12: Croatia | B12: HR | J12: Domain name | K12: WASTE
A13: Italy | B13: IT | J13: Dataset name | K13: WASTE_MWJQDAT_A | M13: WASTE-2023-DC
A14: Cyprus | B14: CY | J14: Web page | K14: https://cros.ec.europa.eu/book-page/how-request-support-edamis
A15: Latvia | B15: LV | J15: Functional e-mail | K15: ESTAT-DATA-METADATA-SERVICES@ec.europa.eu
A16: Lithuania | B16: LT | J16: E2 information
A17: Luxembourg | B17: LU | J17: Telephone | K17: (+352) 4301 33213
A18: Hungary | B18: HU | J18: Contact | K18: ESTAT-WASTE-STATISTICS@EC.EUROPA.EU
A19: Malta | B19: MT | J19: Methodology URL | K19: https://ec.europa.eu/eurostat/web/waste/methodology
A20: Netherlands | B20: NL | J20: Legislation URL | K20: https://ec.europa.eu/eurostat/web/waste/legislation
A21: Austria | B21: AT
A22: Poland | B22: PL
A23: Portugal | B23: PT
A24: Romania | B24: RO
A25: Slovenia | B25: SI
A26: Slovakia | B26: SK
A27: Finland | B27: FI
A28: Sweden | B28: SE
A29: Iceland | B29: IS
A30: Liechtenstein | B30: LI
A31: Norway | B31: NO
A32: Switzerland | B32: CH
... A42: Ukraine | B42: UA

Sheet MacroBehaviour
A1: COMMON TO ALL (OR MOST) QUESTIONNAIRE | E1: SPECIFIC TO THIS QUESTIONNAIRE
A2: Parameter | B2: Value | C2: (Valid values) | E2: Parameter | F2: Value | G2: (Valid values)
A3: DevelopementMode | B3: FALSE | C3: TRUE (during development) FALSE (For real reporting and testing)

Sheet Changelog
A1: Changed by | B1: SheetName | C1: Cell | D1: Change | E1: Version | F1: Date | G1: REMARKS
A2: CC | B2: ALL | D2: Split from previous integrated Municipal Waste questionnaire | E2: 1 | F2: 45222

Sheet Summations
A1: Severity | B1: Sheet Name | C1: List of Cells (first block) | D1: First Total Cell (first block) | E1: Last Total Cell (Last block) | F1: Row Block Repetition Step | G1: Column Block Repetition Step | H1: Greater or Equal | I1: Valid Tolerance | J1: Only if all data is available | K1: Non compliance Is Valid If Footnote Exists | L1: Footnote Shift From Value | M1: Display text in error
A2: Warning | B2: Table 1 - JQ | C2: I7,I8 | D2: I6 | E2: I6 | F2: 999 | G2: 999 | H2: EQ | I2: 0.1 | J2: NO | K2: NO | L2: 3 | M2: Total municipal waste generated not consistent with the sum of subcomponents (only for OECD countries).
A3: Warning | B3: Table 1 - JQ | C3: I11,I19 | D3: I10 | E3: I10 | F3: 999 | G3: 999 | H3: EQ | I3: 0.1 | J3: NO | K3: NO | L3: 3 | M3: "Municipal waste treated" not consistent with the sum of subcomponents (Recovery and Disposal).
A4: Warning | B4: Table 1 - JQ | C4: I12,I13, I15,I17,I18 | D4: I11 | E4: I11 | F4: 999 | G4: 999 | H4: EQ | I4: 0.1 | J4: NO | K4: NO | L4: 3 | M4: "Recovery" not consistent with the sum of subcomponents.
A5: Warning | B5: Table 1 - JQ | C5: I20,I21,I22 | D5: I19 | E5: I19 | F5: 999 | G5: 999 | H5: EQ | I5: 0.1 | J5: NO | K5: NO | L5: 3 | M5: "Disposal" not consistent with the sum of subcomponents
A6: Warning | B6: Table 1 - JQ | C6: I13 | D6: I14 | E6: I14 | F6: 999 | G6: 999 | H6: LT | I6: 0.1 | J6: NO | K6: NO | L6: 3 | M6: "Metal recycling from incineration bottom ash" must be smaller than "Recycling - material". If not, please provide clarifications.
A7: Warning | B7: Table 1 - JQ | C7: I15 | D7: I16 | E7: I16 | F7: 999 | G7: 999 | H7: LT | I7: 0.1 | J7: NO | K7: NO | L7: 3 | M7: "Separate collection and recycling of biowaste at source" must be smaller than "Recycling - composting and digestion". If not, please provide clarifications.
F8: Must be > 0 for a not relevant dimension. Else you get an infinite loop | H8: EQ or GE or GT or LT | I8: GT does not admit Tolerance | J8: NO or YES
A10: DESCRIPTION
A11: This sheet is meant to define the validation for summations in a row or in a column.
A12: - A block is defined as a sequence of addendums in the same row or column
A13: - Only the first block must be explicitly defined
A14: - The block can be repeated at regular patterns through rows and columns at the same time
A17: PARAMETRES
A18: SheetName | C18: Name of the sheet to be validated (e.g. Table 1)
A19: List of Cells (first block) | C19: First cell in the first block to be validated
A20: First TotalCell (first block)
A21: Last TotalCell (Last block)
A22: Row Block Repetition Step
A23: Column Block Repetition Step
A24: Greater or Equal
A25: Valid Threshold
A26: Only if all data is available
A27: Display text in error | C27: Valid values: EQ (Strictly equal); GE (Greater or Equal); GT (Strictly greater - No threshold will be considered)
D106: =SUM(Summations!B3º) -> #NAME?

Sheet Mandatory
A1: Severity | B1: SheetName | C1: Top Left Cell | D1: Bottom Right Cell | E1: Row Step | F1: Column Step | G1: Empty Is Valid If Footnote Exists | H1: Footnote Shift From Value
A2: Error | B2: GETTING STARTED | C2: E9 | D2: E10 | E2: 1 | F2: 999 | G2: NO | H2: 999 | I2: STANDARD FOR ALL QUESTIONNAIRES
A3: Error | B3: GETTING STARTED | C3: D14 | D3: D22 | E3: 2 | F3: 999 | G3: NO | H3: 999
A4: Warning | B4: Table 1 - JQ | C4: I6 | D4: I6 | E4: 999 | F4: 999 | G4: YES | H4: 3
A5: Warning | B5: Table 1 - JQ | C5: I10 | D5: I10 | E5: 999 | F5: 999 | G5: YES | H5: 3
A6: Warning | B6: Table 1 - JQ | C6: I17 | D6: I17 | E6: 999 | F6: 999 | G6: YES | H6: 3
A7: Warning | B7: Table 1 - JQ | C7: I18 | D7: I18 | E7: 999 | F7: 999 | G7: YES | H7: 3
A8: Warning | B8: Table 1 - JQ | C8: I20 | D8: I20 | E8: 999 | F8: 999 | G8: YES | H8: 3
A9: Warning | B9: Table 1 - JQ | C9: I21 | D9: I21 | E9: 999 | F9: 999 | G9: YES | H9: 3

Sheet MustNotBeNegative
A1: Severity | B1: SheetName | C1: TopLeftCell | D1: BottomRightCell | E1: RowStep | F1: ColumnStep
A2: Error | B2: Table 1 - JQ | C2: I6 | D2: I23 | E2: 1 | F2: 999

Sheet FootnoteContent
A1: Severity | B1: SheetName | C1: TopLeftCell | D1: BottomRightCell | E1: RowStep | F1: ColumnStep | G1: DistanceFromReferenceToText
A2: Error | B2: Table 1 - JQ | C2: K6 | D2: K23 | E2: 1 | F2: 999 | G2: 1

Sheet IsNumeric
A1: Severity | B1: SheetName | C1: TopLeftCell | D1: BottomRightCell | E1: RowStep | F1: ColumnStep
A2: Error | B2: Table 1 - JQ | C2: I6 | D2: I23 | E2: 1 | F2: 999 | I2: it is meant to check that there are numerical values
