Workbook

Sheet COVER
C3: =UPPER(Lists!K3) -> STATISTICAL OFFICE OF THE EUROPEAN UNION
C5: =Lists!K4 -> Directorate E: Sectoral and regional statistics
C6: =Lists!K5 -> Unit E-2: Environmental statistics and accounts; sustainable development
C7: =UPPER(Lists!K7) -> ANNUAL REPORTING OF PLASTIC OWN RESOURCES STATISTICAL DATA
C8: =CONCATENATE(Lists!K8," DATA COLLECTION") -> 2024 DATA COLLECTION
C9: =CONCATENATE("Launching date: ",Lists!K9) -> Launching date: 17 June 2024

Sheet INDEX
E3: =UPPER(Lists!K3) -> STATISTICAL OFFICE OF THE EUROPEAN UNION
C4: =UPPER(Lists!K7) -> ANNUAL REPORTING OF PLASTIC OWN RESOURCES STATISTICAL DATA
C5: =CONCATENATE(Lists!K8," DATA COLLECTION") -> 2024 DATA COLLECTION
C7: INDEX - STRUCTURE OF THE QUESTIONNAIRE
C9: I. Basic information
C10: TITLE | D10: DESCRIPTION | E10: TYPE
C11: Index | D11: Structure of the questionnaire | E11: for information
C12: Basic instructions | D12: Basic instructions | E12: for reading before filling in the questionnaire
C13: Validation rules | D13: Validation rules | E13: for reading before filling in the questionnaire
C14: Methodology | D14: Explanatory notes and methodology | E14: for reading before filling in the questionnaire
C15: II. Reporting data (To be filled in by the country)
C16: TITLE | D16: DESCRIPTION | E16: TYPE
C17: GETTING STARTED | D17: Country and data collection definition. Declaration of methodology applied. Administrative data. | E17: for filling in
C18: DECL_POR | D18: Annex I - Table 1 Amount of non-recycled plastic packaging waste (kilograms) and Annex II - Table 1 Explanation of differences with data reported under Directive 94/62/EC (report only where applicable) | E18: for filling in
C19: POM_PRO | D19: Annex I - Table 3 (and, when applicable, Annex II table 2) of Section A: Plastic packaging waste generated - placed on the market Subsection A1: Plastic packaging waste generated – placed-on-the-market approach based on producer responsibility organisatio | E19: for filling in
C20: POM_OTH | D20: Annex I - Table 3 (and, when applicable, Annex II table 2) of Section A: Plastic packaging waste generated - placed on the market Subsection A2: Plastic packaging waste generated – placed-on-the-market approach based on data other than producer responsibi | E20: for filling in
C21: WCA | D21: Annex I - Table 3 (and, when applicable, Annex II table 2) of Section B: Plastic packaging waste generated – waste analysis approach | E21: for filling in
C22: BALANCE_GEN | D22: Annex I - Table 3 of Section C: Balancing decision | E22: for filling in
C23: RCY | D23: Annex I - Table 3 (and, when applicable, Annex II table 2) of Section D: Plastic packaging waste recycled | E23: for filling in

Sheet Basic Instructions
F3: =UPPER(Lists!K3) -> STATISTICAL OFFICE OF THE EUROPEAN UNION
C4: =UPPER(Lists!K7) -> ANNUAL REPORTING OF PLASTIC OWN RESOURCES STATISTICAL DATA
C5: =CONCATENATE(Lists!K8," DATA COLLECTION") -> 2024 DATA COLLECTION
C7: BASIC INSTRUCTIONS
C8: Before filling in the questionnaire please read carefully the instructions below. This EXCEL workbook is the questionnaire. Please do not delete or add rows in the questionnaire (except where instructed in the quality report tab).
C9: Table of contents
C10: 1. Data transmission
C11: 2. Reporting conventions
C12: 3. Methodology and questions
C13: Annex: How to fill in the data sheets of the questionnaire
C15: 1. Data transmission:
C17: The standard tool for the transmission of statistical data is the eDAMIS system. The system creates a secure environment for the transmission of data, it records all data submissions and acknowledges the data delivery. The eDAMIS system has been installed in the National Statistical Institutes.
C19: Please submit this questionnaire to Eurostat using the eDAMIS reporting system. Use the following details:
C20: Domain name: | D20: =Lists!K12 -> WASTE
C21: Dataset name: | D21: =Lists!K13 -> WASTE_PORSDAT_A
C23: Should you have any questions regarding data transmission, do not hesitate to contact your local eDAMIS coordinator or the Eurostat eDAMIS helpdesk at:
C24: web page: | D24: =Lists!K14 -> https://webgate.ec.europa.eu/edamis4
C25: e-mail address: | D25: =Lists!K15 -> ESTAT-DATA-METADATA-SERVICES@ec.europa.eu
C26: telephone: | D26: =Lists!K17 -> 0
C27: For methodological questions please contact:
C28: e-mail address: | D28: =Lists!K18 -> ESTAT-WASTE-STATISTICS@EC.EUROPA.EU
C30: 2. Reporting conventions:
C32: Reporting of zeroes and not available data must follow this convention:
C33: Description | D33: Symbol
C34: Real zero | D34: 0
C35: Not available | E35: (empty cell)
C37: 1. White shaded (uncoloured) boxes: Provision of data is mandatory
C38: 2. Blue font labelled boxes: provision of data is based on available information from additional adjustment (to be listed from bigger to smaller amount)
C39: 3. Grey shaded boxes: calculation is automatic; to manually input data in these cells, use command "Unlock formulas"
C40: 4. Dark grey shaded boxes: data from other sheets appearing only for information and not modifiable; these data must be modified in the corresponding input sheet
C41: 5. Light orange shaded boxes: provision of textual information required to explain the methodology for the calculation or the reason for a difference or a change compared to the previous year
C43: 3. Methodology and questions:
C45: The guidelines to report on plastic own resource are available in Circabc website:
C46: =Lists!K19 -> https://circabc.europa.eu/ui/group/63da2eca-69b7-4f51-9f71-a6b4d7519046/library/32b765b9-2c10-4be4-b861-e6e48b9aa9db?p=1&n=10&sort=modified_DESC
C48: The guidelines contain definitions, examples and recommendations to ensure data are compiled and maintained on consistent basis. They explain the scope and reasoning behind the terms of the tables, and provide extra information necessary to allow a consistent collection and interpretation of the data to be reported by countries. A great effort has been put into increasing coherence and providing guidelines with practical recommendations. Full implementation of these recommendations should help to ensure that data are compiled and maintained on a consistent basis.
C49: A summary methodology is presented in this questionnaire, in the sheet named Methodology. It is essential to read this sheet before filling in the questionnaire as it contains, beside the summary methodology, important information on priorities for filling in the tables, data sources and hints for establishing a methodology at national level.
C50: If you have questions, please send them to the following email address:
C51: =Lists!K18 -> ESTAT-WASTE-STATISTICS@EC.EUROPA.EU
C52: Annex: How to fill in the data sheets of the questionnaire
C54: In sheet "GETTING STARTED" it is mandatory to choose the types of methodologies applied. As a default, placed-on-the-market approach based on producer responsibility organisations’ data (sheet POM_PRO for Annex I table 3 section A1) and waste analysis approach (sheet WCA for Annex I table 3 section B) will appear selected and the corresponding sheet will appear. Country must express their choices by selecting the applicable radio button choice and check box choice; at least one methodology must be chosen between the POM and WCA methodologies. Please, be aware that only the selected files according to your choices in sheet getting started will be transmitted to Eurostat; when you save the file, a function will automatically delete the data in the hidden sheet, so that these information will not be transmitted to the production database.
...

Sheet Methodology
F3: =UPPER(Lists!K3) -> STATISTICAL OFFICE OF THE EUROPEAN UNION
C4: =UPPER(Lists!K7) -> ANNUAL REPORTING OF PLASTIC OWN RESOURCES STATISTICAL DATA
C5: =CONCATENATE(Lists!K8," DATA COLLECTION") -> 2024 DATA COLLECTION
C7: METHODOLOGY AND LEGAL ACTS
C8: Table of contents
C9: 1. Background
C10: 2. Legal acts
C11: 3. Data reporting - questionnaire
C12: 4. Recommendations
C14: 1. Background
C16: The Council of the European Union has adopted the Council Regulation 2021/770/EU on the calculation of the own resource based on plastic packaging waste that is not recycled, on the methods and procedure for making available that own resource, on the measures to meet cash requirements, and on certain aspects of the own resource based on gross national income. Commission Implementing Regulation (EU) 2023/595 establishes the form for the statement relating to the own resource based on non-recycled plastic packaging waste pursuant to Council Regulation (EU, Euratom) 2021/770.
C18: This reporting template allows Member States to report the statement relating to the own resource based on non-recycled plastic packaging waste pursuant to Council Regulation (EU, Euratom) 2021/770 according to Commission Implementing Regulation (EU) 2023/595 (mandatory from reference year 2021). This reporting template is referring to the statistical statement in Annex I Table 1 and Table 3 as well as to all the statements in Annex II of Commission Implementing Regulation (EU) 2023/595; this reporting template is not containing the financial statement in Annex I Table 2 of Commission Implementing Regulation (EU) 2023/595.
C20: The guidelines are available here:
C21: =Lists!K19 -> https://circabc.europa.eu/ui/group/63da2eca-69b7-4f51-9f71-a6b4d7519046/library/32b765b9-2c10-4be4-b861-e6e48b9aa9db?p=1&n=10&sort=modified_DESC
C23: 2. Legal acts
C25: Council Regulation 2021/770/EU on the calculation of the own resource based on plastic packaging waste that is not recycled, on the methods and procedure for making available that own resource, on the measures to meet cash requirements, and on certain aspects of the own resource based on gross national income.
C26: Commission Implementing Regulation (EU) 2023/595 establishes the form for the statement relating to the own resource based on non-recycled plastic packaging waste pursuant to Council Regulation (EU, Euratom) 2021/770.
C27: Directive (EU) 2018/852 of the European Parliament and of the Council of 30 May 2018 amending Directive 94/62/EC on packaging and packaging waste.
C28: Commission Implementing Decision (EU) 2019/665 of 17 April 2019 amending Decision 2005/270/EC establishing the formats relating to the database system pursuant to European Parliament and Council Directive 94/62/EC on packaging and packaging waste (notified under document C(2019) 2805).
C29: The legislation references are in the user guidance for reporting plastic own resource statement, available here:
C30: =Lists!K20 -> https://circabc.europa.eu/ui/group/63da2eca-69b7-4f51-9f71-a6b4d7519046/library/32b765b9-2c10-4be4-b861-e6e48b9aa9db?p=1&n=10&sort=modified_DESC
C32: 3. Data reporting - questionnaire
C34: This document assists Member States to report the statement relating to the own resource based on non-recycled plastic packaging waste in accordance to the Commission Implementing Regulation (EU) 2023/595. Detailed instructions can be found in the guidance document referred to above.
C35: The reporting shall cover a full calendar year.
C36: The basic instructions sheet consists of some information necessary for filling in this questionnaire correctly, like country codes, reference years, unit of measure, allowed symbols, metadata, footnotes, and transmission to Eurostat.
C37: The Commission Implementing Regulation (EU) 2023/595 requires Member States to submit to the Commission the statement relating to the own resource based on non-recycled plastic packaging waste according to these formats: - the statistical data in the annual statement shall follow the structure set out in table 1 of Annex I (article 4 point 1); these data have to be reported in questionnaire PORSDAT (the questionnaire dedicated to the statistical data); - the calculation of the amount of the own resource based on non-recycled plastic packaging waste in the annual statement shall be included in table 2 of Annex I (article 4 point 2); these data have to be reported in questionnaire PORFDAT (the questionnaire dedicated to the financial data). The statement for the first reporting year shall contain the data for 2021 (article 4 point 4)
C38: The Commission Implementing Regulation (EU) 2023/595 requires Member States to submit to the Commission any relevant information on: - the methodology on the calculation of the data reported in the explanation sections in Annex I Table 3 (article 3 from point 2 to point 6, article 4 point 3), mentioning also -- any measure taken to avoid double accounting, for instance redundancies of used data sources (surveys, databases, waste facilities operative reports...) -- any issue of undercoverage of the data sources (including an estimation of the undercoverage), -- any difference between the data obtained by the placed on the market and waste analysis measurments approaches (article 3 point 5) - the Member States must indicate in Annex II Table 1 (article 3 point 6c) any discrepancies with the plastic packaging waste levels reported under Directive 94/62/EC - the Member States must indicate any methodological changes as well as any revisions of previously reported statistical data in Annex II Table 2 (article 3 points 6a and 6b). Whenever applicable, these information have to be provided in questionnaire PORSDAT.
C39: 4. Recommendations
C40: Please send the best estimate you can by 31 July, this also means extrapolating data for the previous year with auxiliary information or other provisional estimation techniques. The data submitted on 31 July constitutes the official submission of the country statement for the plastic own resource. If the first delivery happens after 31 July, economic penalties (interest) might apply. Revisions can be sent at any time, but please bear in mind that Eurostat will process them only when possible. Data transmitted as soon as possible and before the October SPPW meeting are preferable because the annual SPPW opinion will also refer to those data. Eurostat will validate the data and hand it over to DG Budget for the budget procedures by the end of October.

Sheet Validation rules
F3: =UPPER(Lists!K3) -> STATISTICAL OFFICE OF THE EUROPEAN UNION
C4: =UPPER(Lists!K7) -> ANNUAL REPORTING OF PLASTIC OWN RESOURCES STATISTICAL DATA
C5: =CONCATENATE(Lists!K8," DATA COLLECTION") -> 2024 DATA COLLECTION
C7: VALIDATION RULES
C8: Table of contents
C9: 1. Mandatory data
C10: 2. Arithmetic rules
C13: 1. Mandatory Data:
C15: First, all the information requested in the sheet "GETTING STARTED" must be filled in before any other sheet.
C16: In sheet "GETTING STARTED" it is mandatory to choose the types of methodologies applied. As a default, placed-on-the-market approach based on producer responsibility organisations’ data (sheet POM_PRO for Annex I table 3 section A1) and waste analysis approach (sheet WCA for Annex I table 3 section B) will appear selected and the corresponding sheet will appear. Country must express their choices by selecting the applicable radio button choice and check box choice; at least one methodology must be chosen between the POM and WCA methodologies. Please, be aware that only the selected files according to your choices in sheet getting started will be transmitted to Eurostat; when you save the file, a function will automatically delete the data in the hidden sheet, so that these information will not be transmitted to the production database.
C17: Then, these completeness checks apply:
D18: All visible sheet | E18: All disaggregated white mandatory cells and the light grey formula cells need to have a numeric value and must be filled in | F18: An Error severity message will appear in case of a non numerical value or an empty cell
D19: Any adjustments cells (blue font) | E19: If an adjustment cell has a value different from 0 or is not empty: an explanatory footnote for the adjustment methodology is required | F19: An Error severity message will appear in case of a non numerical value or an empty cell
D20: Completeness checks - Table 1 - DECL_POR - numeric values | E20: All disaggregated data and TOTAL need to have a numeric value | F20: An Error severity message will appear in case of a non numerical value or an empty cell
D21: Completeness checks - Table 1 - DECL_POR - explanations | E21: If the difference (column Amount of the difference (kg) **) is different from 0, explanatory footnote must be filled in | F21: An Error severity message will appear in case of a non numerical value or an empty cell
D22: Completeness checks - Table 3 Section A1 - POM_PRO - mandatory numeric values | E22: If this methodology is chosen: the indicators "Placed on the market based on producer responsibility organisations’ data prior to any adjustment" and "Total plastic packaging waste generated – placed-on-the-market approach *" must have a numeric value higher than 0 | F22: An Error severity message will appear in case of a non numerical value or an empty cell
D23: Completeness checks - Table 3 Section A2 - POM_OTH - mandatory numeric values | E23: If this methodology is chosen: the indicators "Placed-on-the-market based on data other than producer responsibility organisations’ - prior to any adjustment" and "Total plastic packaging waste generated – placed-on-the-market approach *" must have a numeric value higher than 0 | F23: An Error severity message will appear in case of a non numerical value or an empty cell
D24: Completeness checks - Table 3 Section B - WCA - mandatory numeric value | E24: If this methodology is chosen: the indicator "Total plastic packaging waste generated – waste analysis approach *" must have a numeric value higher than 0 | F24: An Error severity message will appear in case of a non numerical value or an empty cell
D25: Completeness checks - Table 3 Section C - BALANCE_GEN - mandatory numeric value and explanation | E25: for indicator "Balanced amount (as reported in table 1) * : Total plastic packaging waste generated" the numerical value cell must have a value higher than 0 and the methodology explanation must be filled in (informative and complete) | F25: An Error severity message will appear in case of a non numerical value or an empty cell
D26: Completeness checks - Table 3 Section D - RCY - mandatory numeric value | E26: The indicator "Total plastic packaging waste recycled (*) (**)" must have a numeric value higher than 0 | F26: An Error severity message will appear in case of a non numerical value or an empty cell
C28: 2. Arithmetic rules
D30: Integrity checks -- Table 1 - DECL_POR - aggregates of "A. Total plastic packaging waste generated" and "B. Total plastic packaging waste recycled" | E30: the two TOTALs must match the arithmetical operation of the disaggregated values: A. Total plastic packaging waste generated B. Total plastic packaging waste recycled | F30: An Error severity message will appear in case of a non numerical value or an empty cell
D31: Integrity checks -- Table 1 - DECL_POR - indicator "A. Total plastic packaging waste generated" and Table 3 Section C - BALANCE_GEN - indicator "Balanced amount (as reported in table 1) * : Total plastic packaging waste generated" | E31: the two values Table 1 - DECL_POR - indicator "A. Total plastic packaging waste generated" and Table 3 Section C - BALANCE_GEN - indicator "Balanced amount (as reported in table 1) * : Total plastic packaging waste generated" must be the same Note: please be aware that the error link in sheet ErrorLog is pointing to cell G08 of sheet DECL_POR (as this is the statement declaration) but you must check also the value in cell G11 of sheet BALANCE_GEN | F31: An Error severity message will appear in case of a non numerical value or an empty cell
D32: Integrity checks -- Table 1 - DECL_POR - indicator "B. Total plastic packaging waste recycled" and Table 3 Section D - RCY - indicator "Total plastic packaging waste recycled (*) (**)" | E32: the two values Table 1 - DECL_POR - indicator "B. Total plastic packaging waste recycled" and Table 3 Section D - RCY - indicator "Total plastic packaging waste recycled (*) (**)" must be the same Note: please be aware that the error link in sheet ErrorLog is pointing to cell G09 of sheet DECL_POR (as this is the statement declaration) but you must check also the value in cell G33 of sheet RCY | F32: An Error severity message will appear in case of a non numerical value or an empty cell
C33: 3. Additional controls (not performed in the questionnaire)
D34: Validation checks (Eurostat) - Table 1 - DECL_POR - mandatory numeric values, Table 2 - FIN_POR - numeric values | E34: All the numeric values will be checked in between the two tables and towards PACK data as soon as at least two questionnaires are received. Inconsistencies must be resolved | F34: Eurostat will not accept questionnaires having calculation discrepancies between the statistical and the financial statement

Sheet GETTING STARTED
A1: 1
A2: TRUE
G3: =UPPER(Lists!K3) -> STATISTICAL OFFICE OF THE EUROPEAN UNION
C4: =UPPER(Lists!K7) -> ANNUAL REPORTING OF PLASTIC OWN RESOURCES STATISTICAL DATA
C5: =CONCATENATE(Lists!K8," DATA COLLECTION") -> 2024 DATA COLLECTION
C7: GETTING STARTED
C9: Please select your country (click on the white cell): | E9: Luxembourg | G9: =IF(E9="","",VLOOKUP(E9,Lists!A2:B40,2,FALSE)) -> LU
C10: Reference year: | E10: 2022
C12: Plastic packaging waste generated measurement according to this placed on the market methodology (Annex I Table 3 Section A):
C16: Plastic packaging waste generated measurement according to waste composition analysis (Annex I Table 3 Section B):
C19: =CONCATENATE("The due date for reporting is ",Lists!K10) -> The due date for reporting is 31 July 2024
C20: ="Who is the primary contact point for the data collection '" & Lists!K7&"' in your country?" -> Who is the primary contact point for the data collection 'Annual reporting of plastic own resources statistical data' in your country?
C22: Name: | D22: Tim Mirgain
C24: Institution: | D24: Administration de l'environnement
C26: Unit: | D26: Unité surveillance et évaluation de l'environnement
C28: Telephone: | D28: 40 56 56 322
C30: Email adress: | D30: tim.mirgain@aev.etat.lu
C31: Eurostat would be grateful if you could send us the completed questionnaire ahead of the deadline.

Sheet DECL_POR
H3: not to upload in MDT | I3: COMMENT_OBS
E4: ANNEX I: Statements relating to the own resource based on non-recycled plastic packaging waste ANNEX II: Explanations of differences as established by Commission Implementing Regulation (EU) 2023/595
E5: ="Country: " & 'GETTING STARTED'!$G$9&" - "&'GETTING STARTED'!$E$9 -> Country: LU - Luxembourg | G5: Annex I - Table 1 Amount of non-recycled plastic packaging waste (kilograms) | H5: Annex II - Table 1 Explanation of differences with data reported under Directive 94/62/EC (report only where applicable)
E6: ="Reference year: " & 'GETTING STARTED'!$E$10 -> Reference year: 2022
E7: Methodology code | G7: kg | H7: Amount of the difference (kg) ** | I7: Explanation (if applicable)
B8: geo | C8: ='GETTING STARTED'!G9 -> LU | E8: POR_GEN | F8: A. Total plastic packaging waste generated | G8: 23414368 | H8: 0 | I8: The data is based on the WCA | J8: =BALANCE_GEN!G11 -> 23414368 | K8: 0
B9: time | C9: ='GETTING STARTED'!E10 -> 2022 | E9: POR_RCY | F9: B. Total plastic packaging waste recycled | G9: 9024488 | H9: 0 | I9: The data is based on the WCA | J9: =RCY!G33 -> 9024488 | K9: 0
B10: unit | C10: KG | E10: POR_GEN_NRCY | F10: C. Total plastic packaging waste not recycled (A-B) | G10: =IF(TRIM(CONCATENATE(G8,G9))="","",G8-G9) -> 14389880 | H10: =IF(TRIM(CONCATENATE(H8,H9))="","",H8-H9) -> 0 | K10: 0
B11: source_table | C11: DECL_POR
E12: Notes:
E13: Cell shading:
E14: White: Data provision is mandatory
E15: Light grey: The calculation of data is automatic. Can be edited after unlocking the cell with the button "Unlock formulas".
E16: Light orange: Explanation (only to be filled-in when relevant)
E18: ( * ) Please remember that this formula is a subtraction. Recycling must be reported as positive integer.
E19: (**) Data reported on this statement minus data reported under Directive 94/62/EC. Here a negative number means that quantities declared under Directive 94/62/EC are higher than the quantities declared in this statement.

Sheet POM_PRO
F3: CUST_BREAKDOWN_LB | H3: COMMENT_OBS | I3: COLUMN TO HIDE in REFYEAR 2021 CHNG_METHOD
E4: ANNEX I: Statements relating to the own resource based on non-recycled plastic packaging waste as established by Commission Implementing Regulation (EU) 2023/595 Section A: Plastic packaging waste generated - placed on the market Subsection A1: Plastic packaging waste generated - placed-on-the-market approach based on producer responsibility organisations’ data | I4: ANNEX II: Explanations of differences as established by Commission Implementing Regulation (EU) 2023/595 Section A: Plastic packaging waste generated - placed on the market Subsection A1: Plastic packaging waste generated - placed-on-the-market approach based on producer responsibility organisations’ data
E5: ="Country: " & 'GETTING STARTED'!$G$9&" - "&'GETTING STARTED'!$E$9 -> Country: LU - Luxembourg | G5: Annex I - Table 3 Comprehensiveness of the estimates; control and verification measures | I5: Annex II - Table 2 Explanations of methodological changes as compared to the previous year (report only where applicable)
E6: ="Reference year: " & 'GETTING STARTED'!$E$10 -> Reference year: 2022
E7: Methodology code | G7: kg | H7: Explanation (if applicable) | I7: Explanation for methodological change (if applicable)
B8: geo | C8: ='GETTING STARTED'!G9 -> LU | E8: MKT_PRO | F8: Placed on the market based on producer responsibility organisations' data prior to any adjustment | G8: =13331000+8000000 -> 21331000 | H8: The EPR scheme for householdpackaging is currently creating a EPR scheme for non-household packaging and estimated the quantities of plastic packaging from non-household to 8.000T.
B9: time | C9: ='GETTING STARTED'!E10 -> 2022 | E9: MKT_MIN | F9: Producers below the threshold (de minimis) | G9: 0 | H9: There is no specific legal threshold. The EPR scheme may, at their discretion, exclude small companies. However, there is no estimated amount specified for these exclusions.
B10: unit | C10: KG | E10: MKT_S_C | F10: Self-compliers | G10: 0 | H10: there are no self-compliers for packaging waste
B11: source_table | C11: POM_PRO | E11: MKT_F_R | F11: Free-riders | G11: 0 | H11: not estimated
E12: MKT_EXP | F12: After-placed-on-the-market exports (-) | G12: 0
E13: MKT_ETRD | F13: Online trade | G13: 0 | H13: Somo of the online traders are members of the EPR scheme. There is no estimation of online trade from companies that are not members of the EPR scheme
E14: IMP_PRV | F14: Private imports (+) | G14: 1100000
E15: EXP_PRV | F15: Private exports (-) | G15: -1500000
E16: POR_FMKT_RE | F16: Reusable packaging placed on the market for the first time ** (-) | G16: 0
E17: GEN_REU | F17: Reusable packaging that became waste *** | G17: 0
E18: List of other adjustments made (if applicable): Please list in order of importance (start with the biggest amount)
F19: Name of adjustment and description | G19: kg | H19: Explanation (if applicable) | I19: Explanation for methodological change (if applicable)
E20: OAP_1 | J20: 0
E21: OAP_2 | J21: 0
E22: OAP_3 | J22: 0
E23: OAP_4 | J23: 0
E24: OAP_5 | J24: 0
E25: OAP_6 | J25: 0
E26: OAP_7 | J26: 0
E27: OAP_8 | J27: 0
E28: OAP_9 | J28: 0
E29: OAP_10 | J29: 0
E30: OAP_11 | J30: 0
E31: OAP_12 | J31: 0
... E39: OAP_20 | J39: 0
E40: POR_MKT | F40: Total plastic packaging waste generated - placed-on-the-market approach * | G40: =IF(TRIM(CONCATENATE(G8,G9,G10,G11,G12,G13,G14,G15,G16,G17,G20,G21,G22,G23,G24,G25,G26,G27,G28,G29,G30,G31,G32,G33,G34,G35,G36,G37,G38,G39))="","",SUM(SUM(G8:G17),SUM(G20:G39))) -> 20931000
G41: = IF(TRIM(CONCATENATE(G8,G9,G10,G11,G12,G13,G14,G15,G16,G17,G20,G21,G22,G23,G24,G25,G26,G27,G28,G29,G30,G31,G32,G33,G34,G35,G36,G37,G38,G39))="","",SUM(SUM(G8:G17),SUM(G20:G39)))
E43: Notes:
E44: Cell shading:
E45: White: Data provision is mandatory
E46: Light grey: The calculation of data is automatic. Can be edited after unlocking the cell with the button "Unlock formulas".
E47: Light orange: Explanation (only to be filled-in when relevant)
E49: ( * ) Please remember that the formula is summing positive values and subtracting negative values. Please remember to place the minus symbol "-" in front of the values you intend to subtract. We recommend to indicate in the label of the name of adjustment and description that you have introduced a negative amount by inserting at the end of the label the symbol (-)
E50: (**) To be deducted if reusable packaging is included in the total amount of packaging placed on the market or in any correction in this list.
E51: (***) Includes reusable packaging placed on the market for the first time and from preceding periods that became waste in this period

Sheet POM_OTH
F3: CUST_BREAKDOWN_LB | H3: COMMENT_OBS | I3: COLUMN TO HIDE in REFYEAR 2021 CHNG_METHOD
E4: ANNEX I: Statements relating to the own resource based on non-recycled plastic packaging waste as established by Commission Implementing Regulation (EU) 2023/595 Section A: Plastic packaging waste generated - placed on the market Subsection A2: Plastic packaging waste generated - placed-on-the-market approach based on data other than producer responsibility organisations’ | I4: ANNEX II: Explanations of differences as established by Commission Implementing Regulation (EU) 2023/595 Section A: Plastic packaging waste generated - placed on the market Subsection A2: Plastic packaging waste generated - placed-on-the-market approach based on data other than producer responsibility organisations’
E5: ="Country: " & 'GETTING STARTED'!$G$9&" - "&'GETTING STARTED'!$E$9 -> Country: LU - Luxembourg | G5: Annex I - Table 3 Comprehensiveness of the estimates; control and verification measures | I5: Annex II - Table 2 Explanations of methodological changes as compared to the previous year (report only where applicable)
E6: ="Reference year: " & 'GETTING STARTED'!$E$10 -> Reference year: 2022
E7: Methodology code | G7: kg | H7: Explanation (if applicable) | I7: Explanation for methodological change (if applicable)
B8: geo | C8: ='GETTING STARTED'!G9 -> LU | E8: MKT_PRO_OTH | F8: Placed-on-the-market based on data other than producer responsibility organisations' - prior to any adjustment
B9: time | C9: ='GETTING STARTED'!E10 -> 2022 | E9: PRD_STAT | F9: Production statistics
B10: unit | C10: KG | E10: FOR_TRD_STAT | F10: Foreign trade statistics
B11: source_table | C11: POM_OTH | E11: SPEC_SURV | F11: Specific surveys
E12: ER_ADC | F12: Electronic registry and administrative data communication
E13: IMP_PRV | F13: Private imports (+)
E14: EXP_PRV | F14: Private exports (-)
E15: List of other adjustments made (if applicable): Please list in order of importance (start with the biggest amount)
F16: Name of adjustment and description | G16: kg | H16: Explanation (if applicable) | I16: Explanation for methodological change (if applicable)
E17: OAP_1 | J17: 0
E18: OAP_2 | J18: 0
E19: OAP_3 | J19: 0
E20: OAP_4 | J20: 0
E21: OAP_5 | J21: 0
E22: OAP_6 | J22: 0
E23: OAP_7 | J23: 0
E24: OAP_8 | J24: 0
E25: OAP_9 | J25: 0
E26: OAP_10 | J26: 0
E27: OAP_11 | J27: 0
E28: OAP_12 | J28: 0
... E36: OAP_20 | J36: 0
E37: POR_MKT | F37: Total plastic packaging waste generated - placed-on-the-market approach * | G37: =IF(TRIM(CONCATENATE(G8,G9,G10,G11,G12,G13,G14,G17,G18,G19,G20,G21,G22,G23,G24,G25,G26,G27,G28,G29,G30,G31,G32,G33,G34,G35,G36))="","",SUM(SUM(G8:G14),SUM(G17:G36)))
G38: =IF(TRIM(CONCATENATE(G8,G9,G10,G11,G12,G13,G14,G17,G18,G19,G20,G21,G22,G23,G24,G25,G26,G27,G28,G29,G30,G31,G32,G33,G34,G35,G36))="","",SUM(SUM(G8:G14),SUM(G17:G36)))
E40: Notes:
E41: Cell shading:
E42: White: Data provision is mandatory
E43: Light grey: The calculation of data is automatic. Can be edited after unlocking the cell with the button "Unlock formulas".
E44: Light orange: Explanation (only to be filled-in when relevant)
E46: ( * ) Please remember that the formula is summing positive values and subtracting negative values. Please remember to place the minus symbol "-" in front of the values you intend to subtract. We recommend to indicate in the label of the name of adjustment and description that you have introduced a negative amount by inserting at the end of the label the symbol (-)

Sheet WCA
F3: CUST_BREAKDOWN_LB | H3: COMMENT_OBS | I3: COLUMN TO HIDE in REFYEAR 2021 CHNG_METHOD
E4: ANNEX I: Statements relating to the own resource based on non-recycled plastic packaging waste as established by Commission Implementing Regulation (EU) 2023/595 Section B: Plastic packaging waste generated - waste analysis approach | I4: ANNEX II: Explanations of differences as established by Commission Implementing Regulation (EU) 2023/595 Section B: Plastic packaging waste generated - waste analysis approach
E5: ="Country: " & 'GETTING STARTED'!$G$9&" - "&'GETTING STARTED'!$E$9 -> Country: LU - Luxembourg | G5: Annex I - Table 3 Comprehensiveness of the estimates; control and verification measures | I5: Annex II - Table 2 Explanations of methodological changes as compared to the previous year (report only where applicable)
E6: ="Reference year: " & 'GETTING STARTED'!$E$10 -> Reference year: 2022
E7: Methodology code | G7: kg | H7: Explanation (if applicable) | I7: Explanation for methodological change (if applicable)
B8: geo | C8: ='GETTING STARTED'!G9 -> LU | E8: WCA_COL_SEP | F8: Separately collected | G8: 9024488
B9: time | C9: ='GETTING STARTED'!E10 -> 2022 | E9: WCA_WST_MUN | F9: Municipal waste | G9: 10212438
B10: unit | C10: KG | E10: WCA_INDCOM | F10: Industrial and commercial waste | G10: 4177442 | I10: New waste composation analysis carried out of non-houshold packaging waste.
B11: source_table | C11: WCA | E11: List of other adjustments made (if applicable): Please list in order of importance (start with the biggest amount)
F12: Name of adjustment and description | G12: kg | H12: Explanation (if applicable) | I12: Explanation for methodological change (if applicable)
E13: OAW_1 | J13: 0
E14: OAW_2 | J14: 0
E15: OAW_3 | J15: 0
E16: OAW_4 | J16: 0
E17: OAW_5 | J17: 0
E18: OAW_6 | J18: 0
E19: OAW_7 | J19: 0
E20: OAW_8 | J20: 0
E21: OAW_9 | J21: 0
E22: OAW_10 | J22: 0
E23: OAW_11 | J23: 0
E24: OAW_12 | J24: 0
... E32: OAW_20 | J32: 0
E33: WCA | F33: Total plastic packaging waste generated - waste analysis approach * | G33: =IF(TRIM(CONCATENATE(G8,G9,G10,G13,G14,G15,G16,G17,G18,G19,G20,G21,G22,G23,G24,G25,G26,G27,G28,G29,G30,G31,G32))="","",SUM(SUM(G8:G10),SUM(G13:G32))) -> 23414368
G34: =IF(TRIM(CONCATENATE(G8,G9,G10,G13,G14,G15,G16,G17,G18,G19,G20,G21,G22,G23,G24,G25,G26,G27,G28,G29,G30,G31,G32))="","",SUM(SUM(G8:G10),SUM(G13:G32)))
E36: Notes:
E37: Cell shading:
E38: White: Data provision is mandatory
E39: Light grey: The calculation of data is automatic. Can be edited after unlocking the cell with the button "Unlock formulas".
E40: Light orange: Explanation (only to be filled-in when relevant)
E42: ( * ) Please remember that the formula is summing positive values and subtracting negative values. Please remember to place the minus symbol "-" in front of the values you intend to subtract. We recommend to indicate in the label of the name of adjustment and description that you have introduced a negative amount by inserting at the end of the label the symbol (-)

Sheet BALANCE_GEN
F3: CUST_BREAKDOWN_LB | H3: COMMENT_OBS
E4: ANNEX I: Statements relating to the own resource based on non-recycled plastic packaging waste as established by Commission Implementing Regulation (EU) 2023/595 Section C: Balancing decision
E5: ="Country: " & 'GETTING STARTED'!$G$9&" - "&'GETTING STARTED'!$E$9 -> Country: LU - Luxembourg | G5: Annex I - Table 3 Comprehensiveness of the estimates; control and verification measures
E6: ="Reference year: " & 'GETTING STARTED'!$E$10 -> Reference year: 2022
E7: Methodology code | G7: kg | H7: Explanation (if applicable)
B8: geo | C8: ='GETTING STARTED'!G9 -> LU | E8: POR_MKT | F8: Total plastic packaging waste generated - placed-on-the-market approach * | G8: =IF(SUM(POM_PRO!G40,POM_OTH!G37)=0,0,IF(AND(LEN(POM_PRO!G40)>0,LEN(POM_OTH!G37)>0),"Error",IF(LEN(POM_PRO!G40)>0,POM_PRO!G40,POM_OTH!G37))) -> 20931000
B9: time | C9: ='GETTING STARTED'!E10 -> 2022 | E9: WCA | F9: Total plastic packaging waste generated - waste analysis approach * | G9: =IF(LEN(WCA!G33)>0, WCA!G33,0) -> 23414368
B10: unit | C10: KG | E10: CALC | F10: Difference of the placed-on-the-market data and the waste analysis approach estimate | G10: =IF(TRIM(CONCATENATE(G8,G9))="","",G8-G9) -> -2483368
B11: source_table | C11: BALANCE_GEN | E11: POR_GEN | F11: Balanced amount as reported in table 1 * : Total plastic packaging waste generated | G11: =IF(TRIM(CONCATENATE(DECL_POR!G8,""))="","",DECL_POR!G8) -> 23414368 | H11: The WCA is considered to be more robust at every level compared to the POR method. The latter one still only has a rough estimate of non-household packaging. Furthermore a residual waste analysis was carried ouf for mixed non-household waste which has increased the reliability of the WCA approach. The data from the POR has only been to compare data with the WCA analysis. Once the EPR for non-houshold packaging is in place the data will improve and a balancing can be carried out. | J11: 0
E13: Notes:
E14: Cell shading:
E15: White: Data provision is mandatory
E16: Dark grey: non-modifiable data from sheets POM_PRO or POM_OTH and/or WCA and automatic formula calculating the difference. The values appear only for information.
E17: Light orange: Explanation (only to be filled-in when relevant)
E19: ( * ) Please remember that the amount declared here must match the amount declared in sheet DECL_POR cell G8 that correspond to the declaration in Table 1 of the total plastic packaging waste generated. By default, the formula shows the amount declared in sheet DECL_POR cell G8

Sheet RCY
F3: CUST_BREAKDOWN_LB | H3: COMMENT_OBS | I3: COLUMN TO HIDE in REFYEAR 2021 CHNG_METHOD
E4: ANNEX I: Statements relating to the own resource based on non-recycled plastic packaging waste as established by Commission Implementing Regulation (EU) 2023/595 Section D: Plastic packaging waste recycled | I4: ANNEX II: Explanations of differences as established by Commission Implementing Regulation (EU) 2023/595 Section D: Plastic packaging waste recycled
E5: ="Country: " & 'GETTING STARTED'!$G$9&" - "&'GETTING STARTED'!$E$9 -> Country: LU - Luxembourg | G5: Annex I - Table 3 Comprehensiveness of the estimates; control and verification measures | I5: Annex II - Table 2 Explanations of methodological changes as compared to the previous year (report only where applicable)
E6: ="Reference year: " & 'GETTING STARTED'!$E$10 -> Reference year: 2022
E7: Methodology code | G7: kg | H7: Explanation (if applicable) | I7: Explanation for methodological change (if applicable)
B8: geo | C8: ='GETTING STARTED'!G9 -> LU | E8: POR_RCY_NAT | F8: Plastic packaging waste recycled in the Member State | G8: 0
B9: time | C9: ='GETTING STARTED'!E10 -> 2022 | E9: POR_RCY_EU_FOR | F9: Plastic packaging waste recycled in another Member State | G9: 9024488
B10: unit | C10: KG | E10: POR_RCY_NEU | F10: Plastic packaging waste recycled outside of the EU | G10: 0
B11: source_table | C11: RCY | E11: List of other adjustments made (if applicable): Please list in order of importance (start with the biggest amount)
F12: Name of adjustment and description | G12: kg | H12: Explanation (if applicable) | I12: Explanation for methodological change (if applicable)
E13: OAR_1 | J13: 0
E14: OAR_2 | J14: 0
E15: OAR_3 | J15: 0
E16: OAR_4 | J16: 0
E17: OAR_5 | J17: 0
E18: OAR_6 | J18: 0
E19: OAR_7 | J19: 0
E20: OAR_8 | J20: 0
E21: OAR_9 | J21: 0
E22: OAR_10 | J22: 0
E23: OAR_11 | J23: 0
E24: OAR_12 | J24: 0
... E32: OAR_20 | J32: 0
E33: POR_RCY | F33: Total plastic packaging waste recycled (*) (**) | G33: =IF(TRIM(CONCATENATE(G8,G9,G10,G13,G14,G15,G16,G17,G18,G19,G20,G21,G22,G23,G24,G25,G26,G27,G28,G29,G30,G31,G32))="","",SUM(SUM(G8:G10),SUM(G13:G32))) -> 9024488
E35: Notes:
E36: Cell shading:
E37: White: Data provision is mandatory
E38: Light grey: The calculation of data is automatic. Can be edited after unlocking the cell with the button "Unlock formulas".
E39: Light orange: Explanation (only to be filled-in when relevant)
E41: ( * ) Please remember that the formula is summing positive values and subtracting negative values. Please remember to place the minus symbol "-" in front of the values you intend to subtract. We recommend to indicate in the label of the name of adjustment and description that you have introduced a negative amount by inserting at the end of the label the symbol (-)
E42: ( ** ) Please remember that the amount declared here must match the amont declared in sheet DECL_POR cell G9 that correspond to the declaration in Table 1 of the total plastic packaging waste recycled

Sheet ErrorLog
A1: Link to Error | B1: Validation Rule | C1: Cell | D1: Sheet | E1: Description | F1: Severity | G1: Former Color

Sheet Changelog
A1: Changed by | B1: SheetName | C1: Cell | D1: Change | E1: Version | F1: Date | G1: REMARKS
A2: CRE | B2: POM_OTH, Lists | C2: Sheet property | D2: visible: to set back to hidden | E2: 18/19/20m24 | F2: until 15-03-2024 | G2: to hide again at the moment of the release of ready to country
A3: CRE | B3: DECL_POR, POM_PRO, POM_OTH, WCA, BALANCE_GEN, RCY, Lists | C3: Sheet property | D3: password protection off, to be set back to on | E3: 18/19/20m24 | F3: until 15-03-2024 | G3: to set back password protection at the release of ready to country
A4: CRE | B4: POM_PRO, POM_OTH, WCA, RCY | C4: COLUMN I | D4: Set to visible, as from reference year 2022 methodological changes requires to be reported | E4: 18/19/20m24 | F4: until 15-03-2024 | G4: to set back password protection at the release of ready to country
A5: CRE | B5: POM_PRO, POM_OTH, WCA, RCY | C5: I4 and I5 | D5: adaptation of the text to fit the requirements in the legislation and readability | E5: 18/19/20m24 | F5: until 15-03-2024 | G5: to set back password protection at the release of ready to country
A6: CRE | B6: Changelog | C6: Sheet property | D6: visible: to set back to hidden/password protection off, to be set back to on | E6: 21m24 | F6: 45370 | G6: to hide again and to set back password protection at the moment of the release of ready to country
A7: CRE | B7: Lists | C7: A42 | D7: password changed according to the guideline in check list | E7: 21m24 | F7: 45370 | G7: to hide again at the moment of the release of ready to country
A8: CRE | B8: DECL_POR, POM_PRO, POM_OTH, WCA, RCY, BALANCE_GEN | C8: COLUMNS H and I | D8: (were applicable): width set to 100 | E8: 21m24 | F8: 45370 | G8: other width may be revised as well
A9: CRE | B9: Lists | C9: K8,K9, K10 | D9: adapted year param | E9: 22m24 | F9: 45372
A10: CRE | B10: All excluding SSS sheets | C10: Sheet property | D10: password changed according to the guideline in check list | E10: 22m24 | F10: 45372
A11: CRE | B11: POM_PRO, POM_OTH, WCA, RCY | C11: COLUMN I row 7 (and row | D11: change of the name of the column | E11: 22m24 | F11: 45372
A12: CDD | B12: sheet Lists and several macros | C12: Listst: cell A42 and cell M1 | D12: moving the password from cell A42 to M1, move of | E12: 22m01b | F12: 45397
A13: CRE | B13: Lists | C13: M1 | D13: password changed according to current year rules | E13: 23m01b | F13: 45412
A14: CRE | B14: Lists | C14: date of launch | D14: changed from 15 to 17 June - full check of what to do next and stat checklist procedure | E14: 24m01b | F14: 45453
A15: CRE | B15: several | C15: several | D15: getting started: new ref year + several adaptations to standards | E15: 25 to 29m01b | F15: 11 to 13/06/2024
A16: CRE | B16: GETTING STARTED | C16: E10 | D16: reference year set for 2022 | E16: 25m01b | F16: 45454
A17: CRE | B17: POM_PRO, POM_OTH, WCA, RCY | C17: COLUMN I row 7 (and rows 19/16/12/12) | D17: change of the name of the column | E17: 25 to 29m01b | F17: 11 to 13/06/2024
A18: CRE | B18: macro module Z01_POR_Tabs_Hider and delete content | C18: Sub ShowHide | D18: changed .Cells(42, 1) to .Cells(1, 13) | E18: 25 to 29m01b | F18: 11 to 13/06/2024
A19: CRE | B19: Checklist-all sheets | C19: checklist-all cells | D19: checklist procedure, were applicable according to internal official document | E19: 30m01b | F19: 45456 | G19: to be done annually
A20: CRE | B20: external links broken | C20: checklist-all cells | D20: external links broken according to checklist procedure, were applicable according to internal official document | E20: 30m01b | F20: 45456 | G20: to be done annually
A21: CRE | B21: Checklist-all sheets | C21: checklist-all cells | D21: finalisation of checklist, few adaptations in links to eDAMIS (cell linking still to old address) | E21: 31m01b | F21: 45457 | G21: to be done annually
A24: CRE | B24: Lists (specific) to do 2025 | C24: several cells of column D | D24: to doin case ther came up exceptions on specific adjustments: this requires a lot of checks of which are the codes uploaded and it requires to check through the MDT whether this could have consequences: the idea is to have the choice of the corresponding code available for pom oth in pom pro andd viceversa | E24: 18/19/20m24 | F24: until 15-03-2024 | G24: to hide again at the moment of the release of ready to country

Sheet Lists
A1: Country label | B1: Country code | D1: Valid flags (obs_status) | E1: Label | G1: Valid flags (obs_conf) | H1: Label | J1: Textual variables | K1: String | M1: WASTE-2024-DC
A2: Belgium | B2: BE | D2: E | E2: Estimated | J2: Institutional names
A3: Bulgaria | B3: BG | D3: P | E3: Provisional | J3: Eurostat Text | K3: Statistical Office of the European Union
A4: Czechia | B4: CZ | D4: EP | E4: Estimated, provisional | J4: Directorate Text | K4: Directorate E: Sectoral and regional statistics
A5: Denmark | B5: DK | J5: Unit Text | K5: Unit E-2: Environmental statistics and accounts; sustainable development
A6: Germany | B6: DE | J6: Data collection information
A7: Estonia | B7: EE | J7: Data Collection Text | K7: Annual reporting of plastic own resources statistical data
A8: Ireland | B8: IE | J8: Data Collection Year | K8: 2024
A9: Greece | B9: EL | J9: Launching date | K9: 17 June 2024
A10: Spain | B10: ES | J10: Submission deadline | K10: 31 July 2024
A11: France | B11: FR | J11: EDAMIS data
A12: Croatia | B12: HR | J12: Domain name | K12: WASTE
A13: Italy | B13: IT | J13: Dataset name | K13: WASTE_PORSDAT_A
A14: Cyprus | B14: CY | J14: Web page | K14: https://webgate.ec.europa.eu/edamis4
A15: Latvia | B15: LV | J15: Functional e-mail | K15: ESTAT-DATA-METADATA-SERVICES@ec.europa.eu
A16: Lithuania | B16: LT | J16: E2 information
A17: Luxembourg | B17: LU | J17: Telephone
A18: Hungary | B18: HU | J18: Contact | K18: ESTAT-WASTE-STATISTICS@EC.EUROPA.EU
A19: Malta | B19: MT | J19: Methodology URL | K19: https://circabc.europa.eu/ui/group/63da2eca-69b7-4f51-9f71-a6b4d7519046/library/32b765b9-2c10-4be4-b861-e6e48b9aa9db?p=1&n=10&sort=modified_DESC
A20: Netherlands | B20: NL | J20: Legislation URL | K20: https://circabc.europa.eu/ui/group/63da2eca-69b7-4f51-9f71-a6b4d7519046/library/32b765b9-2c10-4be4-b861-e6e48b9aa9db?p=1&n=10&sort=modified_DESC
A21: Austria | B21: AT
A22: Poland | B22: PL
A23: Portugal | B23: PT
A24: Romania | B24: RO
A25: Slovenia | B25: SI
A26: Slovakia | B26: SK
A27: Finland | B27: FI
A28: Sweden | B28: SE
A29: Wasteland | B29: WL

Sheet Lists (specific)
A1: Choice methodology frontpage | B1: Choice methodology associated formula | C1: CODE METH POM | D1: CODE METH POMSUBOPTIMAL OA | E1: MethDescrPOM | F1: List POM TABLE | G1: used default N in use Y
A2: PoM approach based on PROs data, including WCA and balancing method | C2: MKT_XPRO | D2: =CONCATENATE("OA_",C2) -> OA_MKT_XPRO | E2: Placed-on-the-market based on data other than producer responsibility organisations’ - prior to any adjustment | F2: A1 | G2: N
A3: PoM approach based on data from PROs and other than PROs data, including WCA and balancing method | C3: PROD_STAT | D3: =CONCATENATE("OA_",C3) -> OA_PROD_STAT | E3: Production statistics | F3: A1 | G3: N
A4: PoM approach based on data other than PROs data (in additive mode), including WCA and balancing method | B4: use the list of adjustments | C4: FOR_TRADE_STAT | D4: =CONCATENATE("OA_",C4) -> OA_FOR_TRADE_STAT | E4: Foreign trade statistics | F4: A1 | G4: N
A5: PoM approach based on data other than PROs data (in balanced mode), including WCA and balancing method | C5: SPEC_SUR | D5: =CONCATENATE("OA_",C5) -> OA_SPEC_SUR | E5: Specific surveys | F5: A1 | G5: N
A6: PoM approach based on data other than PROs data (in additive mode), excluding WCA | C6: ER_ADMDATA | D6: =CONCATENATE("OA_",C6) -> OA_ER_ADMDATA | E6: Electronic registry and administrative data communication | F6: A1 | G6: N
A7: PoM approach based on data other than PROs data (in balanced mode), excluding WCA | F7: A1 | G7: N | H7: uses existing cell-assigned OAP code
A8: Only WCA methodology | C8: MKT_PRO | D8: =CONCATENATE("OA_",C8) -> OA_MKT_PRO | E8: Placed on the market based on producer responsibility organisations’ data prior to any adjustment | F8: A2 | G8: N
C9: MKT_MIN | D9: =CONCATENATE("OA_",C9) -> OA_MKT_MIN | E9: Producers below the threshold (de minimis) | F9: A2 | G9: N
C10: MKT_S_C | D10: =CONCATENATE("OA_",C10) -> OA_MKT_S_C | E10: Self-compliers | F10: A2 | G10: N
C11: MKT_F_R | D11: =CONCATENATE("OA_",C11) -> OA_MKT_F_R | E11: Free-riders | F11: A2 | G11: N
C12: MKT_EXP | D12: =CONCATENATE("OA_",C12) -> OA_MKT_EXP | E12: After-placed-on-the-market exports (-) | F12: A2 | G12: N
C13: MKT_ETRADE | D13: =CONCATENATE("OA_",C13) -> OA_MKT_ETRADE | E13: Online trade | F13: A2 | G13: N
C14: POR_FMKT_RE | D14: =CONCATENATE("OA_",C14) -> OA_POR_FMKT_RE | E14: Reusable packaging placed on the market for the first time (-) | F14: A2 | G14: N
C15: GEN_WREU | D15: =CONCATENATE("OA_",C15) -> OA_GEN_WREU | E15: Reusable packaging that became waste | F15: A2 | G15: N
F16: A2 | G16: N | H16: uses existing cell-assigned OAP code

Sheet MacroBehaviour
A1: COMMON TO ALL (OR MOST) QUESTIONNAIRES | E1: SPECIFIC TO THIS QUESTIONNAIRE
A2: Parameter | B2: Value | C2: (Valid values) | E2: Parameter | F2: Value | G2: (Valid values)
A3: DevelopementMode | B3: FALSE | C3: TRUE (during development) FALSE (For real reporting and testing)

Sheet Locks
A1: Sheet Name | B1: Top Left Cell | C1: Bottom Right Cell | D1: Row Step | E1: Column Step | F1: Lock Type | G1: Focus Back To | H1: Content is Mandatory
A2: DECL_POR | B2: G10 | C2: G10 | D2: 999 | E2: 999 | F2: Formulas | G2: G8 | H2: YES
A3: DECL_POR | B3: H10 | C3: H10 | D3: 999 | E3: 999 | F3: Formulas | G3: G8 | H3: NO
A4: POM_PRO | B4: G40 | C4: G40 | D4: 999 | E4: 999 | F4: Formulas | G4: G8 | H4: YES
A5: POM_OTH | B5: G37 | C5: G37 | D5: 999 | E5: 999 | F5: Formulas | G5: G8 | H5: YES
A6: WCA | B6: G33 | C6: G33 | D6: 999 | E6: 999 | F6: Formulas | G6: G8 | H6: YES
A7: RCY | B7: G33 | C7: G33 | D7: 999 | E7: 999 | F7: Formulas | G7: G8 | H7: YES

Sheet ContentInHiddenSheets
A1: Severity | B1: SheetName | C1: Top Left Cell | D1: Bottom Right Cell | E1: Row Step | F1: Column Step | G1: Formula | H1: Formula mirror Range | I1: The formula mirror in the sheer must mirror the original range, including in-between cells. Only formulas will be relocked.
A2: Error | B2: POM_PRO | C2: G8 | D2: I17 | E2: 1 | F2: 1 | G2: NO
A3: Error | B3: POM_PRO | C3: G20 | D3: I39 | E3: 1 | F3: 1 | G3: NO
A4: Error | B4: POM_PRO | C4: H40 | D4: I40 | E4: 1 | F4: 1 | G4: NO
A5: Error | B5: POM_PRO | C5: G40 | D5: G40 | E5: 999 | F5: 999 | G5: YES | H5: G41:G41
A6: Error | B6: POM_OTH | C6: G8 | D6: I14 | E6: 1 | F6: 1 | G6: NO
A7: Error | B7: POM_OTH | C7: G17 | D7: I36 | E7: 1 | F7: 1 | G7: NO
A8: Error | B8: POM_OTH | C8: H37 | D8: I37 | E8: 1 | F8: 1 | G8: NO
A9: Error | B9: POM_OTH | C9: G37 | D9: G37 | E9: 999 | F9: 999 | G9: YES | H9: G38:G38
A10: Error | B10: WCA | C10: G8 | D10: I10 | E10: 1 | F10: 1 | G10: NO
A11: Error | B11: WCA | C11: G13 | D11: I32 | E11: 1 | F11: 1 | G11: NO
A12: Error | B12: WCA | C12: H33 | D12: I33 | E12: 1 | F12: 1 | G12: NO
A13: Error | B13: WCA | C13: G33 | D13: G33 | E13: 999 | F13: 999 | G13: YES | H13: G34:G34

Sheet Summations
A1: Severity | B1: Sheet Name | C1: List of Cells (first block) | D1: First Total Cell (first block) | E1: Last Total Cell (Last block) | F1: Row Block Repetition Step | G1: Column Block Repetition Step | H1: Greater or Equal | I1: Valid Tolerance | J1: Only if all data is available | K1: Non compliance Is Valid If Footnote Exists | L1: Footnote Shift From Value | M1: Display text in error
A2: Error | B2: DECL_POR | C2: J8 | D2: G8 | E2: G8 | F2: 999 | G2: 999 | H2: EQ | I2: 0.1 | J2: NO | K2: NO | L2: 2 | M2: Declaration in sheet BALANCE_GEN cell G11 for total generation of plastic packaging waste is different; check both the figures
A3: Error | B3: DECL_POR | C3: J9 | D3: G9 | E3: G9 | F3: 999 | G3: 999 | H3: EQ | I3: 0.1 | J3: NO | K3: NO | L3: 2 | M3: Declaration in sheet RCY cell G33 for total recycled plastic packaging waste is different; check both the figures
A4: Error | B4: DECL_POR | C4: G9, G10 | D4: G8 | E4: G8 | F4: 999 | G4: 999 | H4: EQ | I4: 0.1 | J4: NO | K4: NO | L4: 2 | M4: Total is different from the arithmetic sum of the components. Please check the values you have inserted
A5: Error | B5: DECL_POR | C5: K8 | D5: H8 | E5: H10 | F5: 1 | G5: 999 | H5: EQ | I5: 0.1 | J5: NO | K5: YES | L5: 1 | M5: The justification of the difference with the PACK data is missing, please insert an explanation and when the data will be aligned.
A6: Error | B6: POM_PRO | C6: G8,G9,G10,G11,G12,G13,G14,G15,G16,G17,G20,G21,G22,G23,G24,G25,G26,G27,G28,G29,G30,G31,G32,G33,G34,G35,G36,G37,G38,G39 | D6: G40 | E6: G40 | F6: 999 | G6: 999 | H6: EQ | I6: 0.1 | J6: NO | K6: NO | L6: 1 | M6: Total is different from the arithmetic sum of the components. Please check the values you have inserted
A7: Error | B7: POM_OTH | C7: G8,G9,G10,G11,G12,G13,G14,G17,G18,G19,G20,G21,G22,G23,G24,G25,G26,G27,G28,G29,G30,G31,G32,G33,G34,G35,G36 | D7: G37 | E7: G37 | F7: 999 | G7: 999 | H7: EQ | I7: 0.1 | J7: NO | K7: NO | L7: 1 | M7: Total is different from the arithmetic sum of the components. Please check the values you have inserted
A8: Error | B8: WCA | C8: G8,G9,G10,G13,G14,G15,G16,G17,G18,G19,G20,G21,G22,G23,G24,G25,G26,G27,G28,G29,G30,G31,G32 | D8: G33 | E8: G33 | F8: 999 | G8: 999 | H8: EQ | I8: 0.1 | J8: NO | K8: NO | L8: 1 | M8: Total is different from the arithmetic sum of the components. Please check the values you have inserted
A9: Error | B9: RCY | C9: G8,G9,G10,G13,G14,G15,G16,G17,G18,G19,G20,G21,G22,G23,G24,G25,G26,G27,G28,G29,G30,G31,G32 | D9: G33 | E9: G33 | F9: 999 | G9: 999 | H9: EQ | I9: 0.1 | J9: NO | K9: NO | L9: 1 | M9: Total is different from the arithmetic sum of the components. Please check the values you have inserted
A10: Error | B10: POM_PRO | C10: J20 | D10: G20 | E10: G39 | F10: 1 | G10: 999 | H10: EQ | I10: 0.1 | J10: NO | K10: YES | L10: 1 | M10: Please, insert an explanation of the applied methodology
A11: Error | B11: POM_OTH | C11: J17 | D11: G17 | E11: G36 | F11: 1 | G11: 999 | H11: EQ | I11: 0.1 | J11: NO | K11: YES | L11: 1 | M11: Please, insert an explanation of the applied methodology
A12: Error | B12: WCA | C12: J13 | D12: G13 | E12: G32 | F12: 1 | G12: 999 | H12: EQ | I12: 0.1 | J12: NO | K12: YES | L12: 1 | M12: Please, insert an explanation of the applied methodology
A13: Error | B13: BALANCE_GEN | C13: J11 | D13: G11 | E13: G11 | F13: 999 | G13: 999 | H13: EQ | I13: 0.1 | J13: NO | K13: YES | L13: 1 | M13: Please, insert an explanation of the applied methodology
A14: Error | B14: RCY | C14: J13 | D14: G13 | E14: G32 | F14: 1 | G14: 999 | H14: EQ | I14: 0.1 | J14: NO | K14: YES | L14: 1 | M14: Please, insert an explanation of the applied methodology
F17: Must be > 0 for a not relevant dimension. Else you get an infinite loop | H17: EQ or GE or GT | I17: GT does not admit Tolerance | J17: NO or YES
A19: DESCRIPTION
A20: This sheet is meant to define the validation for summations in a row or in a column.
A21: - A block is defined as a sequence of addendums in the same row or column
A22: - Only the first block must be explicitly defined
A23: - The block can be repeated at regular patterns through rows and columns at the same time
A26: PARAMETRES
A27: SheetName | C27: Name of the sheet to be validated (e.g. Table 1)
A28: List of Cells (first block) | C28: First cell in the first block to be validated
A29: First TotalCell (first block)
A30: Last TotalCell (Last block)
A31: Row Block Repetition Step
A32: Column Block Repetition Step
A33: Greater or Equal
A34: Valid Threshold
A35: Only if all data is available
A36: Display text in error | C36: Valid values: EQ (Strictly equal); GE (Greater or Equal); GT (Strictly greater - No threshold will be considered)
D145: =SUM(Summations!B3º) -> #NAME?

Sheet Mandatory
A1: Severity | B1: SheetName | C1: Top Left Cell | D1: Bottom Right Cell | E1: Row Step | F1: Column Step | G1: Empty Is Valid If Footnote Exists | H1: Footnote Shift From Value
A2: Error | B2: GETTING STARTED | C2: E9 | D2: E10 | E2: 1 | F2: 999 | G2: NO | H2: 999 | I2: STANDARD FOR ALL QUESTIONNAIRES
A3: Error | B3: GETTING STARTED | C3: D22 | D3: D30 | E3: 2 | F3: 999 | G3: NO | H3: 999 | I3: STANDARD FOR ALL QUESTIONNAIRES -but peculiar cell position (choice of options)
A4: Error | B4: DECL_POR | C4: G8 | D4: G10 | E4: 1 | F4: 1 | G4: NO | H4: 999
A5: Error | B5: POM_PRO | C5: G8 | D5: G8 | E5: 999 | F5: 999 | G5: NO | H5: 1
A6: Error | B6: POM_PRO | C6: G9 | D6: G17 | E6: 1 | F6: 999 | G6: YES | H6: 1
A7: Error | B7: POM_PRO | C7: G40 | D7: G40 | E7: 999 | F7: 999 | G7: NO | H7: 1
A8: Error | B8: POM_OTH | C8: G8 | D8: G8 | E8: 999 | F8: 999 | G8: NO | H8: 1
A9: Error | B9: POM_OTH | C9: G9 | D9: G14 | E9: 1 | F9: 999 | G9: YES | H9: 1
A10: Error | B10: POM_OTH | C10: G37 | D10: G37 | E10: 999 | F10: 999 | G10: NO | H10: 1
A11: Error | B11: WCA | C11: G8 | D11: G8 | E11: 1 | F11: 999 | G11: NO | H11: 1
A12: Error | B12: WCA | C12: G9 | D12: G10 | E12: 1 | F12: 999 | G12: YES | H12: 1
A13: Error | B13: WCA | C13: G33 | D13: G33 | E13: 999 | F13: 999 | G13: NO | H13: 1
A14: Error | B14: BALANCE_GEN | C14: G11 | D14: G11 | E14: 999 | F14: 999 | G14: NO | H14: 999 | I14: to check
A15: Error | B15: RCY | C15: G8 | D15: G8 | E15: 1 | F15: 999 | G15: NO | H15: 1
A16: Error | B16: RCY | C16: G9 | D16: G10 | E16: 1 | F16: 999 | G16: YES | H16: 1
A17: Error | B17: RCY | C17: G33 | D17: G33 | E17: 999 | F17: 999 | G17: NO | H17: 1
A18: Error | B18: BALANCE_GEN | C18: H11 | D18: H11 | E18: 999 | F18: 999 | G18: NO | H18: 999 | I18: to check, added 21/03/2024

Sheet Thresholds
A1: Severity | B1: SheetName | C1: Top Left Cell | D1: Bottom Right Cell | E1: Row Step | F1: Column Step | G1: Lower value | H1: Upper value | I1: Error Is Valid If Footnote Exists | J1: Footnote Shift From Value
A2: Error | B2: POM_PRO | C2: G12 | D2: G12 | E2: 999 | F2: 999 | G2: -1e+15 | H2: 0 | I2: NO | J2: 1
A3: Error | B3: POM_PRO | C3: G15 | D3: G16 | E3: 1 | F3: 999 | G3: -1e+15 | H3: 0 | I3: NO | J3: 1
A4: Error | B4: POM_OTH | C4: G14 | D4: G14 | E4: 999 | F4: 999 | G4: -1e+15 | H4: 0 | I4: NO | J4: 1
A5: Error | B5: POM_PRO | C5: G40 | D5: G40 | E5: 999 | F5: 999 | G5: 1 | H5: 1e+15 | I5: NO | J5: 1
A6: Error | B6: POM_OTH | C6: G37 | D6: G37 | E6: 999 | F6: 999 | G6: 1 | H6: 1e+15 | I6: NO | J6: 1
A7: Error | B7: WCA | C7: G33 | D7: G33 | E7: 999 | F7: 999 | G7: 1 | H7: 1e+15 | I7: NO | J7: 1
A8: Error | B8: RCY | C8: G33 | D8: G33 | E8: 999 | F8: 999 | G8: 1 | H8: 1e+15 | I8: NO | J8: 1

Sheet IsFormula
