Workbook

Sheet Background and Instructions
B2: Reporting on Directive 2019/904 on the reduction of the impact of certain plastic products on the environment
B3: Annual reporting of: f) data and information on the collected post-consumption waste of tobacco products with filters and of filters marketed for use in combination with tobacco products
B4: Template for reporting
B6: Background
B7: Directive 2019/904 of the European Union and the Council of 5 June 2019 on the reduction of the impact of certain plastic products on the environment (henceforth "SUP Directive") aims at preventing and reducing the negative impact of certain plastic products on the (marine) environment and on human health, promoting the transition to a circular economy, and contributing to the efficient functioning of the internal market. The SUP Directive (EU) 2019/904, according the Article 8(1), states that Member States shall ensure that extended producer responsibility schemes are established for all single-use plastic products listed in Part E of the Annex which are placed on the market of the Member State. Section III of Part E of the Annex refers to "Tobacco products with filters and filters marketed for use in combination with tobacco products". Article 8(3) states that Member States shall ensure that the producers of the single-use plastic products listed in Sections II and III of Part E of the Annex cover at least the following costs: (a) the costs of the awareness raising measures referred to in Article 10 regarding those products; (b) the costs of cleaning up litter resulting from those products and the subsequent transport and treatment of that litter; and (c) the costs of data gathering and reporting in accordance with point (c) of Article 8a(1) of Directive 2008/98/EC. With regard to the single-use plastic products listed in Section III of Part E of the Annex to this Directive, Member States shall ensure that the producers cover, in addition, the costs of waste collection for those products that are discarded in public collection systems, including the infrastructure and its operation, and the subsequent transport and treatment of that waste. The costs may include the setting up of specific infrastructure for the waste collection for those products, such as appropriate waste receptacles in common litter hotspots Article 13 (1) of the SUP Directive specifies, among other reporting obligations, that "Member States shall, for each calendar year, report to the Commission the following: (f) Data on the post-consumption waste of single-use plastic products listed in Section III of Part E of the Annex that has been collected in accordance with Article 8(3). Article 13(1) of the SUP Directive states also that "Member States shall report the data and information electronically within 18 months of the end of the reporting year for which they were collected. (...) The first reporting period shall be the calendar year 2022." Article 13(2) of the SUP Directive states that "The data and information reported by Member States in accordance with this Article shall be accompanied by a quality check report." The data and information shall be reported in the format established by the Commission. The Commission Implementing Decision (EU) 2021/2267 of 17 December 2021 lays downformat for reporting data and information on the collected post-consumption waste of tobacco products with filters and of filters marketed for use in combination with tobacco products. This decision specifies that the data regarding the amounts of post-consumer waste of tobacco products with filters and of filters marketed for use in combination with tobacco products collected through public waste collection systems and litter clean-up activities should be reported by Member States on the basis of their total weight in tonnes.
B9: Instructions
B10: This template is to be used by Member States for the reporting of the following data linked to the reporting obligations of the SUP Directive, as well as the related quality check report: (f) Data on the post-consumption waste of single-use plastic products listed in Section III of Part E of the Annex that has been collected in accordance with Article 8(3). The format of this template follows the specifications provided in the Commission Implementing Decision (EU) 2021/2267 of 17 December 2021 laying down the format for reporting data and information on the collected post-consumption waste of tobacco products with filters and of filters marketed for use in combination with tobacco products. Below, an overview is provided of the different sheets to be filled in within this template. In each of these sheets, the coloring of the cells informs about which fields are mandatory and which are voluntary. When reporting in sheet "SUP bottles-PoM (single-use plastics bottles placed on the market), you must indicate whether you are reporting based on the default approach, i.e. weight of single-use bottles placed on the market or based on the weight of waste generated from such products. This wil color accordingly the cells for which reporting is mandatory and those for which is voluntary. Within each sheet, you will also find guidance on how to fill in the different cells. Please refer to the "Manual for reporters" for a more complete overview and guidance on how to fill in each sheet of the template. In the Manual for reporters you will also find more guidance on defintions, Frequently Asked Questions, and links to additional sources of information, which can help you along the reporting process. Note that many cells include some constraints, such as text length restrictions. You will receive a warning message in case your text does not meet the requirements. In such case, please note that when you get a warning, Excel will ask you if you want to continue (see image here below): If you to select “No”, you could go back to your text and reduce the length. If you click on “Yes”, Excel will let you continue filling in the form, even if the text is too long. Be aware that if you select “Cancel” the text that you typed in the cell will disappear.
B12: Excelsheets in this file
B13: Name | C13: Description
B14: Waste tobacco products collect. | C14: Data on the weight of post-consumption waste of tobacco products with filters and filters marketed for use in combination with tobacco products collected as litter and through public waste collection systems, as detailed in Annex I of the Commission Implementing Decision (EU) 2021/2267.
B15: QC1,2 | C15: General information and description of the institutions involved in the data collection, as detailed in sections 1 and 2 of the Quality Check report within Annex II of the Commission Implementing Decision (EU) 2021/2267.
B16: QC3 | C16: Description of the methods used, as detailed in section 3 of the Quality Check report within Annex II of the Commission Implementing Decision (EU) 2021/2267.
B17: QC4 | C17: Data verification and control systems, as detailed in sections 4 of the Quality Check report within Annex II of the Commission Implementing Decision (EU) 2021/2267.
B18: QC5,6 | C18: Confidentiality and references, as detailed in sections 5 and 6 of the Quality Check report within Annex II of the Commission Implementing Decision (EU) 2021/2267.
B20: Version | C20: v1.1

Sheet Waste tobacco products collect.
D2: Legend | E2: Light colour means voluntary field
E3: Dark colour means compulsory - see provisions that apply in specific cells
D5: Implementing Decision (EU) 2021/2267
D6: Annex I. Format for reporting data
D8: COUNTRY: | E8: Luxembourg
D9: REFERENCE YEAR: | E9: 2023
D11: FORMAT FOR REPORTING DATA Format for reporting on post-consumption waste of tobacco products with filters and filters marketed for use in combination with tobacco products collected as litter and through public waste collection systems in accordance with Article 13(1), point (f) of Directive (EU) 2019/904
B12: Country | C12: Year | E12: Total (tonnes) | F12: Collected as Litter (tonnes) | G12: Collected through public waste (tonnes)
B13: =IF($E$8="< Please select >","< Not selected >",$E$8) -> Luxembourg | C13: =$E$9 -> 2023 | D13: Weight of post-consumption waste of tobacco products with filters and filters marketed for use in combination with tobacco products collected as litter and through public waste collection systems in accordance with Article 13(1), point (f) of Directive (EU) 2019/904. | E13: 43.092 | F13: 0.427 | G13: 42.665

Sheet QC1,2
D2: Legend | E2: Light colour means voluntary field
E3: Dark colour means compulsory
D5: Implementing Decision (EU) 2021/2267
D6: Annex II. Format for the quality check report
B8: Country | C8: Year | D8: 1. General Information
B9: =IF('Waste tobacco products collect.'!$E$8="< Please select >","< Not selected >",'Waste tobacco products collect.'!$E$8) -> Luxembourg | C9: ='Waste tobacco products collect.'!$E$9 -> 2023 | D9: Member State: | E9: =IF('Waste tobacco products collect.'!$E$8="< Please select >","< Please select in sheet ''Waste tobacco products collect'' >",'Waste tobacco products collect.'!$E$8) -> Luxembourg
B10: =IF('Waste tobacco products collect.'!$E$8="< Please select >","< Not selected >",'Waste tobacco products collect.'!$E$8) -> Luxembourg | C10: ='Waste tobacco products collect.'!$E$9 -> 2023 | D10: Organisation submitting the data and the description: | E10: Administration de l'environnement
B11: =IF('Waste tobacco products collect.'!$E$8="< Please select >","< Not selected >",'Waste tobacco products collect.'!$E$8) -> Luxembourg | C11: ='Waste tobacco products collect.'!$E$9 -> 2023 | D11: Contact name: | E11: Nora Becker
B12: =IF('Waste tobacco products collect.'!$E$8="< Please select >","< Not selected >",'Waste tobacco products collect.'!$E$8) -> Luxembourg | C12: ='Waste tobacco products collect.'!$E$9 -> 2023 | D12: Contact email address: | E12: nora.becker@aev.etat.lu
B13: =IF('Waste tobacco products collect.'!$E$8="< Please select >","< Not selected >",'Waste tobacco products collect.'!$E$8) -> Luxembourg | C13: ='Waste tobacco products collect.'!$E$9 -> 2023 | D13: Contact phone number: | E13: +352 40 56 56 1
B14: =IF('Waste tobacco products collect.'!$E$8="< Please select >","< Not selected >",'Waste tobacco products collect.'!$E$8) -> Luxembourg | C14: ='Waste tobacco products collect.'!$E$9 -> 2023 | D14: Reference year: | E14: ='Waste tobacco products collect.'!$E$9 -> 2023
B15: =IF('Waste tobacco products collect.'!$E$8="< Please select >","< Not selected >",'Waste tobacco products collect.'!$E$8) -> Luxembourg | C15: ='Waste tobacco products collect.'!$E$9 -> 2023 | D15: Delivery date: | E15: 45834
B16: =IF('Waste tobacco products collect.'!$E$8="< Please select >","< Not selected >",'Waste tobacco products collect.'!$E$8) -> Luxembourg | C16: ='Waste tobacco products collect.'!$E$9 -> 2023 | D16: Version: | E16: 1.1
B17: =IF('Waste tobacco products collect.'!$E$8="< Please select >","< Not selected >",'Waste tobacco products collect.'!$E$8) -> Luxembourg | C17: ='Waste tobacco products collect.'!$E$9 -> 2023 | D17: Link to data publication by the Member State (if any):
D20: 2. Description of the institutions involved in the data collection
B21: Country | C21: Year | D21: Name of institution | E21: Description of key responsibilities
B22: =IF('Waste tobacco products collect.'!$E$8="< Please select >","< Not selected >",'Waste tobacco products collect.'!$E$8) -> Luxembourg | C22: ='Waste tobacco products collect.'!$E$9 -> 2023 | D22: Administration de l'environnement | E22: data collection and reporting
B23: =IF('Waste tobacco products collect.'!$E$8="< Please select >","< Not selected >",'Waste tobacco products collect.'!$E$8) -> Luxembourg | C23: ='Waste tobacco products collect.'!$E$9 -> 2023
B24: =IF('Waste tobacco products collect.'!$E$8="< Please select >","< Not selected >",'Waste tobacco products collect.'!$E$8) -> Luxembourg | C24: ='Waste tobacco products collect.'!$E$9 -> 2023
B25: =IF('Waste tobacco products collect.'!$E$8="< Please select >","< Not selected >",'Waste tobacco products collect.'!$E$8) -> Luxembourg | C25: ='Waste tobacco products collect.'!$E$9 -> 2023
B26: =IF('Waste tobacco products collect.'!$E$8="< Please select >","< Not selected >",'Waste tobacco products collect.'!$E$8) -> Luxembourg | C26: ='Waste tobacco products collect.'!$E$9 -> 2023
B27: =IF('Waste tobacco products collect.'!$E$8="< Please select >","< Not selected >",'Waste tobacco products collect.'!$E$8) -> Luxembourg | C27: ='Waste tobacco products collect.'!$E$9 -> 2023

Sheet QC3
D3: Legend | E3: Light colour means voluntary field
E4: Dark colour means compulsory
D6: Implementing Decision (EU) 2021/2267
D7: Annex II. Format for the quality check report
D10: 3. Description of methods used
D11: Description of the methods and data sources used to measure the weight of post-consumption waste of tobacco products with filters and filters marketed for use in combination with tobacco products collected as litter and through public waste collection systems in accordance with Article 13(1), point (f) of Directive (EU) 2019/904.
D13: 3.1 Data sources and methods for calculation and the share in the total
D14: Explain how the weight of post-consumption waste referred to in the first paragraph of this chapter has been
D15: measured and how humidity and residues of paper and tobacco have been taken into account. Explain
D16: the approach taken to ensure representative sampling of collected waste. Indicate in which year the waste and
D17: litter composition analysis was carried out.
B18: Country | C18: Year | D18: Data sources, year | E18: Description of methods applied | F18: Share in the total
B19: =IF('Waste tobacco products collect.'!$E$8="< Please select >","< Not selected >",'Waste tobacco products collect.'!$E$8) -> Luxembourg | C19: ='Waste tobacco products collect.'!$E$9 -> 2023 | D19: municipal waste analysis, commercial waste analysis, littering report | E19: waste stream composition analyses based on samples and extrapolation to total waste collected annually for the year 2023 | F19: 96%
B20: =IF('Waste tobacco products collect.'!$E$8="< Please select >","< Not selected >",'Waste tobacco products collect.'!$E$8) -> Luxembourg | C20: ='Waste tobacco products collect.'!$E$9 -> 2023 | D20: separate collection - annual report | E20: annual report for 2023 of a company that collects cigarette butts separately | F20: 4%
B21: =IF('Waste tobacco products collect.'!$E$8="< Please select >","< Not selected >",'Waste tobacco products collect.'!$E$8) -> Luxembourg | C21: ='Waste tobacco products collect.'!$E$9 -> 2023
D23: 3.2 Description of the methods used to determine conversion factors and their application
D24: In case the weight of post-consumption waste referred to in the first paragraph of this chapter was determined by
D25: means of determining the total number of post-consumption waste of tobacco products with filters and filters
D26: marketed for use in combination with tobacco products, specify the conversion factor used.
B27: Country | C27: Year | E27: Conversion factor | F27: Describe the variables included in the calculation of conversion factors and how these variables were calculated
B28: =IF('Waste tobacco products collect.'!$E$8="< Please select >","< Not selected >",'Waste tobacco products collect.'!$E$8) -> Luxembourg | C28: ='Waste tobacco products collect.'!$E$9 -> 2023 | D28: Conversion factor from item to weight
B29: =IF('Waste tobacco products collect.'!$E$8="< Please select >","< Not selected >",'Waste tobacco products collect.'!$E$8) -> Luxembourg | C29: ='Waste tobacco products collect.'!$E$9 -> 2023 | D29: Conversion factor from item to weight
B30: =IF('Waste tobacco products collect.'!$E$8="< Please select >","< Not selected >",'Waste tobacco products collect.'!$E$8) -> Luxembourg | C30: ='Waste tobacco products collect.'!$E$9 -> 2023 | D30: Conversion factor from item to weight

Sheet QC4
C3: Legend | D3: Light colour means voluntary field
D4: Dark colour means compulsory
D6: Implementing Decision (EU) 2021/2267
D7: Annex II. Format for the quality check report
D9: 4. Data verification and control system
B10: Country | C10: Year | D10: 4.1 Explanation of the scope and validity of the data collection on post-consumption waste of tobacco products with filters and filters marketed for use in combination with tobacco products collected as litter and through public waste collection systems in accordance with Article 13(1), point (f) of Directive (EU) 2019/904
B11: =IF('Waste tobacco products collect.'!$E$8="< Please select >","< Not selected >",'Waste tobacco products collect.'!$E$8) -> Luxembourg | C11: ='Waste tobacco products collect.'!$E$9 -> 2023 | D11: The reports cited under point 3.1 were checked for plausibility and timeseries consistency. The scope of the data collection was in line with the requirements of Directive (EU) 2019/904.
B12: =IF('Waste tobacco products collect.'!$E$8="< Please select >","< Not selected >",'Waste tobacco products collect.'!$E$8) -> Luxembourg | C12: ='Waste tobacco products collect.'!$E$9 -> 2023
B13: =IF('Waste tobacco products collect.'!$E$8="< Please select >","< Not selected >",'Waste tobacco products collect.'!$E$8) -> Luxembourg | C13: ='Waste tobacco products collect.'!$E$9 -> 2023
B14: =IF('Waste tobacco products collect.'!$E$8="< Please select >","< Not selected >",'Waste tobacco products collect.'!$E$8) -> Luxembourg | C14: ='Waste tobacco products collect.'!$E$9 -> 2023
B15: =IF('Waste tobacco products collect.'!$E$8="< Please select >","< Not selected >",'Waste tobacco products collect.'!$E$8) -> Luxembourg | C15: ='Waste tobacco products collect.'!$E$9 -> 2023
B16: =IF('Waste tobacco products collect.'!$E$8="< Please select >","< Not selected >",'Waste tobacco products collect.'!$E$8) -> Luxembourg | C16: ='Waste tobacco products collect.'!$E$9 -> 2023
B17: =IF('Waste tobacco products collect.'!$E$8="< Please select >","< Not selected >",'Waste tobacco products collect.'!$E$8) -> Luxembourg | C17: ='Waste tobacco products collect.'!$E$9 -> 2023

Sheet QC5,6
C3: Legend | D3: Light colour means voluntary field
D4: Dark colour means compulsory
D6: Implementing Decision (EU) 2021/2267
D7: Annex II. Format for the quality check report
D11: 5. Confidentiality
D12: Justification to withhold the publication of specific parts of this quality check report where that is required and listing of the parts that should be withheld.
B13: Country | C13: Year | D13: Excel sheet | E13: Item and cell/s (specify) | F13: Justification to request the withhold of the publication of certain data or parts of this quality check report in accordance with Article 2(4) of the Commission Implementing Decision (EU) 2022/162
B14: =IF('Waste tobacco products collect.'!$E$8="< Please select >","< Not selected >",'Waste tobacco products collect.'!$E$8) -> Luxembourg | C14: ='Waste tobacco products collect.'!$E$9 -> 2023 | D14: QC1,2 | E14: E11 and E12 | F14: only general contact data should be published (infos@aev.etat.lu)
B15: =IF('Waste tobacco products collect.'!$E$8="< Please select >","< Not selected >",'Waste tobacco products collect.'!$E$8) -> Luxembourg | C15: ='Waste tobacco products collect.'!$E$9 -> 2023 | D15: < Please select >
B16: =IF('Waste tobacco products collect.'!$E$8="< Please select >","< Not selected >",'Waste tobacco products collect.'!$E$8) -> Luxembourg | C16: ='Waste tobacco products collect.'!$E$9 -> 2023 | D16: < Please select >
B17: =IF('Waste tobacco products collect.'!$E$8="< Please select >","< Not selected >",'Waste tobacco products collect.'!$E$8) -> Luxembourg | C17: ='Waste tobacco products collect.'!$E$9 -> 2023 | D17: < Please select >
B18: =IF('Waste tobacco products collect.'!$E$8="< Please select >","< Not selected >",'Waste tobacco products collect.'!$E$8) -> Luxembourg | C18: ='Waste tobacco products collect.'!$E$9 -> 2023 | D18: < Please select >
B19: =IF('Waste tobacco products collect.'!$E$8="< Please select >","< Not selected >",'Waste tobacco products collect.'!$E$8) -> Luxembourg | C19: ='Waste tobacco products collect.'!$E$9 -> 2023 | D19: < Please select >
D23: 6. Main national websites, reference documents and publications
B24: Country | C24: Year | D24: Please provide the name and url of the main websites, reference documents and publications related to this data collection
B25: =IF('Waste tobacco products collect.'!$E$8="< Please select >","< Not selected >",'Waste tobacco products collect.'!$E$8) -> Luxembourg | C25: ='Waste tobacco products collect.'!$E$9 -> 2023 | D25: https://data.public.lu/en/organizations/administration-de-lenvironnement/#datasets
B26: =IF('Waste tobacco products collect.'!$E$8="< Please select >","< Not selected >",'Waste tobacco products collect.'!$E$8) -> Luxembourg | C26: ='Waste tobacco products collect.'!$E$9 -> 2023
B27: =IF('Waste tobacco products collect.'!$E$8="< Please select >","< Not selected >",'Waste tobacco products collect.'!$E$8) -> Luxembourg | C27: ='Waste tobacco products collect.'!$E$9 -> 2023
B28: =IF('Waste tobacco products collect.'!$E$8="< Please select >","< Not selected >",'Waste tobacco products collect.'!$E$8) -> Luxembourg | C28: ='Waste tobacco products collect.'!$E$9 -> 2023
B29: =IF('Waste tobacco products collect.'!$E$8="< Please select >","< Not selected >",'Waste tobacco products collect.'!$E$8) -> Luxembourg | C29: ='Waste tobacco products collect.'!$E$9 -> 2023

Sheet Lists
A1: Countries | B1: Yes/No | C1: Sheets
A2: < Please select > | B2: < Please select > | C2: < Please select >
A3: Austria | B3: Yes | C3: Waste tobacco products collect
A4: Belgium | B4: No | C4: QC1,2
A5: Bulgaria | C5: QC3
A6: Croatia | C6: QC4
A7: Cyprus
A8: Czechia
A9: Denmark
A10: Estonia
A11: Finland
A12: France
A13: Germany
A14: Greece
A15: Hungary
A16: Iceland
A17: Ireland
A18: Italy
... A32: Sweden
