Workbook

Sheet Background and Instructions
B2: Reporting on Directive 2019/904 on the reduction of the impact of certain plastic products on the environment
B3: Annual reporting of: c) separate collection of SUP beverage bottles
B4: Template for reporting
B6: Background
B7: Directive 2019/904 of the European Union and the Council of 5 June 2019 on the reduction of the impact of certain plastic products on the environment (henceforth "SUP Directive") aims at preventing and reducing the negative impact of certain plastic products on the (marine) environment and on human health, promoting the transition to a circular economy, and contributing to the efficient functioning of the internal market. The SUP Directive (EU) 2019/904, according the Article 9(1), sets targets for the separate collection for recycling of waste single-use plastic beverage bottles listed in Part F of the Annex. This includes "beverage bottles with a capacity of up to three litres, including their caps and lids, but NOT: (a) glass or metal beverage bottles that have caps and lids made from plastic, (b) beverage bottles intended and used for food for special medical purposes as defined in point (g) of Article 2 of Regulation (EU) No 609/2013 that is in liquid form. The targets, according to Article 9 1), for the separate collection for recycling of waste single-use plastic beverage bottles (listed in Part F of the Annex) are the following: (a) by 2025, of an amount of waste SUP beverage bottles equal to 77 % of such bottles placed on the market in a given year by weight; (b) by 2029, of an amount of waste SUP beverage bottles equal to 90 % of such bottles placed on the market in a given year by weight. These single-use plastic products placed on the market in a Member State may be deemed to be equal to the amount of waste generated from such products, including of as litter, in the same year in that Member State. In order to achieve that objective, Member States may inter alia establish deposit-refund schemes, establish separate collection targets for relevant extended producer responsibility schemes, etc. Article 13 (1) of the SUP Directive specifies, among other reporting obligations, that "Member States shall, for each calendar year, report to the Commission the following: (c) data on single-use plastic products listed in Part F of the Annex that have been separately collected in the Member State each year, to demonstrate the attainment of the separate collection targets in accordance with Article 9(1). Article 13(1) of the SUP Directive states also that "Member States shall report the data and information electronically within 18 months of the end of the reporting year for which they were collected. (...) The first reporting period shall be the calendar year 2022." Article 13(2) of the SUP Directive states that "The data and information reported by Member States in accordance with this Article shall be accompanied by a quality check report." The data and information shall be reported in the format established by the Commission. The Commission Implementing Decision (EU) 2021/1752 of 1 October 2021 lays down rules for the application of the SUP Directive as regards the calculation, verification and reporting of data on the separate collection of waste single-use plastic beverage bottles. This implementing decision establishes that "The amount of separately collected waste single-use plastic beverage bottles listed in Part F of the Annex to SUP Directive (waste single-use bottles’) shall be calculated by dividing the weight of the separately collected waste single-use bottles by the weight of such single-use bottles placed on the market (‘single-use bottles placed on the market’). The resulting ratio shall be expressed in percent. The implementing decision establishes also the methodology to calculate the weight of both waste single-use bottles separately collected and single-use plastics bottles placed on the market (articles 2 and 3, respectively, of the implementing decision). It also states that where there are significant imports, exports or other movements within the Union of single-use plastic bottles by operators or by natural persons for their own personal use, the weigth of single-use bottles placed on the market may be adjusted in order to take account of such movements. The implementing decision includes also provisions for cases where Member States determine the weight of single-use bottles placed on the market on the basis of the weight of the waste generated from such products as referred to in Article 9(1), second subparagraph, ofthe SUP Directive.
B9: Instructions
B10: This template is to be used by Member States for the reporting of the following data linked to the reporting obligations of the SUP Directive, as well as the related quality check report: (c) data on single-use plastic products listed in Part F of the Annex that have been separately collected in the Member State each year. The format of this template follows the specifications provided in the Commission Implementing Decision (EU) 2021/1752 of 1 October 2021 laying down the rules for the application of SUP Directive as regards the calculation, verification and reporting on the reduction in the consumption of certain single-use plastic products and the measures taken by Member States to achieve such reduction. Below, an overview is provided of the different sheets to be filled in within this template. In each of these sheets, the coloring of the cells informs about which fields are mandatory and which are voluntary. When reporting in sheet "SUP bottles-PoM (single-use plastics bottles placed on the market), you must indicate whether you are reporting based on the default approach, i.e. weight of single-use bottles placed on the market or based on the weight of waste generated from such products. This wil color accordingly the cells for which reporting is mandatory and those for which is voluntary. Within each sheet, you will also find guidance on how to fill in the different cells. Please refer to the "Manual for reporters" for a more complete overview and guidance on how to fill in each sheet of the template. In the Manual for reporters you will also find more guidance on defintions, Frequently Asked Questions, and links to additional sources of information, which can help you along the reporting process. Note that many cells include some constraints, such as text length restrictions. You will receive a warning message in case your text does not meet the requirements. In such case, please note that when you get a warning, Excel will ask you if you want to continue (see image here below): If you to select “No”, you could go back to your text and reduce the length. If you click on “Yes”, Excel will let you continue filling in the form, even if the text is too long. Be aware that if you select “Cancel” the text that you typed in the cell will disappear.
B12: Excelsheets in this file
B13: Name | C13: Description
B14: SUP bottles-PoM | C14: Data on weight of single-use bottles in tonnes calculated in accordance with Article 3 of the Implementing Decision (EU) 2021/1752, as detailed in its Annex II.
B15: SUP bottles-Separate collection | C15: Weight of separately collected for recycling waste single-use bottles calculated in accordance with Article 2(4) of the Implementing Decision (EU) 2021/1752, as detailed in its Annex II.
B16: QC I,II | C16: General information and description of the institutions involved in the data collection, as detailed in sections I and II of the Quality Check report within Annex III of the Commission Implementing Decision (EU) 2021/1752.
B17: QC III | C17: Description of the methods used, as detailed in section III of the Quality Check report within Annex III of the Commission Implementing Decision (EU) 2021/1752.
B18: QC IV | C18: Data verification and control systems, as detailed in section IV of the Quality Check report within Annex III of the Commission Implementing Decision (EU) 2021/1752.
B19: QC V,VI | C19: Confidentiality, and main national websites, reference documents and publications, as detailed in sections V and VI of the Quality Check report within Annex III of the Commission Implementing Decision (EU) 2021/1752.
B21: Version | C21: v1.2

Sheet SUP bottles-PoM
D2: Legend | E2: Light colour means voluntary field
E3: Dark colour means compulsory - see provisions that apply in specific cells
D5: Implementing Decision (EU) 2021/1752 Annex II. FORMAT FOR THE REPORTING OF DATA
D7: COUNTRY: | E7: Luxembourg
D8: REFERENCE YEAR: | E8: 2023
D10: Please specify if you are reporting based on the default approach, i.e. weight of single-use bottles placed on the market, or based on the weight of waste generated from such products.
D11: REPORTING BASED ON: | E11: Weight of waste generated
D13: If your country reports based on the weight of single-use bottles placed on the market
B14: Country | C14: Year | D14: I. Format for reporting of data calculated based on the methodology set out in Article 3 Table 1: Weight of single-use bottles in tonnes calculated in accordance with Article 3 (in tonnes)
B15: =IF('SUP bottles-PoM'!$E$7="< Please select >","< Not selected >",'SUP bottles-PoM'!$E$7) -> Luxembourg | C15: =$E$8 -> 2023 | D15: Weight of single use bottles placed on the market (WBPM gross)
D16: Adjustment of the weight of single-use bottles calculated in accordance with Article 3, paragraph 2
B17: =IF('SUP bottles-PoM'!$E$7="< Please select >","< Not selected >",'SUP bottles-PoM'!$E$7) -> Luxembourg | C17: =$E$8 -> 2023 | D17: Weight of single use bottles placed on the market that have been imported (from outside the EU) by operators (WB in imported)
B18: =IF('SUP bottles-PoM'!$E$7="< Please select >","< Not selected >",'SUP bottles-PoM'!$E$7) -> Luxembourg | C18: =$E$8 -> 2023 | D18: Weight of single use bottles placed on the market that have been received from other Member States by operators (WB in from other MS)
B19: =IF('SUP bottles-PoM'!$E$7="< Please select >","< Not selected >",'SUP bottles-PoM'!$E$7) -> Luxembourg | C19: =$E$8 -> 2023 | D19: Weight of single use bottles placed on the market that have been exported (out of the EU) by operators (WB out exp)
B20: =IF('SUP bottles-PoM'!$E$7="< Please select >","< Not selected >",'SUP bottles-PoM'!$E$7) -> Luxembourg | C20: =$E$8 -> 2023 | D20: Weight of single use bottles placed on the market that have been moved to other Member States by operators (WB out moved to other MS)
B21: =IF('SUP bottles-PoM'!$E$7="< Please select >","< Not selected >",'SUP bottles-PoM'!$E$7) -> Luxembourg | C21: =$E$8 -> 2023 | D21: Estimated weight of single use bottles placed on the market that have been exported (out of the EU) by natural persons for their own personal use (WB out by natural persons)
B22: =IF('SUP bottles-PoM'!$E$7="< Please select >","< Not selected >",'SUP bottles-PoM'!$E$7) -> Luxembourg | C22: =$E$8 -> 2023 | D22: Estimated weight of single use bottles placed on the market that have been imported (from outside the EU) by natural persons for their own personal use (WB in by natural persons)
B23: =IF('SUP bottles-PoM'!$E$7="< Please select >","< Not selected >",'SUP bottles-PoM'!$E$7) -> Luxembourg | C23: =$E$8 -> 2023 | D23: Estimated weight of single use bottles placed on the market that have been moved to other Member State by natural persons for their own personal use (WB out moved to other MS by natural persons)
B24: =IF('SUP bottles-PoM'!$E$7="< Please select >","< Not selected >",'SUP bottles-PoM'!$E$7) -> Luxembourg | C24: =$E$8 -> 2023 | D24: Estimated weight of single use bottles placed on the market that have been moved from other Member State by natural persons for their own personal use (WB in moved from other MS by natural persons)
B25: =IF('SUP bottles-PoM'!$E$7="< Please select >","< Not selected >",'SUP bottles-PoM'!$E$7) -> Luxembourg | C25: =$E$8 -> 2023 | D25: Weight of single use bottles placed on the market adjusted (WBPM) | E25: =IF(SUM(E17:E24)=0,"Not adjusted",E15-(SUM(E19:E21,E23))+SUM(E17,E18,E22,E24)) -> Not adjusted
D27: If your country reports based on the weight of waste generated
B28: Country | C28: Year | D28: Weight of single-use bottles placed on the market determined on the basis of the weight of waste generated from such products calculated in accordance with Art 3, paragraph 3 (in tonnes)
B29: =IF('SUP bottles-PoM'!$E$7="< Please select >","< Not selected >",'SUP bottles-PoM'!$E$7) -> Luxembourg | C29: =$E$8 -> 2023 | D29: Weight of waste single-use bottles collected separately for recycling in accordance with the requirements set out in Article 2(4)(a) and (b) (TWSCB) | E29: =61.83+2985.9 -> 3047.73
B30: =IF('SUP bottles-PoM'!$E$7="< Please select >","< Not selected >",'SUP bottles-PoM'!$E$7) -> Luxembourg | C30: =$E$8 -> 2023 | D30: Weight of waste single use bottles collected separately not in accordance with the requirements set out in Article 2(4)(a) and (b) (Wother SCB) | E30: 0
B31: =IF('SUP bottles-PoM'!$E$7="< Please select >","< Not selected >",'SUP bottles-PoM'!$E$7) -> Luxembourg | C31: =$E$8 -> 2023 | D31: Weight of waste single-use bottles collected as mixed municipal waste (WMSW) | E31: =894.53+262.61+70.91 -> 1228.05
B32: =IF('SUP bottles-PoM'!$E$7="< Please select >","< Not selected >",'SUP bottles-PoM'!$E$7) -> Luxembourg | C32: =$E$8 -> 2023 | D32: Weight of littered waste single-use bottles (Wlitter) | E32: =215.67 -> 215.67

Sheet SUP bottles-Separate collection
D2: Legend | E2: Light colour means voluntary field
E3: Dark colour means compulsory
D5: Implementing Decision (EU) 2021/1752 Annex II. FORMAT FOR THE REPORTING OF DATA
B7: Country | C7: Year | D7: II. Format for reporting of data calculated based on the methodology set out in Article 2(4) Table 2: Weight of separately collected for recycling waste single-use bottles calculated in accordance with Article 2(4) (in tonnes)
B8: =IF('SUP bottles-PoM'!$E$7="< Please select >","< Not selected >",'SUP bottles-PoM'!$E$7) -> Luxembourg | C8: ='SUP bottles-PoM'!$E$8 -> 2023 | D8: a) Weight of waste single use bottles collected separately from any other waste (W SCB apart) | E8: 61.83
B9: =IF('SUP bottles-PoM'!$E$7="< Please select >","< Not selected >",'SUP bottles-PoM'!$E$7) -> Luxembourg | C9: ='SUP bottles-PoM'!$E$8 -> 2023 | D9: b) Weight of waste single use bottles collected together with other wastes (W SCB blended) | E9: 2985.9

Sheet QC I,II
D2: Legend | E2: Light colour means voluntary field
E3: Dark colour means compulsory
D5: Implementing Decision (EU) 2021/1752 Annex III. FORMAT FOR THE QUALITY CHECK REPORT
B7: Country | C7: Year | D7: I. General Information
B8: =IF('SUP bottles-PoM'!$E$7="< Please select >","< Not selected >",'SUP bottles-PoM'!$E$7) -> Luxembourg | C8: ='SUP bottles-PoM'!$E$8 -> 2023 | D8: Member State: | E8: =IF('SUP bottles-PoM'!$E$7="< Please select >","< Please selected in sheet SUP bottles-PoM >",'SUP bottles-PoM'!$E$7) -> Luxembourg
B9: =IF('SUP bottles-PoM'!$E$7="< Please select >","< Not selected >",'SUP bottles-PoM'!$E$7) -> Luxembourg | C9: ='SUP bottles-PoM'!$E$8 -> 2023 | D9: Organisation submitting the data and the description: | E9: Administration de l'environnement
B10: =IF('SUP bottles-PoM'!$E$7="< Please select >","< Not selected >",'SUP bottles-PoM'!$E$7) -> Luxembourg | C10: ='SUP bottles-PoM'!$E$8 -> 2023 | D10: Contact name: | E10: Fabien Wahl
B11: =IF('SUP bottles-PoM'!$E$7="< Please select >","< Not selected >",'SUP bottles-PoM'!$E$7) -> Luxembourg | C11: ='SUP bottles-PoM'!$E$8 -> 2023 | D11: Contact email address: | E11: fabien.wahl@aev.etat.lu
B12: =IF('SUP bottles-PoM'!$E$7="< Please select >","< Not selected >",'SUP bottles-PoM'!$E$7) -> Luxembourg | C12: ='SUP bottles-PoM'!$E$8 -> 2023 | D12: Contact phone number: | E12: 003522475282
B13: =IF('SUP bottles-PoM'!$E$7="< Please select >","< Not selected >",'SUP bottles-PoM'!$E$7) -> Luxembourg | C13: ='SUP bottles-PoM'!$E$8 -> 2023 | D13: Reference year: | E13: 2023
B14: =IF('SUP bottles-PoM'!$E$7="< Please select >","< Not selected >",'SUP bottles-PoM'!$E$7) -> Luxembourg | C14: ='SUP bottles-PoM'!$E$8 -> 2023 | D14: Delivery date: | E14: 45834
B15: =IF('SUP bottles-PoM'!$E$7="< Please select >","< Not selected >",'SUP bottles-PoM'!$E$7) -> Luxembourg | C15: ='SUP bottles-PoM'!$E$8 -> 2023 | D15: Version: | E15: 1.2
B16: =IF('SUP bottles-PoM'!$E$7="< Please select >","< Not selected >",'SUP bottles-PoM'!$E$7) -> Luxembourg | C16: ='SUP bottles-PoM'!$E$8 -> 2023 | D16: Link to data publication by the Member State (if any): | E16: https://data.public.lu/en/datasets/waste-and-resources-single-use-plastic/
D18: II. Description of the institutions involved in the data collection
B19: Country | C19: Year | D19: Name of institution | E19: Description of key responsibilities
B20: =IF('SUP bottles-PoM'!$E$7="< Please select >","< Not selected >",'SUP bottles-PoM'!$E$7) -> Luxembourg | C20: ='SUP bottles-PoM'!$E$8 -> 2023 | D20: AEV | E20: data collection and reporting, waste analysis
B21: =IF('SUP bottles-PoM'!$E$7="< Please select >","< Not selected >",'SUP bottles-PoM'!$E$7) -> Luxembourg | C21: ='SUP bottles-PoM'!$E$8 -> 2023 | D21: Valorlux | E21: Annual reporting of packaging collected separately; waste analysis
B22: =IF('SUP bottles-PoM'!$E$7="< Please select >","< Not selected >",'SUP bottles-PoM'!$E$7) -> Luxembourg | C22: ='SUP bottles-PoM'!$E$8 -> 2023
B23: =IF('SUP bottles-PoM'!$E$7="< Please select >","< Not selected >",'SUP bottles-PoM'!$E$7) -> Luxembourg | C23: ='SUP bottles-PoM'!$E$8 -> 2023

Sheet QC III
D2: Legend | E2: Light colour means voluntary field
E3: Dark colour means compulsory - see provisions for specific cells
D5: Implementing Decision (EU) 2021/1752 Annex III. FORMAT FOR THE QUALITY CHECK REPORT
D7: III. Description of methods used
D8: 3.1. Single-use bottles placed on the market (Annex II, Table 1)
D9: 3.1.1. Description of the methodology for surveys and composition analysis
D10: Where the weight of single-use bottles placed on the market is determined based on the weight of the waste generated from such products, a description of the methodology used for the sampling and the waste composition analysis referred to in Article 4.
B11: Country | C11: Year | E11: Methodology used | F11: Variations taken into account
B12: =IF('SUP bottles-PoM'!$E$7="< Please select >","< Not selected >",'SUP bottles-PoM'!$E$7) -> Luxembourg | C12: ='SUP bottles-PoM'!$E$8 -> 2023 | D12: Waste single-use bottles collected as mixed municipal waste | E12: waste stream composition analysis based on samples and extrapolation to total waste collected annually | F12: n/a
B13: =IF('SUP bottles-PoM'!$E$7="< Please select >","< Not selected >",'SUP bottles-PoM'!$E$7) -> Luxembourg | C13: ='SUP bottles-PoM'!$E$8 -> 2023 | D13: Waste single-use bottles disposed of as litter | E13: waste stream composition analysis based on samples and extrapolation to total waste collected annually | F13: n/a
D15: 3.1.2. Description of any significant inconsistencies between the weight of single-use bottles placed on the market and the weight of packaging waste generated or any other related issues
B16: Country | C16: Year | D16: Where appropriate, a description of corrective measures planned or taken.
B17: =IF('SUP bottles-PoM'!$E$7="< Please select >","< Not selected >",'SUP bottles-PoM'!$E$7) -> Luxembourg | C17: ='SUP bottles-PoM'!$E$8 -> 2023
B18: =IF('SUP bottles-PoM'!$E$7="< Please select >","< Not selected >",'SUP bottles-PoM'!$E$7) -> Luxembourg | C18: ='SUP bottles-PoM'!$E$8 -> 2023
B19: =IF('SUP bottles-PoM'!$E$7="< Please select >","< Not selected >",'SUP bottles-PoM'!$E$7) -> Luxembourg | C19: ='SUP bottles-PoM'!$E$8 -> 2023
B20: =IF('SUP bottles-PoM'!$E$7="< Please select >","< Not selected >",'SUP bottles-PoM'!$E$7) -> Luxembourg | C20: ='SUP bottles-PoM'!$E$8 -> 2023
B21: =IF('SUP bottles-PoM'!$E$7="< Please select >","< Not selected >",'SUP bottles-PoM'!$E$7) -> Luxembourg | C21: ='SUP bottles-PoM'!$E$8 -> 2023
D23: 3.2. Information on separately collected waste single-use bottles (Annex II, Table 2)
D24: 3.2.1. Description of the methods and sources for determining the weight of separately collected waste single-use bottles
B25: Country | C25: Year | D25: Explain the practices that are taken into account for calculating the share of separately collected waste single-use bottles, and the methods for determining that waste single-use bottles collected together with other waste are of comparable quality to waste single-use bottles collected separately from any other waste. Include the documentation of the quality assurance systems and of the third party verification that are set up by the waste operators to verify that the conditions set out in Article 2(4)(b), points (i) and (ii), are fulfilled.
B26: =IF('SUP bottles-PoM'!$E$7="< Please select >","< Not selected >",'SUP bottles-PoM'!$E$7) -> Luxembourg | C26: ='SUP bottles-PoM'!$E$8 -> 2023 | D26: Packaging of dangerous materials is excluded from the PMC collection (https://www.valorlux.lu/en/the-blue-bag). The sorting of the PMC fracion is done with state-of-the-art equipment and its accuracy is regularly assessed (https://www.valorlux.lu/en/recyclable-packaging).
B27: =IF('SUP bottles-PoM'!$E$7="< Please select >","< Not selected >",'SUP bottles-PoM'!$E$7) -> Luxembourg | C27: ='SUP bottles-PoM'!$E$8 -> 2023
B28: =IF('SUP bottles-PoM'!$E$7="< Please select >","< Not selected >",'SUP bottles-PoM'!$E$7) -> Luxembourg | C28: ='SUP bottles-PoM'!$E$8 -> 2023
B29: =IF('SUP bottles-PoM'!$E$7="< Please select >","< Not selected >",'SUP bottles-PoM'!$E$7) -> Luxembourg | C29: ='SUP bottles-PoM'!$E$8 -> 2023
B30: =IF('SUP bottles-PoM'!$E$7="< Please select >","< Not selected >",'SUP bottles-PoM'!$E$7) -> Luxembourg | C30: ='SUP bottles-PoM'!$E$8 -> 2023

Sheet QC IV
D2: Legend | E2: Light colour means voluntary field. Member States are required to describe here the data verification and control systems apply to the data they have reported.
E3: Dark colour means compulsory
D5: Implementing Decision (EU) 2021/1752 Annex III. FORMAT FOR THE QUALITY CHECK REPORT
D7: IV. Data verification and control system
D8: 4.1. Verification of data on separately collected waste single-use bottles
D9: Verification and control procedures | E9: Applied for data on | J9: Additional comments, if relevant
B10: Country | C10: Year | E10: Single-use bottles placed on the market (yes/no) | F10: Waste single-use bottles (yes/no) | G10: Waste single- use bottles collected separately from other waste as referred to in Article 2(4), point (a) (yes/no) | H10: Waste single- use bottles collected together with other waste as referred to in Article 2(4), point (b) (yes/no) | I10: Adjustment to account for other materials captured by separate collection, that are not part of the single-use bottles(1) (yes/no)
B11: =IF('SUP bottles-PoM'!$E$7="< Please select >","< Not selected >",'SUP bottles-PoM'!$E$7) -> Luxembourg | C11: ='SUP bottles-PoM'!$E$8 -> 2023 | D11: Data completeness checks | E11: No | F11: Yes | G11: Yes | H11: Yes | I11: Yes
B12: =IF('SUP bottles-PoM'!$E$7="< Please select >","< Not selected >",'SUP bottles-PoM'!$E$7) -> Luxembourg | C12: ='SUP bottles-PoM'!$E$8 -> 2023 | D12: Cross-checks | E12: No | F12: Yes | G12: Yes | H12: Yes | I12: No
B13: =IF('SUP bottles-PoM'!$E$7="< Please select >","< Not selected >",'SUP bottles-PoM'!$E$7) -> Luxembourg | C13: ='SUP bottles-PoM'!$E$8 -> 2023 | D13: Time-series checks | E13: No | F13: Yes | G13: Yes | H13: Yes | I13: Yes
B14: =IF('SUP bottles-PoM'!$E$7="< Please select >","< Not selected >",'SUP bottles-PoM'!$E$7) -> Luxembourg | C14: ='SUP bottles-PoM'!$E$8 -> 2023 | D14: Audit checks | E14: No | F14: No | G14: No | H14: No | I14: No
B15: =IF('SUP bottles-PoM'!$E$7="< Please select >","< Not selected >",'SUP bottles-PoM'!$E$7) -> Luxembourg | C15: ='SUP bottles-PoM'!$E$8 -> 2023 | D15: Other (specify) | E15: No | F15: No | G15: No | H15: No | I15: No | J15: NA
D17: (1) | E17: Labels, adhesives, residues of beverages that the bottles contained and any other material that is not part of the single-use bottle or of its caps and lids.
D19: 4.2. Description of main factors affecting the accuracy of the data reported on waste single-use bottles, single- use bottles placed on the market and/or waste single-use bottles separately collected
B20: Country | C20: Year | D20: Potential factors affecting reliability of data | E20: Factors | H20: Description of how the accuracy of the data is affected and which methods are applied to minimize such impact
E21: Single-use bottles placed on the market (yes/no) | F21: Waste single-use bottles (yes/no) | G21: Waste single-use bottles separately collected (yes/no)
B22: =IF('SUP bottles-PoM'!$E$7="< Please select >","< Not selected >",'SUP bottles-PoM'!$E$7) -> Luxembourg | C22: ='SUP bottles-PoM'!$E$8 -> 2023 | D22: Sampling errors(1) (e.g. coefficients of variation) | E22: No | F22: Yes | G22: Yes
B23: =IF('SUP bottles-PoM'!$E$7="< Please select >","< Not selected >",'SUP bottles-PoM'!$E$7) -> Luxembourg | C23: ='SUP bottles-PoM'!$E$8 -> 2023 | D23: Coverage errors(2) (e.g. de-minimis rules, regional coverage) | E23: No | F23: No | G23: No
B24: =IF('SUP bottles-PoM'!$E$7="< Please select >","< Not selected >",'SUP bottles-PoM'!$E$7) -> Luxembourg | C24: ='SUP bottles-PoM'!$E$8 -> 2023 | D24: Measurement errors(3) (e.g. measurement unit, material that is not part of an empty single-use bottle including its caps and lids) | E24: No | F24: Yes | G24: Yes
B25: =IF('SUP bottles-PoM'!$E$7="< Please select >","< Not selected >",'SUP bottles-PoM'!$E$7) -> Luxembourg | C25: ='SUP bottles-PoM'!$E$8 -> 2023 | D25: Data collection test instruments(4) (e.g. testing of questionnaires) | E25: No | F25: No | G25: No
B26: =IF('SUP bottles-PoM'!$E$7="< Please select >","< Not selected >",'SUP bottles-PoM'!$E$7) -> Luxembourg | C26: ='SUP bottles-PoM'!$E$8 -> 2023 | D26: Processing errors(5) (e.g. identification of errors, correction of errors) | E26: No | F26: No | G26: No
B27: =IF('SUP bottles-PoM'!$E$7="< Please select >","< Not selected >",'SUP bottles-PoM'!$E$7) -> Luxembourg | C27: ='SUP bottles-PoM'!$E$8 -> 2023 | D27: Non-response errors(6) | E27: No | F27: No | G27: No
B28: =IF('SUP bottles-PoM'!$E$7="< Please select >","< Not selected >",'SUP bottles-PoM'!$E$7) -> Luxembourg | C28: ='SUP bottles-PoM'!$E$8 -> 2023 | D28: Model assumption errors(7) | E28: No | F28: No | G28: No
B29: =IF('SUP bottles-PoM'!$E$7="< Please select >","< Not selected >",'SUP bottles-PoM'!$E$7) -> Luxembourg | C29: ='SUP bottles-PoM'!$E$8 -> 2023 | D29: Other (please specify) | E29: No | F29: No | G29: No
D31: (1) | E31: Describe the estimated coefficients of variation and the methodologies applied for variance estimation.
D32: (2) | E32: Describe the type and size of coverage errors.
D33: (3) | E33: Describe the instruments to reduce potential risks and avoid errors.
D34: (4) | E34: Describe the instruments and methodologies applied for securing quality and relevance of data collection instruments.
D35: (5) | E35: Describe the processing steps between data collection and production of statistics and list processing errors identified and their extent.
D36: (6) | E36: Describe the unit and item non-response rates for the main variables and the imputation methods (if any).
D37: (7) | E37: Describe the type and size of model assumption errors.
B39: Country | C39: Year | D39: 4.3. Explanation of the scope and validity of surveys to collect data on waste single-use bottles, single-use bottles placed on the market and or waste single-use bottles separately collected
B40: =IF('SUP bottles-PoM'!$E$7="< Please select >","< Not selected >",'SUP bottles-PoM'!$E$7) -> Luxembourg | C40: ='SUP bottles-PoM'!$E$8 -> 2023
B41: =IF('SUP bottles-PoM'!$E$7="< Please select >","< Not selected >",'SUP bottles-PoM'!$E$7) -> Luxembourg | C41: ='SUP bottles-PoM'!$E$8 -> 2023
B42: =IF('SUP bottles-PoM'!$E$7="< Please select >","< Not selected >",'SUP bottles-PoM'!$E$7) -> Luxembourg | C42: ='SUP bottles-PoM'!$E$8 -> 2023
B43: =IF('SUP bottles-PoM'!$E$7="< Please select >","< Not selected >",'SUP bottles-PoM'!$E$7) -> Luxembourg | C43: ='SUP bottles-PoM'!$E$8 -> 2023
B44: =IF('SUP bottles-PoM'!$E$7="< Please select >","< Not selected >",'SUP bottles-PoM'!$E$7) -> Luxembourg | C44: ='SUP bottles-PoM'!$E$8 -> 2023
D46: 4.4. Differences from data reported for the previous years
B47: Country | C47: Year | D47: Significant methodological changes in the calculation method used for the current reference year in relation to the calculation method used for previous reference years, if any (in particular retrospective revisions, their nature and whether a break in the series has to be flagged for a certain year).
B48: =IF('SUP bottles-PoM'!$E$7="< Please select >","< Not selected >",'SUP bottles-PoM'!$E$7) -> Luxembourg | C48: ='SUP bottles-PoM'!$E$8 -> 2023
...

Sheet QC V,VI
D2: Legend | E2: Light colour means voluntary field
E3: Dark colour means compulsory
D5: Implementing Decision (EU) 2021/1752 Annex III. FORMAT FOR THE QUALITY CHECK REPORT
F8: V. Confidentialty
B9: Country | C9: Year | D9: Excel sheet | E9: Item and cell/s (specify) | F9: Justification for the request to withhold the publication of certain data or parts of this quality check report
B10: =IF('SUP bottles-PoM'!$E$7="< Please select >","< Not selected >",'SUP bottles-PoM'!$E$7) -> Luxembourg | C10: ='SUP bottles-PoM'!$E$8 -> 2023 | D10: < Please select > | E10: sheet "QC I,II", cells E10 & E11 | F10: only general contact data should be published (infos@aev.etat.lu)
B11: =IF('SUP bottles-PoM'!$E$7="< Please select >","< Not selected >",'SUP bottles-PoM'!$E$7) -> Luxembourg | C11: ='SUP bottles-PoM'!$E$8 -> 2023 | D11: < Please select >
B12: =IF('SUP bottles-PoM'!$E$7="< Please select >","< Not selected >",'SUP bottles-PoM'!$E$7) -> Luxembourg | C12: ='SUP bottles-PoM'!$E$8 -> 2023 | D12: < Please select >
B13: =IF('SUP bottles-PoM'!$E$7="< Please select >","< Not selected >",'SUP bottles-PoM'!$E$7) -> Luxembourg | C13: ='SUP bottles-PoM'!$E$8 -> 2023 | D13: < Please select >
B14: =IF('SUP bottles-PoM'!$E$7="< Please select >","< Not selected >",'SUP bottles-PoM'!$E$7) -> Luxembourg | C14: ='SUP bottles-PoM'!$E$8 -> 2023 | D14: < Please select >
D17: VI. Main national websites, reference documents and publications
B18: Country | C18: Year | D18: Name and URL of the main websites, reference documents and publications related to this data collection
B19: =IF('SUP bottles-PoM'!$E$7="< Please select >","< Not selected >",'SUP bottles-PoM'!$E$7) -> Luxembourg | C19: ='SUP bottles-PoM'!$E$8 -> 2023 | D19: https://data.public.lu/en/datasets/waste-and-resources-single-use-plastic/
B20: =IF('SUP bottles-PoM'!$E$7="< Please select >","< Not selected >",'SUP bottles-PoM'!$E$7) -> Luxembourg | C20: ='SUP bottles-PoM'!$E$8 -> 2023
B21: =IF('SUP bottles-PoM'!$E$7="< Please select >","< Not selected >",'SUP bottles-PoM'!$E$7) -> Luxembourg | C21: ='SUP bottles-PoM'!$E$8 -> 2023
B22: =IF('SUP bottles-PoM'!$E$7="< Please select >","< Not selected >",'SUP bottles-PoM'!$E$7) -> Luxembourg | C22: ='SUP bottles-PoM'!$E$8 -> 2023
B23: =IF('SUP bottles-PoM'!$E$7="< Please select >","< Not selected >",'SUP bottles-PoM'!$E$7) -> Luxembourg | C23: ='SUP bottles-PoM'!$E$8 -> 2023

Sheet Summary
A2: Overview of results
A4: Single-use plastic bottles placed on the market
A5: Country | B5: Year | C5: Based on weight of SUP plastic bottles placed on the market (tonnes)
A6: ='SUP bottles-PoM'!E$7 -> Luxembourg | B6: ='SUP bottles-PoM'!E$8 -> 2023 | C6: WBPM gross | D6: Weight of single use bottles placed on the market (WBPM gross) | E6: ='SUP bottles-PoM'!E15 -> 0
A7: ='SUP bottles-PoM'!E$7 -> Luxembourg | B7: ='SUP bottles-PoM'!E$8 -> 2023 | C7: WB in imported | D7: Weight of single use bottles placed on the market that have been imported (from outside the EU) by operators (WB in imported) | E7: ='SUP bottles-PoM'!E17 -> 0
A8: ='SUP bottles-PoM'!E$7 -> Luxembourg | B8: ='SUP bottles-PoM'!E$8 -> 2023 | C8: WB in from other MS | D8: Weight of single use bottles placed on the market that have been received from other Member States by operators (WB in from other MS) | E8: ='SUP bottles-PoM'!E18 -> 0
A9: ='SUP bottles-PoM'!E$7 -> Luxembourg | B9: ='SUP bottles-PoM'!E$8 -> 2023 | C9: WB out exp | D9: Weight of single use bottles placed on the market that have been exported (out of the EU) by operators (WB out exp) | E9: ='SUP bottles-PoM'!E19 -> 0
A10: ='SUP bottles-PoM'!E$7 -> Luxembourg | B10: ='SUP bottles-PoM'!E$8 -> 2023 | C10: WB out moved to other MS | D10: Weight of single use bottles placed on the market that have been moved to other Member States by operators (WB out moved to other MS) | E10: ='SUP bottles-PoM'!E20 -> 0
A11: ='SUP bottles-PoM'!E$7 -> Luxembourg | B11: ='SUP bottles-PoM'!E$8 -> 2023 | C11: WB out by natural persons | D11: Estimated weight of single use bottles placed on the market that have been exported (out of the EU) by natural persons for their own personal use (WB out by natural persons) | E11: ='SUP bottles-PoM'!E21 -> 0
A12: ='SUP bottles-PoM'!E$7 -> Luxembourg | B12: ='SUP bottles-PoM'!E$8 -> 2023 | C12: WB in by natural persons | D12: Estimated weight of single use bottles placed on the market that have been imported (from outside the EU) by natural persons for their own personal use (WB in by natural persons) | E12: ='SUP bottles-PoM'!E22 -> 0
A13: ='SUP bottles-PoM'!E$7 -> Luxembourg | B13: ='SUP bottles-PoM'!E$8 -> 2023 | C13: WB out moved to other MS by natural persons | D13: Estimated weight of single use bottles placed on the market that have been moved to other Member State by natural persons for their own personal use (WB out moved to other MS by natural persons) | E13: ='SUP bottles-PoM'!E23 -> 0
A14: ='SUP bottles-PoM'!E$7 -> Luxembourg | B14: ='SUP bottles-PoM'!E$8 -> 2023 | C14: WB in moved from other MS by natural persons | D14: Estimated weight of single use bottles placed on the market that have been moved from other Member State by natural persons for their own personal use (WB in moved from other MS by natural persons) | E14: ='SUP bottles-PoM'!E24 -> 0
A15: ='SUP bottles-PoM'!E$7 -> Luxembourg | B15: ='SUP bottles-PoM'!E$8 -> 2023 | C15: WBPM | D15: Weight of single use bottles placed on the market adjusted (WBPM) | E15: ='SUP bottles-PoM'!E25 -> Not adjusted
A16: Country | B16: Year | C16: Based on the waste generated (tonnes)
A17: ='SUP bottles-PoM'!E$7 -> Luxembourg | B17: ='SUP bottles-PoM'!E$8 -> 2023 | C17: TWSCB | D17: Weight of waste single-use bottles collected separately for recycling in accordance with the requirements set out in Article 2(4)(a) and (b) (TWSCB) | E17: ='SUP bottles-PoM'!E29 -> 3047.73
A18: ='SUP bottles-PoM'!E$7 -> Luxembourg | B18: ='SUP bottles-PoM'!E$8 -> 2023 | C18: Wother SCB | D18: Weight of waste single use bottles collected separately not in accordance with the requirements set out in Article 2(4)(a) and (b) (Wother SCB) | E18: ='SUP bottles-PoM'!E30 -> 0
A19: ='SUP bottles-PoM'!E$7 -> Luxembourg | B19: ='SUP bottles-PoM'!E$8 -> 2023 | C19: WMSW | D19: Weight of waste single-use bottles collected as mixed municipal waste (WMSW) | E19: ='SUP bottles-PoM'!E31 -> 1228.05
A20: ='SUP bottles-PoM'!E$7 -> Luxembourg | B20: ='SUP bottles-PoM'!E$8 -> 2023 | C20: Wlitter | D20: Weight of littered waste single-use bottles (Wlitter) | E20: ='SUP bottles-PoM'!E32 -> 215.67
A22: Separately collected for recycling waste single-use bottles
A23: Country | B23: Year
A24: ='SUP bottles-PoM'!E$7 -> Luxembourg | B24: ='SUP bottles-PoM'!E$8 -> 2023 | C24: WSCB apart | D24: a) Weight of waste single use bottles collected separately from any other waste | E24: ='SUP bottles-Separate collection'!E8 -> 61.83
A25: ='SUP bottles-PoM'!E$7 -> Luxembourg | B25: ='SUP bottles-PoM'!E$8 -> 2023 | C25: WSCB blended | D25: b) Weight of waste single use bottles collected together with other wastes | E25: ='SUP bottles-Separate collection'!E9 -> 2985.9
A27: Confidentiality | B27: =IF(COUNTIF('QC V,VI'!E10:H14,"*")>0, "Yes", "No") -> Yes
A29: For European Commission use
A30: Country | B30: Year | D30: Full name | E30: Value
A31: =IF('SUP bottles-PoM'!$E$7="< Please select >","< Not selected >",'SUP bottles-PoM'!$E$7) -> Luxembourg | B31: ='SUP bottles-PoM'!E$8 -> 2023 | C31: WEWG | D31: Weight of single-use bottles placed on the market and determined on the basis of the weight of the waste generated by such products as referred to in Article 3(3) | E31: =SUM(E17:E20) -> 4491.45
A32: Country | B32: Year | C32: ASCB | D32: Amount of separately collected for recycling waste single-use bottles as referred to in Article 1
A33: =IF('SUP bottles-PoM'!$E$7="< Please select >","< Not selected >",'SUP bottles-PoM'!$E$7) -> Luxembourg | B33: ='SUP bottles-PoM'!E$8 -> 2023 | D33: Based on the weight placed on the market - gross | E33: =(SUM(E$24:E$25)/E$6)*100 -> #DIV/0!
A34: =IF('SUP bottles-PoM'!$E$7="< Please select >","< Not selected >",'SUP bottles-PoM'!$E$7) -> Luxembourg | B34: ='SUP bottles-PoM'!E$8 -> 2023 | D34: Based on the weight placed on the market - adjusted | E34: =(SUM(E$24:E$25)/E$15)*100 -> #VALUE!
A35: =IF('SUP bottles-PoM'!$E$7="< Please select >","< Not selected >",'SUP bottles-PoM'!$E$7) -> Luxembourg | B35: ='SUP bottles-PoM'!E$8 -> 2023 | D35: Based on the weight of waste generated | E35: =(SUM(E$24:E$25)/E$31)*100 -> 67.85626
A37: Quality Check Report
A38: Fishing gear placed on the market
A39: QC I,II | D39: Number of mandatory fields | E39: Number of filled in mandatory cells
A40: I. General Information | D40: 6 | E40: =COUNTA('QC I,II'!E9:E12,'QC I,II'!E14,'QC I,II'!E16) -> 6
A41: II. Description of the parties involved in the data collection | D41: =COUNTA('QC I,II'!D20)+COUNTBLANK('QC I,II'!D20) -> 1 | E41: =COUNTIF('QC I,II'!D20:D23,"*") -> 2
A42: QC III
A43: 3.1. Single-use bottles placed on the market (Annex II, Table 1) | D43: =COUNTA('QC III'!E12:F13)+COUNTBLANK('QC III'!E12:F13) -> 4 | E43: =COUNTIF('QC III'!E12:F13,"*") -> 4
A44: 3.2. Information on separately collected waste single-use bottles (Annex II, Table 2) | D44: =(COUNTA('QC III'!D26:F30)+COUNTBLANK('QC III'!D26:F30))/3 -> 5 | E44: =COUNTIF('QC III'!D26:F30,"*") -> 1
A45: QC IV
A46: 4.1. Verification of data on separately collected waste single-use bottles | D46: =COUNTA('QC IV'!E11:I15) -> 25 | E46: =COUNTIF('QC IV'!E11:I15, "<>< Please select >") -> 25
...

Sheet Lists
A1: Countries | B1: Reporting choice | C1: Yes/No | D1: Sheets | E1: SUP item c elements
A2: < Please select > | B2: < Please select > | C2: < Please select > | D2: < Please select > | E2: < Please select >
A3: Austria | B3: Weight of single-use bottles placed on the market | C3: Yes | D3: SUP bottles-PoM | E3: Waste single-use bottles
A4: Belgium | B4: Weight of waste generated | C4: No | D4: SUP bottles-Separate collection | E4: Single-use bottles placed on the market and/or waste single-use bottles separately collected
A5: Bulgaria
A6: Croatia
A7: Cyprus
A8: Czechia
A9: Denmark
A10: Estonia
A11: Finland
A12: France
A13: Germany
A14: Greece
A15: Hungary
A16: Iceland
... A32: Sweden

Sheet 2022_PoM
E3: Implementing Decision (EU) 2021/1752
E4: Annex II. FORMAT FOR THE REPORTING OF DATA
E6: REFERENCE YEAR: | F6: 2022
E8: If your country reports based on the weight of single-use bottles placed on the market
C9: Country | D9: Year | E9: I. Format for reporting of data calculated based on the methodology set out in Article 3
E10: Table 1: Weight of single-use bottles in tonnes calculated in accordance with Article 3 (in tonnes)
C11: Austria | D11: 2022 | E11: Weight of single use bottles placed on the market (WBPM gross) | F11: 39660
C12: Belgium | D12: 2022 | E12: Weight of single use bottles placed on the market (WBPM gross) | F12: 65125.78
C13: Bulgaria | D13: 2022 | E13: Weight of single use bottles placed on the market (WBPM gross) | F13: 28314.16
C14: Cyprus | D14: 2022 | E14: Weight of single use bottles placed on the market (WBPM gross) | F14: 15153.35
C15: Czechia | D15: 2022 | E15: Weight of single use bottles placed on the market (WBPM gross) | F15: 51886.65
C16: Croatia | D16: 2022 | E16: Weight of single use bottles placed on the market (WBPM gross) | F16: 19064.93
C17: Denmark | D17: 2022 | E17: Weight of single use bottles placed on the market (WBPM gross) | F17: 22212
C18: Estonia | D18: 2022 | E18: Weight of single use bottles placed on the market (WBPM gross) | F18: 5158.22
C19: Finland | D19: 2022 | E19: Weight of single use bottles placed on the market (WBPM gross) | F19: 20650
C20: France | D20: 2022 | E20: Weight of single use bottles placed on the market (WBPM gross) | F20: 378027.26
C21: Germany | D21: 2022 | E21: Weight of single use bottles placed on the market (WBPM gross) | F21: 491553
C22: Greece | D22: 2022 | E22: Weight of single use bottles placed on the market (WBPM gross) | F22: 47923.2
... C29: Norway | D29: 2022 | E29: Weight of single use bottles placed on the market (WBPM gross) | F29: 24936
C30: Portugal | D30: 2022 | E30: Weight of single use bottles placed on the market (WBPM gross)
C31: Romania | D31: 2022 | E31: Weight of single use bottles placed on the market (WBPM gross) | F31: 85477.93
C32: Slovakia | D32: 2022 | E32: Weight of single use bottles placed on the market (WBPM gross) | F32: 21751.56
C33: Slovenia | D33: 2022 | E33: Weight of single use bottles placed on the market (WBPM gross)
C34: Spain | D34: 2022 | E34: Weight of single use bottles placed on the market (WBPM gross) | F34: 209553
C35: Sweden | D35: 2022 | E35: Weight of single use bottles placed on the market (WBPM gross) | F35: 30651
E37: Adjustment of the weight of single-use bottles calculated in accordance with Article 3, paragraph 2
E41: If your country reports based on the weight of waste generated
C42: Country | D42: Year | E42: Weight of single-use bottles placed on the market determined on the basis of the weight of waste generated from such products calculated in accordance with Art 3, paragraph 3 (in tonnes)
C43: Hungary | D43: 2022 | E43: Weight of waste single-use bottles collected separately for recycling in accordance with the requirements set out in Article 2(4)(a) and (b) (TWSCB) | F43: 14421.47
C44: Hungary | D44: 2022 | E44: Weight of waste single use bottles collected separately not in accordance with the requirements set out in Article 2(4)(a) and (b) (Wother SCB) | F44: 0
C45: Hungary | D45: 2022 | E45: Weight of waste single-use bottles collected as mixed municipal waste (WMSW) | F45: 57487.46
C46: Hungary | D46: 2022 | E46: Weight of littered waste single-use bottles (Wlitter) | F46: 3335.73
C47: Luxembourg | D47: 2022 | E47: Weight of waste single-use bottles collected separately for recycling in accordance with the requirements set out in Article 2(4)(a) and (b) (TWSCB) | F47: 2223.12
C48: Luxembourg | D48: 2022 | E48: Weight of waste single use bottles collected separately not in accordance with the requirements set out in Article 2(4)(a) and (b) (Wother SCB) | F48: 0
C49: Luxembourg | D49: 2022 | E49: Weight of waste single-use bottles collected as mixed municipal waste (WMSW) | F49: 1233
C50: Luxembourg | D50: 2022 | E50: Weight of littered waste single-use bottles (Wlitter) | F50: 151.01
C51: Malta | D51: 2022 | E51: Weight of waste single-use bottles collected separately for recycling in accordance with the requirements set out in Article 2(4)(a) and (b) (TWSCB) | F51: 3024.82
C52: Malta | D52: 2022 | E52: Weight of waste single use bottles collected separately not in accordance with the requirements set out in Article 2(4)(a) and (b) (Wother SCB)
C53: Malta | D53: 2022 | E53: Weight of waste single-use bottles collected as mixed municipal waste (WMSW) | F53: 9096.14
C54: Malta | D54: 2022 | E54: Weight of littered waste single-use bottles (Wlitter)
...

Sheet 2022_SEPCol
D3: Implementing Decision (EU) 2021/1752
D4: Annex II. FORMAT FOR THE REPORTING OF DATA
B6: Country | C6: Year | D6: II. Format for reporting of data calculated based on the methodology set out in Article 2(4)
D7: Table 2: Weight of separately collected for recycling waste single-use bottles calculated in accordance with Article 2(4) (in tonnes)
B8: Austria | C8: 2022 | D8: a) Weight of waste single use bottles collected separately from any other waste (W SCB apart) | E8: 0
B9: Austria | C9: 2022 | D9: b) Weight of waste single use bottles collected together with other wastes (W SCB blended) | E9: 30135
B10: Belgium | C10: 2022 | D10: a) Weight of waste single use bottles collected separately from any other waste (W SCB apart) | E10: 0
B11: Belgium | C11: 2022 | D11: b) Weight of waste single use bottles collected together with other wastes (W SCB blended) | E11: 50933.58
B12: Bulgaria | C12: 2022 | D12: a) Weight of waste single use bottles collected separately from any other waste (W SCB apart) | E12: 10819.85
B13: Bulgaria | C13: 2022 | D13: b) Weight of waste single use bottles collected together with other wastes (W SCB blended) | E13: 0
B14: Croatia | C14: 2022 | D14: a) Weight of waste single use bottles collected separately from any other waste (W SCB apart) | E14: 16514.75
B15: Croatia | C15: 2022 | D15: b) Weight of waste single use bottles collected together with other wastes (W SCB blended) | E15: 0
B16: Cyprus | C16: 2022 | D16: a) Weight of waste single use bottles collected separately from any other waste (W SCB apart) | E16: 0
B17: Cyprus | C17: 2022 | D17: b) Weight of waste single use bottles collected together with other wastes (W SCB blended) | E17: 6913.56
B18: Czechia | C18: 2022 | D18: a) Weight of waste single use bottles collected separately from any other waste (W SCB apart) | E18: 0
B19: Czechia | C19: 2022 | D19: b) Weight of waste single use bottles collected together with other wastes (W SCB blended) | E19: 38501
... B53: Poland | C53: 2022 | D53: b) Weight of waste single use bottles collected together with other wastes (W SCB blended) | E53: 325656.56
B54: Portugal | C54: 2022 | D54: a) Weight of waste single use bottles collected separately from any other waste (W SCB apart)
B55: Portugal | C55: 2022 | D55: b) Weight of waste single use bottles collected together with other wastes (W SCB blended)
B56: Romania | C56: 2022 | D56: a) Weight of waste single use bottles collected separately from any other waste (W SCB apart)
B57: Romania | C57: 2022 | D57: b) Weight of waste single use bottles collected together with other wastes (W SCB blended) | E57: 51344.61
B58: Slovakia | C58: 2022 | D58: a) Weight of waste single use bottles collected separately from any other waste (W SCB apart) | E58: 15780.62
B59: Slovakia | C59: 2022 | D59: b) Weight of waste single use bottles collected together with other wastes (W SCB blended) | E59: 1398.3
B60: Slovenia | C60: 2022 | D60: a) Weight of waste single use bottles collected separately from any other waste (W SCB apart)
B61: Slovenia | C61: 2022 | D61: b) Weight of waste single use bottles collected together with other wastes (W SCB blended)
B62: Spain | C62: 2022 | D62: a) Weight of waste single use bottles collected separately from any other waste (W SCB apart) | E62: 0
B63: Spain | C63: 2022 | D63: b) Weight of waste single use bottles collected together with other wastes (W SCB blended) | E63: 82817
B64: Sweden | C64: 2022 | D64: a) Weight of waste single use bottles collected separately from any other waste (W SCB apart) | E64: 26876
B65: Sweden | C65: 2022 | D65: b) Weight of waste single use bottles collected together with other wastes (W SCB blended) | E65: 812
